BEGIN:VCALENDAR
VERSION:2.0
PRODID:-//Financial Services - ECPv6.15.20//NONSGML v1.0//EN
CALSCALE:GREGORIAN
METHOD:PUBLISH
X-ORIGINAL-URL:https://finance.utoronto.ca
X-WR-CALDESC:Events for Financial Services
REFRESH-INTERVAL;VALUE=DURATION:PT1H
X-Robots-Tag:noindex
X-PUBLISHED-TTL:PT1H
BEGIN:VTIMEZONE
TZID:America/Toronto
BEGIN:DAYLIGHT
TZOFFSETFROM:-0500
TZOFFSETTO:-0400
TZNAME:EDT
DTSTART:20150308T070000
END:DAYLIGHT
BEGIN:STANDARD
TZOFFSETFROM:-0400
TZOFFSETTO:-0500
TZNAME:EST
DTSTART:20151101T060000
END:STANDARD
BEGIN:DAYLIGHT
TZOFFSETFROM:-0500
TZOFFSETTO:-0400
TZNAME:EDT
DTSTART:20160313T070000
END:DAYLIGHT
BEGIN:STANDARD
TZOFFSETFROM:-0400
TZOFFSETTO:-0500
TZNAME:EST
DTSTART:20161106T060000
END:STANDARD
BEGIN:DAYLIGHT
TZOFFSETFROM:-0500
TZOFFSETTO:-0400
TZNAME:EDT
DTSTART:20170312T070000
END:DAYLIGHT
BEGIN:STANDARD
TZOFFSETFROM:-0400
TZOFFSETTO:-0500
TZNAME:EST
DTSTART:20171105T060000
END:STANDARD
END:VTIMEZONE
BEGIN:VEVENT
DTSTART;VALUE=DATE:20160222
DTEND;VALUE=DATE:20160223
DTSTAMP:20260420T150539
CREATED:20160108T202906Z
LAST-MODIFIED:20160108T210658Z
UID:5189-1456099200-1456185599@finance.utoronto.ca
SUMMARY:Second Divisional Financial Forecast Due
DESCRIPTION:Divisional Financial Forecasting for 2015-16 issued September 4\, 2015
URL:https://finance.utoronto.ca/event/second-divisional-financial-forecast-due-today/
CATEGORIES:Dates and Deadlines
END:VEVENT
BEGIN:VEVENT
DTSTART;TZID=America/Toronto:20160222T133000
DTEND;TZID=America/Toronto:20160222T153000
DTSTAMP:20260420T150539
CREATED:20151201T183558Z
LAST-MODIFIED:20151201T183558Z
UID:4255-1456147800-1456155000@finance.utoronto.ca
SUMMARY:Updating CO Plans for Operating Budgets
DESCRIPTION:Duration:  2 hours\nFormat:     Lecture\, Demonstration + Hands-on Practice Activity \nThis course will briefly review what happens during the Planning/Budget process and give a quick overview of the flow of information from the Target Letter to the Uploading of Plans. A representative from Planning & Budget will be on hand to answer questions regarding Planning & Budget policies and processes (e.g. Target Letter\, B6\, etc.). Details of how to manually update CO plans in FIS and how to use an Excel template to upload finalized plans to FIS will be demonstrated. \n(NOTE: This course does NOT review the B6 editing process.) \nTopics Covered: \n\nWhy update CO Plans\nHow to use Excel 2010 to quickly extract B6 data and incorporate it in the Plans\nHow to update Plans manually and by mass upload\nWhat the Linking Table is\nHow to compare CO Plans to FM Budgets\n\n  \nREGISTER \n 
URL:https://finance.utoronto.ca/event/updating-co-plans-for-operating-budgets-2/
LOCATION:256 McCaul St\, Room 103\, 256 McCaul St\, Toronto\, Canada
CATEGORIES:Courses,Training,Workshops
ORGANIZER;CN="Rames Paramsothy":MAILTO:rames.paramsothy@utoronto.ca
END:VEVENT
END:VCALENDAR