BEGIN:VCALENDAR
VERSION:2.0
PRODID:-//Financial Services - ECPv6.15.20//NONSGML v1.0//EN
CALSCALE:GREGORIAN
METHOD:PUBLISH
X-WR-CALNAME:Financial Services
X-ORIGINAL-URL:https://finance.utoronto.ca
X-WR-CALDESC:Events for Financial Services
REFRESH-INTERVAL;VALUE=DURATION:PT1H
X-Robots-Tag:noindex
X-PUBLISHED-TTL:PT1H
BEGIN:VTIMEZONE
TZID:America/Toronto
BEGIN:DAYLIGHT
TZOFFSETFROM:-0500
TZOFFSETTO:-0400
TZNAME:EDT
DTSTART:20200308T070000
END:DAYLIGHT
BEGIN:STANDARD
TZOFFSETFROM:-0400
TZOFFSETTO:-0500
TZNAME:EST
DTSTART:20201101T060000
END:STANDARD
BEGIN:DAYLIGHT
TZOFFSETFROM:-0500
TZOFFSETTO:-0400
TZNAME:EDT
DTSTART:20210314T070000
END:DAYLIGHT
BEGIN:STANDARD
TZOFFSETFROM:-0400
TZOFFSETTO:-0500
TZNAME:EST
DTSTART:20211107T060000
END:STANDARD
BEGIN:DAYLIGHT
TZOFFSETFROM:-0500
TZOFFSETTO:-0400
TZNAME:EDT
DTSTART:20220313T070000
END:DAYLIGHT
BEGIN:STANDARD
TZOFFSETFROM:-0400
TZOFFSETTO:-0500
TZNAME:EST
DTSTART:20221106T060000
END:STANDARD
END:VTIMEZONE
BEGIN:VEVENT
DTSTART;TZID=America/Toronto:20210126T130000
DTEND;TZID=America/Toronto:20210126T160000
DTSTAMP:20260419T160215
CREATED:20201208T204602Z
LAST-MODIFIED:20210104T221649Z
UID:13618-1611666000-1611676800@finance.utoronto.ca
SUMMARY:8. SC – Basic Funds Management Reporting
DESCRIPTION:Location: Virtual Training Session\nDuration: 3 hours\nFormat: Lecture + Demonstrations\nCourse Material \nThis course is designed for new Financial Information Systems (FIS) users\, and provides an overview of Funds Management (FM) reports. \nTopics include:\n\nThe purpose of Funds Management (FM) reporting\nCommon FM reports and their features\n\nPrior to attending this course it is highly recommended that you attend the FIS Overview course as well as read the Introduction to FIS document \n\nREGISTER
URL:https://finance.utoronto.ca/event/8-sc-basic-funds-management-reporting/
LOCATION:Virtual Session – Adobe Connect
CATEGORIES:Courses,Standard Curriculum,Training
ORGANIZER;CN="Rames Paramsothy":MAILTO:rames.paramsothy@utoronto.ca
END:VEVENT
END:VCALENDAR