BEGIN:VCALENDAR
VERSION:2.0
PRODID:-//Financial Services - ECPv6.15.20//NONSGML v1.0//EN
CALSCALE:GREGORIAN
METHOD:PUBLISH
X-ORIGINAL-URL:https://finance.utoronto.ca
X-WR-CALDESC:Events for Financial Services
REFRESH-INTERVAL;VALUE=DURATION:PT1H
X-Robots-Tag:noindex
X-PUBLISHED-TTL:PT1H
BEGIN:VTIMEZONE
TZID:America/Toronto
BEGIN:DAYLIGHT
TZOFFSETFROM:-0500
TZOFFSETTO:-0400
TZNAME:EDT
DTSTART:20200308T070000
END:DAYLIGHT
BEGIN:STANDARD
TZOFFSETFROM:-0400
TZOFFSETTO:-0500
TZNAME:EST
DTSTART:20201101T060000
END:STANDARD
BEGIN:DAYLIGHT
TZOFFSETFROM:-0500
TZOFFSETTO:-0400
TZNAME:EDT
DTSTART:20210314T070000
END:DAYLIGHT
BEGIN:STANDARD
TZOFFSETFROM:-0400
TZOFFSETTO:-0500
TZNAME:EST
DTSTART:20211107T060000
END:STANDARD
BEGIN:DAYLIGHT
TZOFFSETFROM:-0500
TZOFFSETTO:-0400
TZNAME:EDT
DTSTART:20220313T070000
END:DAYLIGHT
BEGIN:STANDARD
TZOFFSETFROM:-0400
TZOFFSETTO:-0500
TZNAME:EST
DTSTART:20221106T060000
END:STANDARD
END:VTIMEZONE
BEGIN:VEVENT
DTSTART;VALUE=DATE:20210421
DTEND;VALUE=DATE:20210422
DTSTAMP:20260422T153523
CREATED:20210216T194839Z
LAST-MODIFIED:20210216T194839Z
UID:14081-1618963200-1619049599@finance.utoronto.ca
SUMMARY:New Master record requests deadline
DESCRIPTION:New Master record requests
URL:https://finance.utoronto.ca/event/new-master-record-requests-deadline/
CATEGORIES:Dates and Deadlines
END:VEVENT
BEGIN:VEVENT
DTSTART;TZID=America/Toronto:20210421T093000
DTEND;TZID=America/Toronto:20210421T113000
DTSTAMP:20260422T153523
CREATED:20210129T215352Z
LAST-MODIFIED:20210129T215407Z
UID:13986-1618997400-1619004600@finance.utoronto.ca
SUMMARY:Departmental Accounts Receivable Responsibilities and the A/R Open Item Aging Report
DESCRIPTION:Location:   Virtual Training Session\nDuration:   2 hours\nFormat:      Lecture + Demonstration \nWorkshop Material \nThis workshop provides a review of departmental A/R responsibilities when processing external revenues and recoveries and an introduction to the Accounts Receivables Open Item Aging Report. \nTopics Include: \n\nIdentify your departmental Accounts Receivable (A/R) financial management and accounting responsibilities\nUnderstand the Cost\, Benefits and Risks of Invoicing External Customers\nGenerate the Open Item Aging Report using required and optional Selection Criteria\nUse the Open Item Aging Report to ensure that invoices are paid in a timely manner and to prevent charge-backs\nLocate overdue A/R invoices posted to your departmental accounts\n\nNote: This workshop focuses on external sources of revenue and expense recoveries. If you are interesting in learning about internal revenue and expense recoveries (i.e.\, between U of T departments)\, please attend the G/L Account Posting – Basic Data Entry course. \n\nREGISTER 
URL:https://finance.utoronto.ca/event/departmental-accounts-receivable-responsibilities-and-the-a-r-open-item-aging-report/
LOCATION:Virtual Session – Adobe Connect
CATEGORIES:Courses,Training,Workshops
ORGANIZER;CN="Rames Paramsothy":MAILTO:rames.paramsothy@utoronto.ca
END:VEVENT
END:VCALENDAR