BEGIN:VCALENDAR
VERSION:2.0
PRODID:-//Financial Services - ECPv6.15.20//NONSGML v1.0//EN
CALSCALE:GREGORIAN
METHOD:PUBLISH
X-WR-CALNAME:Financial Services
X-ORIGINAL-URL:https://finance.utoronto.ca
X-WR-CALDESC:Events for Financial Services
REFRESH-INTERVAL;VALUE=DURATION:PT1H
X-Robots-Tag:noindex
X-PUBLISHED-TTL:PT1H
BEGIN:VTIMEZONE
TZID:America/Toronto
BEGIN:DAYLIGHT
TZOFFSETFROM:-0500
TZOFFSETTO:-0400
TZNAME:EDT
DTSTART:20210314T070000
END:DAYLIGHT
BEGIN:STANDARD
TZOFFSETFROM:-0400
TZOFFSETTO:-0500
TZNAME:EST
DTSTART:20211107T060000
END:STANDARD
BEGIN:DAYLIGHT
TZOFFSETFROM:-0500
TZOFFSETTO:-0400
TZNAME:EDT
DTSTART:20220313T070000
END:DAYLIGHT
BEGIN:STANDARD
TZOFFSETFROM:-0400
TZOFFSETTO:-0500
TZNAME:EST
DTSTART:20221106T060000
END:STANDARD
BEGIN:DAYLIGHT
TZOFFSETFROM:-0500
TZOFFSETTO:-0400
TZNAME:EDT
DTSTART:20230312T070000
END:DAYLIGHT
BEGIN:STANDARD
TZOFFSETFROM:-0400
TZOFFSETTO:-0500
TZNAME:EST
DTSTART:20231105T060000
END:STANDARD
END:VTIMEZONE
BEGIN:VEVENT
DTSTART;TZID=America/Toronto:20221025T130000
DTEND;TZID=America/Toronto:20221025T160000
DTSTAMP:20260419T093450
CREATED:20221001T035244Z
LAST-MODIFIED:20221020T154634Z
UID:16957-1666702800-1666713600@finance.utoronto.ca
SUMMARY:Managing Travel & Other Reimbursable Expenses
DESCRIPTION:Location: Virtual Training Session\nDuration: 3 hours\nFormat: Lecture + Discussion \nWorkshop Material \nProcessing travel and other reimbursable expenses are some of the most common FIS transactions performed by University staff. This workshop guides you through the provincial legislation that govern the University’s reimbursement policies\, University guidelines as well other information that will aid you when processing reimbursable travel expenses. \nTopics include: \n\nThe Ontario Expenses Directive and its impact on University business practices\nGeneral principles and guidelines governing travel expenses\nApproving and authorizing travel plans and expenses\nMethods of payment for reimbursing travel expenses\nAllowable travel and other reimbursable expenses\nCommon errors caught by Internal Audit\n\n\nREGISTER
URL:https://finance.utoronto.ca/event/managing-travel-other-reimbursable-expenses-13/
CATEGORIES:Courses,Training,Workshops
END:VEVENT
END:VCALENDAR