BEGIN:VCALENDAR
VERSION:2.0
PRODID:-//Financial Services - ECPv6.15.20//NONSGML v1.0//EN
CALSCALE:GREGORIAN
METHOD:PUBLISH
X-ORIGINAL-URL:https://finance.utoronto.ca
X-WR-CALDESC:Events for Financial Services
REFRESH-INTERVAL;VALUE=DURATION:PT1H
X-Robots-Tag:noindex
X-PUBLISHED-TTL:PT1H
BEGIN:VTIMEZONE
TZID:America/Toronto
BEGIN:DAYLIGHT
TZOFFSETFROM:-0500
TZOFFSETTO:-0400
TZNAME:EDT
DTSTART:20220313T070000
END:DAYLIGHT
BEGIN:STANDARD
TZOFFSETFROM:-0400
TZOFFSETTO:-0500
TZNAME:EST
DTSTART:20221106T060000
END:STANDARD
BEGIN:DAYLIGHT
TZOFFSETFROM:-0500
TZOFFSETTO:-0400
TZNAME:EDT
DTSTART:20230312T070000
END:DAYLIGHT
BEGIN:STANDARD
TZOFFSETFROM:-0400
TZOFFSETTO:-0500
TZNAME:EST
DTSTART:20231105T060000
END:STANDARD
BEGIN:DAYLIGHT
TZOFFSETFROM:-0500
TZOFFSETTO:-0400
TZNAME:EDT
DTSTART:20240310T070000
END:DAYLIGHT
BEGIN:STANDARD
TZOFFSETFROM:-0400
TZOFFSETTO:-0500
TZNAME:EST
DTSTART:20241103T060000
END:STANDARD
END:VTIMEZONE
BEGIN:VEVENT
DTSTART;TZID=America/Toronto:20230321T140000
DTEND;TZID=America/Toronto:20230321T153000
DTSTAMP:20260422T131145
CREATED:20230316T193901Z
LAST-MODIFIED:20240123T204109Z
UID:18175-1679407200-1679412600@finance.utoronto.ca
SUMMARY:Information Session - Air Travel Emissions Mitigation Initiative (ATEMI) - Overview and Impact on Financial Administration
DESCRIPTION:The Air Travel Emissions Mitigation Initiative (ATEMI) was launched on March 15\, 2023 with the intent of offseting emissions for business air travel by investing in university-based projects aimed at reducing the institution’s carbon footprint. \nAttend an information session on  Tuesday\, March 21\, 2023\, 2–3:30 PM to learn more about the initiative and it’s impact on financial administration at the university.  \nTopics Include: \n\nAn overview of the Air Travel Emissions Mitigation Initiative (ATEMI)\nFramework for mitigating emissions through offsets for unavoidable travel\nCarbon offset rates\nImpact of ATEMI on Financial Administration\nAdditional fields required when processing reimbursements and invoices for airfare expenses\nReporting on carbon offset charges\nDemonstration and additional support resources\n\nClick here to save the Outlook calendar invite and join via MS Teams. \n  \nQuestions?\n\nIf you have questions about the initiative\, please email sustainability@utoronto.ca.\nFor questions about FIS\, ERDD – Web\, the new ATEMI fields and FIS reporting on the carbon offset charge\, please contact your FAST Team representative.
URL:https://finance.utoronto.ca/event/information-session-air-travel-emissions-mitigation-initiative-atemi-overview-and-impact-on-financial-administration/
LOCATION:MS Teams
CATEGORIES:Information Sessions
ORGANIZER;CN="Rames Paramsothy":MAILTO:rames.paramsothy@utoronto.ca
END:VEVENT
END:VCALENDAR