BEGIN:VCALENDAR
VERSION:2.0
PRODID:-//Financial Services - ECPv6.15.20//NONSGML v1.0//EN
CALSCALE:GREGORIAN
METHOD:PUBLISH
X-WR-CALNAME:Financial Services
X-ORIGINAL-URL:https://finance.utoronto.ca
X-WR-CALDESC:Events for Financial Services
REFRESH-INTERVAL;VALUE=DURATION:PT1H
X-Robots-Tag:noindex
X-PUBLISHED-TTL:PT1H
BEGIN:VTIMEZONE
TZID:America/Toronto
BEGIN:DAYLIGHT
TZOFFSETFROM:-0500
TZOFFSETTO:-0400
TZNAME:EDT
DTSTART:20220313T070000
END:DAYLIGHT
BEGIN:STANDARD
TZOFFSETFROM:-0400
TZOFFSETTO:-0500
TZNAME:EST
DTSTART:20221106T060000
END:STANDARD
BEGIN:DAYLIGHT
TZOFFSETFROM:-0500
TZOFFSETTO:-0400
TZNAME:EDT
DTSTART:20230312T070000
END:DAYLIGHT
BEGIN:STANDARD
TZOFFSETFROM:-0400
TZOFFSETTO:-0500
TZNAME:EST
DTSTART:20231105T060000
END:STANDARD
BEGIN:DAYLIGHT
TZOFFSETFROM:-0500
TZOFFSETTO:-0400
TZNAME:EDT
DTSTART:20240310T070000
END:DAYLIGHT
BEGIN:STANDARD
TZOFFSETFROM:-0400
TZOFFSETTO:-0500
TZNAME:EST
DTSTART:20241103T060000
END:STANDARD
END:VTIMEZONE
BEGIN:VEVENT
DTSTART;TZID=America/Toronto:20230627T120000
DTEND;TZID=America/Toronto:20230627T130000
DTSTAMP:20260419T115526
CREATED:20230609T131200Z
LAST-MODIFIED:20230609T134942Z
UID:18649-1687867200-1687870800@finance.utoronto.ca
SUMMARY:FAST Monthly Lunch & Learn
DESCRIPTION:The FAST team hosts a series of short (30 – 45 minute) virtual presentations on topics of interest for financial administrators at all levels. \nAll sessions will be recorded and presented by FAST\, and often in collaboration with other units. There is no registration required. \nThis month’s session will be held on Tuesday\, June 27th (12pm – 1pm) via MS Teams\, and will cover: \nSave Time and Keystrokes in FIS \n\nUsing the Account Assignment Template to reduce keystrokes\nUsing the history function\nPost with Reference\nCreating G/L and Vendor Personal Lists\nUsing the Clipboard function in FIS reports\nOther related tips and tricks\n\nClick here to download and save the MS Teams invite. To go directly to the presentation on June  27th\, click here. \nHave any ideas for topics we could cover? Take a few minutes to COMPLETE THIS SURVEY to submit your ideas for future topics. \nIf you have any questions\, please contact rames.paramsothy@utoronto.ca.
URL:https://finance.utoronto.ca/event/fast-monthly-lunch-learn-2/
LOCATION:MS Teams
CATEGORIES:FAST Lunch and Learn,Information Sessions,Training
ORGANIZER;CN="Rames Paramsothy":MAILTO:rames.paramsothy@utoronto.ca
END:VEVENT
END:VCALENDAR