BEGIN:VCALENDAR
VERSION:2.0
PRODID:-//Financial Services - ECPv6.15.20//NONSGML v1.0//EN
CALSCALE:GREGORIAN
METHOD:PUBLISH
X-ORIGINAL-URL:https://finance.utoronto.ca
X-WR-CALDESC:Events for Financial Services
REFRESH-INTERVAL;VALUE=DURATION:PT1H
X-Robots-Tag:noindex
X-PUBLISHED-TTL:PT1H
BEGIN:VTIMEZONE
TZID:America/Toronto
BEGIN:DAYLIGHT
TZOFFSETFROM:-0500
TZOFFSETTO:-0400
TZNAME:EDT
DTSTART:20220313T070000
END:DAYLIGHT
BEGIN:STANDARD
TZOFFSETFROM:-0400
TZOFFSETTO:-0500
TZNAME:EST
DTSTART:20221106T060000
END:STANDARD
BEGIN:DAYLIGHT
TZOFFSETFROM:-0500
TZOFFSETTO:-0400
TZNAME:EDT
DTSTART:20230312T070000
END:DAYLIGHT
BEGIN:STANDARD
TZOFFSETFROM:-0400
TZOFFSETTO:-0500
TZNAME:EST
DTSTART:20231105T060000
END:STANDARD
BEGIN:DAYLIGHT
TZOFFSETFROM:-0500
TZOFFSETTO:-0400
TZNAME:EDT
DTSTART:20240310T070000
END:DAYLIGHT
BEGIN:STANDARD
TZOFFSETFROM:-0400
TZOFFSETTO:-0500
TZNAME:EST
DTSTART:20241103T060000
END:STANDARD
END:VTIMEZONE
BEGIN:VEVENT
DTSTART;TZID=America/Toronto:20230824T120000
DTEND;TZID=America/Toronto:20230824T130000
DTSTAMP:20260421T220303
CREATED:20230731T180720Z
LAST-MODIFIED:20230731T180720Z
UID:18892-1692878400-1692882000@finance.utoronto.ca
SUMMARY:FAST Monthly Lunch & Learn
DESCRIPTION:  \nThe FAST team hosts a series of short (30 – 45 minute) virtual presentations on topics of interest for financial administrators at all levels. \nAll sessions will be recorded and presented by FAST\, and often in collaboration with other units. There is no registration required. \nThis month’s session will be held on Thursday\, August 24th (12pm – 1pm) via MS Teams\, and will cover: \nFinancial Administration of Research Participant Fees: \n\nDefining participant fees/compensation\nRelevant GTFM policy consideration\nBack-up documentation requirements\nAdditional resources\n\nClick here to download and save the MS Teams invite. To go directly to the presentation on August 24th\, click here. \nHave any ideas for topics we could cover? Take a few minutes to COMPLETE THIS SURVEY to submit your ideas for future topics. \nIf you have any questions\, please contact rames.paramsothy@utoronto.ca.
URL:https://finance.utoronto.ca/event/fast-monthly-lunch-learn-4/
LOCATION:MS Teams
CATEGORIES:Dates and Deadlines,FAST Lunch and Learn,Training,Workshops
ORGANIZER;CN="Rames Paramsothy":MAILTO:rames.paramsothy@utoronto.ca
END:VEVENT
END:VCALENDAR