BEGIN:VCALENDAR
VERSION:2.0
PRODID:-//Financial Services - ECPv6.15.20//NONSGML v1.0//EN
CALSCALE:GREGORIAN
METHOD:PUBLISH
X-ORIGINAL-URL:https://finance.utoronto.ca
X-WR-CALDESC:Events for Financial Services
REFRESH-INTERVAL;VALUE=DURATION:PT1H
X-Robots-Tag:noindex
X-PUBLISHED-TTL:PT1H
BEGIN:VTIMEZONE
TZID:America/Toronto
BEGIN:DAYLIGHT
TZOFFSETFROM:-0500
TZOFFSETTO:-0400
TZNAME:EDT
DTSTART:20230312T070000
END:DAYLIGHT
BEGIN:STANDARD
TZOFFSETFROM:-0400
TZOFFSETTO:-0500
TZNAME:EST
DTSTART:20231105T060000
END:STANDARD
BEGIN:DAYLIGHT
TZOFFSETFROM:-0500
TZOFFSETTO:-0400
TZNAME:EDT
DTSTART:20240310T070000
END:DAYLIGHT
BEGIN:STANDARD
TZOFFSETFROM:-0400
TZOFFSETTO:-0500
TZNAME:EST
DTSTART:20241103T060000
END:STANDARD
BEGIN:DAYLIGHT
TZOFFSETFROM:-0500
TZOFFSETTO:-0400
TZNAME:EDT
DTSTART:20250309T070000
END:DAYLIGHT
BEGIN:STANDARD
TZOFFSETFROM:-0400
TZOFFSETTO:-0500
TZNAME:EST
DTSTART:20251102T060000
END:STANDARD
END:VTIMEZONE
BEGIN:VEVENT
DTSTART;TZID=America/Toronto:20240125T093000
DTEND;TZID=America/Toronto:20240125T123000
DTSTAMP:20260421T172939
CREATED:20231219T202312Z
LAST-MODIFIED:20231219T202312Z
UID:19635-1706175000-1706185800@finance.utoronto.ca
SUMMARY:Troubleshooting A/P & G/L Account Postings (Course 5)
DESCRIPTION:Location: Virtual Training Session\nDuration: 3 hours\nFormat: Lecture\, Demonstrations + Hands-on Practice Activities\nCourse Material \nThis course is designed for Financial Information Systems (FIS) users who input accounts payable and/or journal entry type documents on a regular basis. Specifically\, troubleshooting tips will be provided to help you deal with system warning / error messages and / or missing information during and after the data entry process. \nTopics include:\n\nInterpreting system warning/error messages\nTroubleshooting errors DURING the data entry process and AFTER a document has been posted\nReversing posted documents\nProcessing a correcting Journal Entry\nMaking corrections to a Accounts Payable (A/P) document\n\nSince much of this course builds on the preceding courses within the Standard Curriculum\, it is recommended that it be taken in sequence. \n\nClick Here to REGISTER 
URL:https://finance.utoronto.ca/event/troubleshooting-a-p-g-l-account-postings-course-5/
LOCATION:Virtual Session – Adobe Connect
CATEGORIES:Standard Curriculum,Training
END:VEVENT
END:VCALENDAR