BEGIN:VCALENDAR
VERSION:2.0
PRODID:-//Financial Services - ECPv6.15.20//NONSGML v1.0//EN
CALSCALE:GREGORIAN
METHOD:PUBLISH
X-ORIGINAL-URL:https://finance.utoronto.ca
X-WR-CALDESC:Events for Financial Services
REFRESH-INTERVAL;VALUE=DURATION:PT1H
X-Robots-Tag:noindex
X-PUBLISHED-TTL:PT1H
BEGIN:VTIMEZONE
TZID:America/Toronto
BEGIN:DAYLIGHT
TZOFFSETFROM:-0500
TZOFFSETTO:-0400
TZNAME:EDT
DTSTART:20230312T070000
END:DAYLIGHT
BEGIN:STANDARD
TZOFFSETFROM:-0400
TZOFFSETTO:-0500
TZNAME:EST
DTSTART:20231105T060000
END:STANDARD
BEGIN:DAYLIGHT
TZOFFSETFROM:-0500
TZOFFSETTO:-0400
TZNAME:EDT
DTSTART:20240310T070000
END:DAYLIGHT
BEGIN:STANDARD
TZOFFSETFROM:-0400
TZOFFSETTO:-0500
TZNAME:EST
DTSTART:20241103T060000
END:STANDARD
BEGIN:DAYLIGHT
TZOFFSETFROM:-0500
TZOFFSETTO:-0400
TZNAME:EDT
DTSTART:20250309T070000
END:DAYLIGHT
BEGIN:STANDARD
TZOFFSETFROM:-0400
TZOFFSETTO:-0500
TZNAME:EST
DTSTART:20251102T060000
END:STANDARD
END:VTIMEZONE
BEGIN:VEVENT
DTSTART;TZID=America/Toronto:20240529T120000
DTEND;TZID=America/Toronto:20240529T130000
DTSTAMP:20260421T185620
CREATED:20240430T193455Z
LAST-MODIFIED:20240502T150940Z
UID:20292-1716984000-1716987600@finance.utoronto.ca
SUMMARY:Lunch & Learn - May 2024 - Exploring the University's Tax Treatment and Tax Codes on Expenses and Revenues
DESCRIPTION:The FAST team hosts a series of short (30 – 45 minute) virtual presentations on topics of interest for financial administrators at all levels. \nAll sessions will be recorded and presented by FAST\, and often in collaboration with other units. \nThere is no registration required. \nThis month’s session will be held on Wednesday\, May 29th (12pm – 1pm) via MS Teams\, and will be presented by the F.A.S.T Team. \nTopic: Exploring the University’s Tax Treatment and Tax Codes on Expenses and Revenues \nTopics include: \n\nWhat is the University’s tax status and rebate as a Broader Public Sector organization\nGTFM policy governing HST\nThe University’s tax codes\nAssessing scenarios and applying the most appropriate tax code\nTax codes and conference fees\nSituations that warrant self-assessing taxes\nWho to contact with tax treatment questions\n\nClick here to download and save the MS Teams invite\, or use this link to join on May 29th. \nHave any ideas for topics we could address? Take a few minutes to COMPLETE THIS SURVEY to submit your ideas for future topics. \nIf you have any questions please contact rames.paramsothy@utoronto.ca.
URL:https://finance.utoronto.ca/event/lunch-learn-may-2024/
LOCATION:MS Teams
CATEGORIES:Courses,FAST Lunch and Learn,Information Sessions,Training
ORGANIZER;CN="Rames Paramsothy":MAILTO:rames.paramsothy@utoronto.ca
END:VEVENT
END:VCALENDAR