BEGIN:VCALENDAR
VERSION:2.0
PRODID:-//Financial Services - ECPv6.15.20//NONSGML v1.0//EN
CALSCALE:GREGORIAN
METHOD:PUBLISH
X-ORIGINAL-URL:https://finance.utoronto.ca
X-WR-CALDESC:Events for Financial Services
REFRESH-INTERVAL;VALUE=DURATION:PT1H
X-Robots-Tag:noindex
X-PUBLISHED-TTL:PT1H
BEGIN:VTIMEZONE
TZID:America/Toronto
BEGIN:DAYLIGHT
TZOFFSETFROM:-0500
TZOFFSETTO:-0400
TZNAME:EDT
DTSTART:20240310T070000
END:DAYLIGHT
BEGIN:STANDARD
TZOFFSETFROM:-0400
TZOFFSETTO:-0500
TZNAME:EST
DTSTART:20241103T060000
END:STANDARD
BEGIN:DAYLIGHT
TZOFFSETFROM:-0500
TZOFFSETTO:-0400
TZNAME:EDT
DTSTART:20250309T070000
END:DAYLIGHT
BEGIN:STANDARD
TZOFFSETFROM:-0400
TZOFFSETTO:-0500
TZNAME:EST
DTSTART:20251102T060000
END:STANDARD
BEGIN:DAYLIGHT
TZOFFSETFROM:-0500
TZOFFSETTO:-0400
TZNAME:EDT
DTSTART:20260308T070000
END:DAYLIGHT
BEGIN:STANDARD
TZOFFSETFROM:-0400
TZOFFSETTO:-0500
TZNAME:EST
DTSTART:20261101T060000
END:STANDARD
END:VTIMEZONE
BEGIN:VEVENT
DTSTART;VALUE=DATE:20250425
DTEND;VALUE=DATE:20250426
DTSTAMP:20260422T021925
CREATED:20250307T172645Z
LAST-MODIFIED:20250307T172645Z
UID:21970-1745539200-1745625599@finance.utoronto.ca
SUMMARY:Final EFT payment run for Fiscal 2025
DESCRIPTION:Final EFT payment run for Fiscal 2025
URL:https://finance.utoronto.ca/event/final-eft-payment-run-for-fiscal-2025/
CATEGORIES:Dates and Deadlines
END:VEVENT
BEGIN:VEVENT
DTSTART;VALUE=DATE:20250425
DTEND;VALUE=DATE:20250426
DTSTAMP:20260422T021925
CREATED:20250307T173019Z
LAST-MODIFIED:20250307T173019Z
UID:21979-1745539200-1745625599@finance.utoronto.ca
SUMMARY:Final expense reimbursement payment processing for Fiscal 2025
DESCRIPTION:Final expense reimbursement payment processing for Fiscal 2025
URL:https://finance.utoronto.ca/event/final-expense-reimbursement-payment-processing-for-fiscal-2025/
CATEGORIES:Dates and Deadlines
END:VEVENT
END:VCALENDAR