BEGIN:VCALENDAR
VERSION:2.0
PRODID:-//Financial Services - ECPv6.15.20//NONSGML v1.0//EN
CALSCALE:GREGORIAN
METHOD:PUBLISH
X-ORIGINAL-URL:https://finance.utoronto.ca
X-WR-CALDESC:Events for Financial Services
REFRESH-INTERVAL;VALUE=DURATION:PT1H
X-Robots-Tag:noindex
X-PUBLISHED-TTL:PT1H
BEGIN:VTIMEZONE
TZID:America/Toronto
BEGIN:DAYLIGHT
TZOFFSETFROM:-0500
TZOFFSETTO:-0400
TZNAME:EDT
DTSTART:20240310T070000
END:DAYLIGHT
BEGIN:STANDARD
TZOFFSETFROM:-0400
TZOFFSETTO:-0500
TZNAME:EST
DTSTART:20241103T060000
END:STANDARD
BEGIN:DAYLIGHT
TZOFFSETFROM:-0500
TZOFFSETTO:-0400
TZNAME:EDT
DTSTART:20250309T070000
END:DAYLIGHT
BEGIN:STANDARD
TZOFFSETFROM:-0400
TZOFFSETTO:-0500
TZNAME:EST
DTSTART:20251102T060000
END:STANDARD
BEGIN:DAYLIGHT
TZOFFSETFROM:-0500
TZOFFSETTO:-0400
TZNAME:EDT
DTSTART:20260308T070000
END:DAYLIGHT
BEGIN:STANDARD
TZOFFSETFROM:-0400
TZOFFSETTO:-0500
TZNAME:EST
DTSTART:20261101T060000
END:STANDARD
END:VTIMEZONE
BEGIN:VEVENT
DTSTART;TZID=America/Toronto:20250529T120000
DTEND;TZID=America/Toronto:20250529T130000
DTSTAMP:20260421T214111
CREATED:20250430T175111Z
LAST-MODIFIED:20250430T194947Z
UID:22203-1748520000-1748523600@finance.utoronto.ca
SUMMARY:Lunch & Learn - May 2025 - Reporting in FIS - Using Cost Centers\, Internal Orders and the Assignment Effectively
DESCRIPTION:  \nThe FAST team hosts a series of short (30 – 45 minute) virtual presentations on topics of interest for financial administrators at all levels. \nAll sessions will be recorded and presented by FAST\, and often in collaboration with other units. There is no registration required. \nThis session will be held on Thursday\, May 29th (12pm – 1pm) via MS Teams\, and will be presented by the F.A.S.T Team. \nTopic: Reporting in FIS – Using Cost Centers\, Internal Orders and the Assignment Effectively \nFIS has a variety of accounts and flags that departments can use to manage their spending\, budgets and plans. \nThis lunch and learn will explore when and how to use Cost Center\, Internal Order or the Assignment field effectively\, and the FIS reports that can be used with these. \nClick here to download and save the MS Teams invite. \nHave any ideas for topics we could cover? Take a few minutes to COMPLETE THIS SURVEY to submit your ideas for future topics. \nIf you have any questions\, please contact rames.paramsothy@utoronto.ca. \n 
URL:https://finance.utoronto.ca/event/lunch-learn-may-2025-reporting-in-fis-using-cost-centers-internal-orders-and-the-assignment-effectively/
LOCATION:MS Teams
CATEGORIES:FAST Lunch and Learn,Information Sessions,Training
ORGANIZER;CN="Rames Paramsothy":MAILTO:rames.paramsothy@utoronto.ca
END:VEVENT
END:VCALENDAR