BEGIN:VCALENDAR
VERSION:2.0
PRODID:-//Financial Services - ECPv6.15.20//NONSGML v1.0//EN
CALSCALE:GREGORIAN
METHOD:PUBLISH
X-WR-CALNAME:Financial Services
X-ORIGINAL-URL:https://finance.utoronto.ca
X-WR-CALDESC:Events for Financial Services
REFRESH-INTERVAL;VALUE=DURATION:PT1H
X-Robots-Tag:noindex
X-PUBLISHED-TTL:PT1H
BEGIN:VTIMEZONE
TZID:America/Toronto
BEGIN:DAYLIGHT
TZOFFSETFROM:-0500
TZOFFSETTO:-0400
TZNAME:EDT
DTSTART:20250309T070000
END:DAYLIGHT
BEGIN:STANDARD
TZOFFSETFROM:-0400
TZOFFSETTO:-0500
TZNAME:EST
DTSTART:20251102T060000
END:STANDARD
BEGIN:DAYLIGHT
TZOFFSETFROM:-0500
TZOFFSETTO:-0400
TZNAME:EDT
DTSTART:20260308T070000
END:DAYLIGHT
BEGIN:STANDARD
TZOFFSETFROM:-0400
TZOFFSETTO:-0500
TZNAME:EST
DTSTART:20261101T060000
END:STANDARD
BEGIN:DAYLIGHT
TZOFFSETFROM:-0500
TZOFFSETTO:-0400
TZNAME:EDT
DTSTART:20270314T070000
END:DAYLIGHT
BEGIN:STANDARD
TZOFFSETFROM:-0400
TZOFFSETTO:-0500
TZNAME:EST
DTSTART:20271107T060000
END:STANDARD
END:VTIMEZONE
BEGIN:VEVENT
DTSTART;TZID=America/Toronto:20260225T000000
DTEND;TZID=America/Toronto:20260225T130000
DTSTAMP:20260419T234232
CREATED:20260114T195646Z
LAST-MODIFIED:20260220T204128Z
UID:23142-1771977600-1772024400@finance.utoronto.ca
SUMMARY:FAST Monthly Lunch & Learn - Procurement Policy Refresher
DESCRIPTION:  \nThe FAST team hosts a series of short (30 – 45 minute) virtual presentations on topics of interest for financial administrators at all levels. \nAll sessions will be recorded and presented by FAST\, and often in collaboration with other units. Registration is required for this session. \nThis session will be held on Wednesday\, February 25th (12pm – 1pm) via MS Teams. \nDescription:\nThe Chief Financial Officer has approved increases to the procurement thresholds in accordance with the revised Procurement Policy (effective November 26\, 2025). These updates are designed to reduce administrative burden while maintaining appropriate controls\, accountability\, and alignment with broader regulatory requirements. \nPlease join this Lunch and Learn for a practical refresher on the updated Procurement Policy. We will review the new thresholds\, outline what has changed\, and discuss what these updates mean for your day-to-day procurement activities. \nClick here to REGISTER \nHave any ideas for topics we could cover? Take a few minutes to COMPLETE THIS SURVEY to submit your ideas for future topics. \nIf you have any questions\, please contact rames.paramsothy@utoronto.ca. \n 
URL:https://finance.utoronto.ca/event/fast-monthly-lunch-learn-procurement-policy-refresher/
LOCATION:MS Teams
CATEGORIES:FAST Lunch and Learn,Information Sessions,Training,Workshops
ORGANIZER;CN="Rames Paramsothy":MAILTO:rames.paramsothy@utoronto.ca
END:VEVENT
BEGIN:VEVENT
DTSTART;TZID=America/Toronto:20260225T093000
DTEND;TZID=America/Toronto:20260225T113000
DTSTAMP:20260419T234232
CREATED:20260220T144011Z
LAST-MODIFIED:20260220T144011Z
UID:23395-1772011800-1772019000@finance.utoronto.ca
SUMMARY:Updating CO Plans for Operating Budgets
DESCRIPTION:Location: Virtual Training Session\nDuration: 2 hours\nFormat: Lecture\, Demonstration + Hands-on Practice Activity \nWorkshop Material \nControlling (CO) plans enable you track actual spending as compared to planned spending for a particular Fund Center. Once they are created and loaded into the corresponding operating budget\, they are often updated throughout the fiscal year. \nThis workshop guides you through the importance of updating CO Plans\, how to update plans and useful troubleshooting tips to help you along the way. \nTopics include: \n\nWhy it’s important to update CO plans throughout the year\nUsing a Linking Table to load Original budget\nHow to enter or update CO plans in FIS\nUnderstanding the Budget to Plans Reconciliation Report\n\nPrior to attending this course\, it is highly recommended that you complete the following FIS Standard Curriculum course: \n\nFIS Overview\nBasic Controlling (CO) Reporting\n\nPrior to attending this course\, it is highly recommended that you complete the FIS Standard Curriculum. \n\nREGISTER 
URL:https://finance.utoronto.ca/event/updating-co-plans-for-operating-budgets-25/
LOCATION:Virtual Session – Adobe Connect
CATEGORIES:Training,Workshops
ORGANIZER;CN="Rames Paramsothy":MAILTO:rames.paramsothy@utoronto.ca
END:VEVENT
END:VCALENDAR