BEGIN:VCALENDAR
VERSION:2.0
PRODID:-//Financial Services - ECPv6.15.20//NONSGML v1.0//EN
CALSCALE:GREGORIAN
METHOD:PUBLISH
X-ORIGINAL-URL:https://finance.utoronto.ca
X-WR-CALDESC:Events for Financial Services
REFRESH-INTERVAL;VALUE=DURATION:PT1H
X-Robots-Tag:noindex
X-PUBLISHED-TTL:PT1H
BEGIN:VTIMEZONE
TZID:America/Toronto
BEGIN:DAYLIGHT
TZOFFSETFROM:-0500
TZOFFSETTO:-0400
TZNAME:EDT
DTSTART:20250309T070000
END:DAYLIGHT
BEGIN:STANDARD
TZOFFSETFROM:-0400
TZOFFSETTO:-0500
TZNAME:EST
DTSTART:20251102T060000
END:STANDARD
BEGIN:DAYLIGHT
TZOFFSETFROM:-0500
TZOFFSETTO:-0400
TZNAME:EDT
DTSTART:20260308T070000
END:DAYLIGHT
BEGIN:STANDARD
TZOFFSETFROM:-0400
TZOFFSETTO:-0500
TZNAME:EST
DTSTART:20261101T060000
END:STANDARD
BEGIN:DAYLIGHT
TZOFFSETFROM:-0500
TZOFFSETTO:-0400
TZNAME:EDT
DTSTART:20270314T070000
END:DAYLIGHT
BEGIN:STANDARD
TZOFFSETFROM:-0400
TZOFFSETTO:-0500
TZNAME:EST
DTSTART:20271107T060000
END:STANDARD
END:VTIMEZONE
BEGIN:VEVENT
DTSTART;VALUE=DATE:20260423
DTEND;VALUE=DATE:20260424
DTSTAMP:20260422T033128
CREATED:20260305T190751Z
LAST-MODIFIED:20260305T190751Z
UID:23471-1776902400-1776988799@finance.utoronto.ca
SUMMARY:Final Cheque Production Fiscal 2026
DESCRIPTION:Final Cheque Production Fiscal 2026
URL:https://finance.utoronto.ca/event/final-cheque-production-fiscal-2026/
CATEGORIES:Dates and Deadlines
END:VEVENT
BEGIN:VEVENT
DTSTART;VALUE=DATE:20260423
DTEND;VALUE=DATE:20260424
DTSTAMP:20260422T033128
CREATED:20260305T191236Z
LAST-MODIFIED:20260305T191236Z
UID:23479-1776902400-1776988799@finance.utoronto.ca
SUMMARY:The final draft production for Fiscal 2026
DESCRIPTION:The final draft production for Fiscal 2026
URL:https://finance.utoronto.ca/event/the-final-draft-production-for-fiscal-2026/
CATEGORIES:Dates and Deadlines
END:VEVENT
BEGIN:VEVENT
DTSTART;TZID=America/Toronto:20260423T100000
DTEND;TZID=America/Toronto:20260423T123000
DTSTAMP:20260422T033128
CREATED:20260203T200700Z
LAST-MODIFIED:20260203T200700Z
UID:23272-1776938400-1776947400@finance.utoronto.ca
SUMMARY:Troubleshooting A/P & G/L Account Postings (Course 5)
DESCRIPTION:Location: Virtual Training Session\nDuration: 2 hours\nFormat: Lecture\, Demonstrations + Hands-on Practice Activities\nCourse Material \nThis course is designed for Financial Information Systems (FIS) users who input accounts payable and/or journal entry type documents on a regular basis. Specifically\, troubleshooting tips will be provided to help you deal with system warning / error messages and / or missing information during and after the data entry process. \nTopics include:\n\nInterpreting system warning/error messages\nTroubleshooting errors DURING the data entry process and AFTER a document has been posted\nReversing posted documents\nProcessing a correcting Journal Entry\nMaking corrections to a Accounts Payable (A/P) document\n\nSince much of this course builds on the preceding courses within the Standard Curriculum\, it is recommended that it be taken in sequence. \n\nClick Here to REGISTER 
URL:https://finance.utoronto.ca/event/troubleshooting-a-p-g-l-account-postings-course-5-12/
LOCATION:Virtual Session – Adobe Connect
CATEGORIES:Courses,Standard Curriculum,Training
END:VEVENT
BEGIN:VEVENT
DTSTART;TZID=America/Toronto:20260423T120000
DTEND;TZID=America/Toronto:20260423T130000
DTSTAMP:20260422T033128
CREATED:20260421T194043Z
LAST-MODIFIED:20260421T194043Z
UID:23712-1776945600-1776949200@finance.utoronto.ca
SUMMARY:FAST Monthly Lunch & Learn # 2 (April 2026 Edition) - The New Monthly Concur Reports for Business Officers
DESCRIPTION:  \n \n  \nThe FAST team hosts a series of short (30 – 45 minute) virtual presentations on topics of interest for financial administrators at all levels. \nAll sessions will be recorded and presented by FAST\, and often in collaboration with other units. There is no registration required. \nThis session will be held on Thursday\, April 23 (12pm – 1pm) via MS Teams. \nTopic: Exploring the New Monthly Concur Reports for Business Officers \nDescription:\nThis session will explore the new supplementary monthly Concur reports recently sent to Concur Business Officers\, including monthly schedule of the reports\, context of how to interpret the reports and a deep dive into the dashboard and reports. \nTopics: \n\nAn overview and intention of the reports\nNotes and key considerations when reviewing the reports\nSchedule of report distribution\nU of T Concur Expense Management Overview Dashboard\nFinancial Summary Report\nExpense Report Totals Report\nReports Pending Approval Details\nUnassigned Credit Card Transactions Reports\nCash Advance Analysis Report\n\nClick here to download and save the MS Teams invite. To go directly to the presentation on April 23rd\, click here. \n\nHave any ideas for topics we could cover? Take a few minutes to COMPLETE THIS SURVEY to submit your ideas for future topics. \nIf you have any questions\, please contact rames.paramsothy@utoronto.ca.
URL:https://finance.utoronto.ca/event/fast-monthly-lunch-learn-2-april-2026-edition-the-new-monthly-concur-reports-for-business-officers/
LOCATION:MS Teams
CATEGORIES:Courses,FAST Lunch and Learn,Information Sessions,Training,Workshops
ORGANIZER;CN="Rames Paramsothy":MAILTO:rames.paramsothy@utoronto.ca
END:VEVENT
END:VCALENDAR