BEGIN:VCALENDAR
VERSION:2.0
PRODID:-//Financial Services - ECPv6.15.20//NONSGML v1.0//EN
CALSCALE:GREGORIAN
METHOD:PUBLISH
X-ORIGINAL-URL:https://finance.utoronto.ca
X-WR-CALDESC:Events for Financial Services
REFRESH-INTERVAL;VALUE=DURATION:PT1H
X-Robots-Tag:noindex
X-PUBLISHED-TTL:PT1H
BEGIN:VTIMEZONE
TZID:America/Toronto
BEGIN:DAYLIGHT
TZOFFSETFROM:-0500
TZOFFSETTO:-0400
TZNAME:EDT
DTSTART:20250309T070000
END:DAYLIGHT
BEGIN:STANDARD
TZOFFSETFROM:-0400
TZOFFSETTO:-0500
TZNAME:EST
DTSTART:20251102T060000
END:STANDARD
BEGIN:DAYLIGHT
TZOFFSETFROM:-0500
TZOFFSETTO:-0400
TZNAME:EDT
DTSTART:20260308T070000
END:DAYLIGHT
BEGIN:STANDARD
TZOFFSETFROM:-0400
TZOFFSETTO:-0500
TZNAME:EST
DTSTART:20261101T060000
END:STANDARD
BEGIN:DAYLIGHT
TZOFFSETFROM:-0500
TZOFFSETTO:-0400
TZNAME:EDT
DTSTART:20270314T070000
END:DAYLIGHT
BEGIN:STANDARD
TZOFFSETFROM:-0400
TZOFFSETTO:-0500
TZNAME:EST
DTSTART:20271107T060000
END:STANDARD
END:VTIMEZONE
BEGIN:VEVENT
DTSTART;TZID=America/Toronto:20260513T120000
DTEND;TZID=America/Toronto:20260513T130000
DTSTAMP:20260421T215925
CREATED:20260406T182421Z
LAST-MODIFIED:20260406T182421Z
UID:23586-1778673600-1778677200@finance.utoronto.ca
SUMMARY:FAST Monthly Lunch & Learn # 1 (May 2026 Edition) - A Deep Dive into the Concur Approval Process
DESCRIPTION:  \n \n  \nThe FAST team hosts a series of short (30 – 45 minute) virtual presentations on topics of interest for financial administrators at all levels. \nAll sessions will be recorded and presented by FAST\, and often in collaboration with other units. There is no registration required. \nThis session will be held on Wednesday\, May 13th (12pm – 1pm) via MS Teams. \nTopic: A Deep Dive into the Concur Approval Process \nDescription:\nThis session will explore the approval process for a variety of claimants\, including appointed\, non-appointed\, non-employees\, Administrative Academic Appointments (AAA) and cross-appointments. \nTopics: \n\nReview the standard approval flows for appointed\, non-appointed and non-employees (e.g.\, visitors)\nUnderstanding the difference between Approve & Forward and using the Approval Flow\nAddressing unique approval situations\, such as claimants who are AAA or cross-appointed\nLooking up approval reports in Concur\n\nClick here to download and save the MS Teams invite. To go directly to the presentation on May 13th\, click here. \n\nHave any ideas for topics we could cover? Take a few minutes to COMPLETE THIS SURVEY to submit your ideas for future topics. \nIf you have any questions\, please contact rames.paramsothy@utoronto.ca.
URL:https://finance.utoronto.ca/event/fast-monthly-lunch-learn-1-may-2026-edition-a-deep-dive-into-the-concur-approval-process/
LOCATION:MS Teams
CATEGORIES:FAST Lunch and Learn,Training,Workshops
ORGANIZER;CN="Rames Paramsothy":MAILTO:rames.paramsothy@utoronto.ca
END:VEVENT
END:VCALENDAR