BEGIN:VCALENDAR
VERSION:2.0
PRODID:-//Financial Services - ECPv6.15.20//NONSGML v1.0//EN
CALSCALE:GREGORIAN
METHOD:PUBLISH
X-WR-CALNAME:Financial Services
X-ORIGINAL-URL:https://finance.utoronto.ca
X-WR-CALDESC:Events for Financial Services
REFRESH-INTERVAL;VALUE=DURATION:PT1H
X-Robots-Tag:noindex
X-PUBLISHED-TTL:PT1H
BEGIN:VTIMEZONE
TZID:America/Toronto
BEGIN:DAYLIGHT
TZOFFSETFROM:-0500
TZOFFSETTO:-0400
TZNAME:EDT
DTSTART:20210314T070000
END:DAYLIGHT
BEGIN:STANDARD
TZOFFSETFROM:-0400
TZOFFSETTO:-0500
TZNAME:EST
DTSTART:20211107T060000
END:STANDARD
BEGIN:DAYLIGHT
TZOFFSETFROM:-0500
TZOFFSETTO:-0400
TZNAME:EDT
DTSTART:20220313T070000
END:DAYLIGHT
BEGIN:STANDARD
TZOFFSETFROM:-0400
TZOFFSETTO:-0500
TZNAME:EST
DTSTART:20221106T060000
END:STANDARD
BEGIN:DAYLIGHT
TZOFFSETFROM:-0500
TZOFFSETTO:-0400
TZNAME:EDT
DTSTART:20230312T070000
END:DAYLIGHT
BEGIN:STANDARD
TZOFFSETFROM:-0400
TZOFFSETTO:-0500
TZNAME:EST
DTSTART:20231105T060000
END:STANDARD
END:VTIMEZONE
BEGIN:VEVENT
DTSTART;TZID=America/Toronto:20220406T130000
DTEND;TZID=America/Toronto:20220406T163000
DTSTAMP:20260420T003529
CREATED:20220321T175253Z
LAST-MODIFIED:20220321T194052Z
UID:16008-1649250000-1649262600@finance.utoronto.ca
SUMMARY:FIS Overview (Course 1)
DESCRIPTION:Location: Virtual Training Session\nDuration: 3.5 hours\nFormat: Lecture + Demonstrations\nCourse Material  \nThis course provides a basic understanding of how Financial Information Systems (FIS) is used to facilitate administrative financial management while introducing common terms and concepts used in FIS. This is the prerequisite for all new FIS users. \nTopics include:\n\nIntroduction to common terms and concepts used in FIS\nUnderstanding the big picture of Funds Management and Controlling within the FIS system\nOverview of types of master data in Funds Management and Controlling\nOverview of Funds Management and Controlling hierarchies including Commitment Items\, Cost Elements\, Funds Centers\, Cost Centers and Internal Orders.\n\n  \n\nREGISTER
URL:https://finance.utoronto.ca/event/1-fis-overview-30/
LOCATION:Virtual Session – Adobe Connect
CATEGORIES:Courses,Standard Curriculum,Training
ORGANIZER;CN="Rames Paramsothy":MAILTO:rames.paramsothy@utoronto.ca
END:VEVENT
BEGIN:VEVENT
DTSTART;TZID=America/Toronto:20220407T130000
DTEND;TZID=America/Toronto:20220407T163000
DTSTAMP:20260420T003529
CREATED:20220401T125348Z
LAST-MODIFIED:20220401T125424Z
UID:16082-1649336400-1649349000@finance.utoronto.ca
SUMMARY:FIS Overview (Course 1)
DESCRIPTION:Location: Virtual Training Session\nDuration: 3.5 hours\nFormat: Lecture + Demonstrations\nCourse Material  \nThis course provides a basic understanding of how Financial Information Systems (FIS) is used to facilitate administrative financial management while introducing common terms and concepts used in FIS. This is the prerequisite for all new FIS users. \nTopics include:\n\nIntroduction to common terms and concepts used in FIS\nUnderstanding the big picture of Funds Management and Controlling within the FIS system\nOverview of types of master data in Funds Management and Controlling\nOverview of Funds Management and Controlling hierarchies including Commitment Items\, Cost Elements\, Funds Centers\, Cost Centers and Internal Orders.\n\n  \n\nREGISTER
URL:https://finance.utoronto.ca/event/16082/
LOCATION:Virtual Session – Adobe Connect
CATEGORIES:Courses,Standard Curriculum,Training
ORGANIZER;CN="Rames Paramsothy":MAILTO:rames.paramsothy@utoronto.ca
END:VEVENT
BEGIN:VEVENT
DTSTART;TZID=America/Toronto:20220408T093000
DTEND;TZID=America/Toronto:20220408T130000
DTSTAMP:20260420T003529
CREATED:20220321T175444Z
LAST-MODIFIED:20220321T194217Z
UID:16010-1649410200-1649422800@finance.utoronto.ca
SUMMARY:A/P Processing Part 1 - Basic Data Entry (Course 2)
DESCRIPTION:Location: Virtual Training Session\nDuration: 3.5 hours\nFormat: Lecture\, Demonstrations + Hands-on Practice Activities\nCourse Material \nThis course is designed for new Financial Information Systems (FIS) users who are expected to complete A/P invoices\, Petty Cash and / or Imprest Reimbursements within FIS. Specifically\, it focuses on identifying and entering information within the Accounts Payable – Invoice Document Entry screen for various financial transactions. \nTopics include:\n\nWhen to use the Accounts Payable – Invoice Document Entry screen\nIdentifying the information required to process a transaction\nHow to process a transaction in FIS using this screen (e.g.\, entering an invoice\, credit memo)\n\nPrior to attending this course is required that you complete the FIS Overview course. \n\nREGISTER
URL:https://finance.utoronto.ca/event/2-a-p-processing-part-1-basic-data-entry/
LOCATION:Virtual Session – Adobe Connect
CATEGORIES:Courses,Standard Curriculum,Training
ORGANIZER;CN="Rames Paramsothy":MAILTO:rames.paramsothy@utoronto.ca
END:VEVENT
BEGIN:VEVENT
DTSTART;TZID=America/Toronto:20220411T133000
DTEND;TZID=America/Toronto:20220411T163000
DTSTAMP:20260420T003529
CREATED:20220321T180141Z
LAST-MODIFIED:20220321T180141Z
UID:16015-1649683800-1649694600@finance.utoronto.ca
SUMMARY:Managing Travel & Other Reimbursable Expenses
DESCRIPTION:Location: Virtual Training Session\nDuration: 3 hours\nFormat: Lecture + Demonstration \nWorkshop Material \nProcessing travel and other reimbursable expenses are some of the most common FIS transactions performed by University staff. This workshop guides you through the provincial legislation that govern the University’s reimbursement policies\, University guidelines as well other information that will aid you when processing reimbursable travel expenses. \nTopics include: \n\nThe Ontario Expenses Directive and its impact on University business practices\nGeneral principles and guidelines governing travel expenses\nApproving and authorizing travel plans and expenses\nMethods of payment for reimbursing travel expenses\nAllowable travel and other reimbursable expenses\nCommon errors caught by Internal Audit\n\n\nREGISTER
URL:https://finance.utoronto.ca/event/managing-travel-other-reimbursable-expenses-9/
LOCATION:Virtual Session – Adobe Connect
CATEGORIES:Courses,Training,Workshops
ORGANIZER;CN="Rames Paramsothy":MAILTO:rames.paramsothy@utoronto.ca
END:VEVENT
BEGIN:VEVENT
DTSTART;TZID=America/Toronto:20220412T093000
DTEND;TZID=America/Toronto:20220412T130000
DTSTAMP:20260420T003529
CREATED:20220321T175832Z
LAST-MODIFIED:20220505T173800Z
UID:16013-1649755800-1649768400@finance.utoronto.ca
SUMMARY:A/P Processing Part 2: Expense Reimbursements (Course 3)
DESCRIPTION:Location: Virtual Training Session\nDuration: 3.5 hours\nFormat: Lecture\, Demonstrations + Hands-on Practice Activities\nCourse Material \nThis course is designed for Financial Information Systems (FIS) users who input Accounts Payable Expense Reimbursements. Specifically\, it focuses on the how to post an Expense Reimbursement using either the Accounts Payable – Invoice document entry screen or the Expense Reimbursement Direct Deposit (ERDD) entry screen. \nTopics include:\n\nReimbursement options\nTax codes for Petty Cash and Expense Reimbursements\nWhen to use either the:\n\nAccounts Payable – Invoice document entry screen or\nExpense Reimbursement Direct Deposit screen\n\n\nCreating and reversing Expense Reimbursements\nCorrecting Expense Reimbursement documents\nCommon reimbursement errors\n\nSince much of this course builds on the preceding courses within the Standard Curriculum\, it is recommended that it be taken in sequence. The FIS Overview is required prior to completing this course. \n\nREGISTER
URL:https://finance.utoronto.ca/event/a-p-processing-part-2-expense-reimbursements-course-3-3/
LOCATION:Virtual Session – Adobe Connect
CATEGORIES:Courses,Standard Curriculum,Training
ORGANIZER;CN="Rames Paramsothy":MAILTO:rames.paramsothy@utoronto.ca
END:VEVENT
BEGIN:VEVENT
DTSTART;TZID=America/Toronto:20220413T133000
DTEND;TZID=America/Toronto:20220413T153000
DTSTAMP:20260420T003529
CREATED:20220321T180453Z
LAST-MODIFIED:20220321T180453Z
UID:16017-1649856600-1649863800@finance.utoronto.ca
SUMMARY:Understanding Year-End Operating Reserves
DESCRIPTION:Location: Virtual Training Session\nDuration: 2 hours\nFormat: Lecture + Demonstration \nYear-end Operating Reserves are a division’s net overspending (deficit) or under spending (surplus) amount at the end of a fiscal year. Accurately calculating the operating reserve can play an important role in determining your divisions’ budget for the upcoming fiscal year. This course will introduce you to the best practices and processes involved in year-end operating reserve reporting. \nTopics include: \n\nDefinition of an Operating Reserve\nCalculating the Year-End Operating Reserve (single & multiple Funds Centers)\nThe University’s Operating Reserve Policy\nFeatures and characteristics of various Operating Reserve reports\n\nNote: This workshop is intended for advanced FIS users who have completed the FIS Standard Curriculum. \n\nREGISTER
URL:https://finance.utoronto.ca/event/understanding-year-end-operating-reserves-2/
LOCATION:Virtual Session – Adobe Connect
CATEGORIES:Courses,Training,Workshops
ORGANIZER;CN="Rames Paramsothy":MAILTO:rames.paramsothy@utoronto.ca
END:VEVENT
BEGIN:VEVENT
DTSTART;TZID=America/Toronto:20220419T130000
DTEND;TZID=America/Toronto:20220419T163000
DTSTAMP:20260420T003529
CREATED:20220321T180634Z
LAST-MODIFIED:20220321T194650Z
UID:16019-1650373200-1650385800@finance.utoronto.ca
SUMMARY:G/L Account Postings: Basic Data Entry (Course 4)
DESCRIPTION:Location: Virtual Training Session\nDuration: 3.5 hours\nFormat: Lecture\, Demonstrations + Hands-on Practice Activities\nCourse Material \nThis course is designed for new Financial Information Systems (FIS) users\, and focuses on how to effectively post financial transactions using the G/L Account Posting screen. Particular attention will be paid to processing Internal Revenues and Expense Recoveries. \nTopics include:\n\nIdentifying the appropriate FIS screen for each financial transaction\nProcessing Internal Revenues and Expense Recoveries\nCorrecting posting errors using Journal Entries\nDisplaying or changing an existing financial document\nProcessing and handling Cash Receipts\n\nSince much of this course builds on the preceding courses within the Standard Curriculum\, it is recommended that it be taken in sequence. The FIS Overview is required prior to completing this course. \n\nREGISTER
URL:https://finance.utoronto.ca/event/g-l-account-postings-basic-data-entry-course-4-3/
LOCATION:Virtual Session – Adobe Connect
CATEGORIES:Courses,Standard Curriculum,Training
ORGANIZER;CN="Rames Paramsothy":MAILTO:rames.paramsothy@utoronto.ca
END:VEVENT
BEGIN:VEVENT
DTSTART;TZID=America/Toronto:20220421T093000
DTEND;TZID=America/Toronto:20220421T130000
DTSTAMP:20260420T003529
CREATED:20220321T192403Z
LAST-MODIFIED:20220321T192403Z
UID:16024-1650533400-1650546000@finance.utoronto.ca
SUMMARY:Troubleshooting A/P and G/L Account Postings  (Course 5)
DESCRIPTION:Location: Virtual Training Session\nDuration: 3.5 hours\nFormat: Lecture\, Demonstrations + Hands-on Practice Activities\nCourse Material \nThis course is designed for Financial Information Systems (FIS) users who input accounts payable and/or journal entry type documents on a regular basis. Specifically\, troubleshooting tips will be provided to help you deal with system warning / error messages and / or missing information during and after the data entry process. \nTopics include:\n\nInterpreting system warning/error messages\nTroubleshooting errors DURING the data entry process and AFTER a document has been posted\nReversing posted documents\nProcessing a correcting Journal Entry\nMaking corrections to a Accounts Payable (A/P) document\n\nSince much of this course builds on the preceding courses within the Standard Curriculum\, it is recommended that it be taken in sequence. \n\nREGISTER 
URL:https://finance.utoronto.ca/event/troubleshooting-a-p-and-g-l-account-postings-course-5/
LOCATION:Virtual Session – Adobe Connect
CATEGORIES:Courses,Standard Curriculum,Training
ORGANIZER;CN="Rames Paramsothy":MAILTO:rames.paramsothy@utoronto.ca
END:VEVENT
BEGIN:VEVENT
DTSTART;TZID=America/Toronto:20220427T093000
DTEND;TZID=America/Toronto:20220427T163000
DTSTAMP:20260420T003529
CREATED:20220321T192523Z
LAST-MODIFIED:20220321T192740Z
UID:16027-1651051800-1651077000@finance.utoronto.ca
SUMMARY:Logistics Part 1: Purchase Requisitions & Purchase Orders (Course 6)
DESCRIPTION:Location: Virtual Training Session\nDuration: 6 hours\nFormat: Lecture\, Demonstrations + Hands-on Practice Activities \nCourse Material \nThis course is designed for all Financial Information Systems (FIS) users who will be processing Purchase Orders (PO) and have completed the first 5 courses in the Standard Curriculum. Specifically\, this course provides an overview of the differences between a Purchase Order (PO) and a Purchase Requisition (PR) and how to process each in FIS. \nTopics include:\n\nReview of the Purchasing Cycle at the University\nWhat are PRs and POs\nWhen are PRs and POs required\nCreating\, changing and deleting POs\n\nPrior to taking this course\, review the following supporting document to get a overview of the Purchasing Cycle: \n\nThe Purchasing Cycle at the University\n\n\nREGISTER
URL:https://finance.utoronto.ca/event/logistics-part-1-purchase-requisitions-purchase-orders-course-6-3/
LOCATION:Virtual Session – Adobe Connect
CATEGORIES:Courses,Standard Curriculum,Training
ORGANIZER;CN="Rames Paramsothy":MAILTO:rames.paramsothy@utoronto.ca
END:VEVENT
END:VCALENDAR