BEGIN:VCALENDAR
VERSION:2.0
PRODID:-//Financial Services - ECPv6.15.20//NONSGML v1.0//EN
CALSCALE:GREGORIAN
METHOD:PUBLISH
X-WR-CALNAME:Financial Services
X-ORIGINAL-URL:https://finance.utoronto.ca
X-WR-CALDESC:Events for Financial Services
REFRESH-INTERVAL;VALUE=DURATION:PT1H
X-Robots-Tag:noindex
X-PUBLISHED-TTL:PT1H
BEGIN:VTIMEZONE
TZID:America/Toronto
BEGIN:DAYLIGHT
TZOFFSETFROM:-0500
TZOFFSETTO:-0400
TZNAME:EDT
DTSTART:20210314T070000
END:DAYLIGHT
BEGIN:STANDARD
TZOFFSETFROM:-0400
TZOFFSETTO:-0500
TZNAME:EST
DTSTART:20211107T060000
END:STANDARD
BEGIN:DAYLIGHT
TZOFFSETFROM:-0500
TZOFFSETTO:-0400
TZNAME:EDT
DTSTART:20220313T070000
END:DAYLIGHT
BEGIN:STANDARD
TZOFFSETFROM:-0400
TZOFFSETTO:-0500
TZNAME:EST
DTSTART:20221106T060000
END:STANDARD
BEGIN:DAYLIGHT
TZOFFSETFROM:-0500
TZOFFSETTO:-0400
TZNAME:EDT
DTSTART:20230312T070000
END:DAYLIGHT
BEGIN:STANDARD
TZOFFSETFROM:-0400
TZOFFSETTO:-0500
TZNAME:EST
DTSTART:20231105T060000
END:STANDARD
END:VTIMEZONE
BEGIN:VEVENT
DTSTART;VALUE=DATE:20221202
DTEND;VALUE=DATE:20221203
DTSTAMP:20260421T015658
CREATED:20221121T180836Z
LAST-MODIFIED:20221121T180836Z
UID:17284-1669939200-1670025599@finance.utoronto.ca
SUMMARY:Deadline for Honorarium by wire/cheque/draft
DESCRIPTION:Deadline for Honorarium by wire/cheque/draft
URL:https://finance.utoronto.ca/event/deadline-for-honorarium-by-wire-cheque-draft/
CATEGORIES:Dates and Deadlines
END:VEVENT
BEGIN:VEVENT
DTSTART;VALUE=DATE:20221205
DTEND;VALUE=DATE:20221206
DTSTAMP:20260421T015658
CREATED:20220928T142441Z
LAST-MODIFIED:20221101T143838Z
UID:16912-1670198400-1670284799@finance.utoronto.ca
SUMMARY:First Forecast Due
DESCRIPTION:First Forecast Due
URL:https://finance.utoronto.ca/event/16912/
CATEGORIES:Dates and Deadlines
END:VEVENT
BEGIN:VEVENT
DTSTART;VALUE=DATE:20221213
DTEND;VALUE=DATE:20221214
DTSTAMP:20260421T015658
CREATED:20221121T180545Z
LAST-MODIFIED:20221121T180545Z
UID:17282-1670889600-1670975999@finance.utoronto.ca
SUMMARY:Final Wire Payment Processing 2022
DESCRIPTION:Final Wire Payment Processing 2022
URL:https://finance.utoronto.ca/event/final-wire-payment-processing-2022/
CATEGORIES:Dates and Deadlines
END:VEVENT
BEGIN:VEVENT
DTSTART;VALUE=DATE:20221214
DTEND;VALUE=DATE:20221215
DTSTAMP:20260421T015658
CREATED:20221201T141727Z
LAST-MODIFIED:20221201T141727Z
UID:17403-1670976000-1671062399@finance.utoronto.ca
SUMMARY:Deadline for Deposits to Cashier's office
DESCRIPTION:Deadline for Deposits to Cashier’s office
URL:https://finance.utoronto.ca/event/deadline-for-deposits-to-cashiers-office/
CATEGORIES:Dates and Deadlines
END:VEVENT
BEGIN:VEVENT
DTSTART;VALUE=DATE:20221215
DTEND;VALUE=DATE:20221216
DTSTAMP:20260421T015658
CREATED:20221121T180054Z
LAST-MODIFIED:20221121T180054Z
UID:17276-1671062400-1671148799@finance.utoronto.ca
SUMMARY:Final Cheque/Draft run 2022
DESCRIPTION:Final Cheque/Draft run 2022
URL:https://finance.utoronto.ca/event/final-cheque-draft-run-2022/
CATEGORIES:Dates and Deadlines
END:VEVENT
BEGIN:VEVENT
DTSTART;VALUE=DATE:20221216
DTEND;VALUE=DATE:20221217
DTSTAMP:20260421T015658
CREATED:20221121T180240Z
LAST-MODIFIED:20221121T180240Z
UID:17278-1671148800-1671235199@finance.utoronto.ca
SUMMARY:Final EFT Payment Run 2022
DESCRIPTION:Final EFT Payment Run 2022
URL:https://finance.utoronto.ca/event/final-eft-payment-run-2022/
CATEGORIES:Dates and Deadlines
END:VEVENT
BEGIN:VEVENT
DTSTART;VALUE=DATE:20221220
DTEND;VALUE=DATE:20221221
DTSTAMP:20260421T015658
CREATED:20221121T180405Z
LAST-MODIFIED:20221121T180405Z
UID:17280-1671494400-1671580799@finance.utoronto.ca
SUMMARY:Final ERDD Processing 2022
DESCRIPTION:Final ERDD Processing 2022
URL:https://finance.utoronto.ca/event/final-erdd-processing-2022/
CATEGORIES:Dates and Deadlines
END:VEVENT
END:VCALENDAR