BEGIN:VCALENDAR
VERSION:2.0
PRODID:-//Financial Services - ECPv6.15.20//NONSGML v1.0//EN
CALSCALE:GREGORIAN
METHOD:PUBLISH
X-ORIGINAL-URL:https://finance.utoronto.ca
X-WR-CALDESC:Events for Financial Services
REFRESH-INTERVAL;VALUE=DURATION:PT1H
X-Robots-Tag:noindex
X-PUBLISHED-TTL:PT1H
BEGIN:VTIMEZONE
TZID:America/Toronto
BEGIN:DAYLIGHT
TZOFFSETFROM:-0500
TZOFFSETTO:-0400
TZNAME:EDT
DTSTART:20220313T070000
END:DAYLIGHT
BEGIN:STANDARD
TZOFFSETFROM:-0400
TZOFFSETTO:-0500
TZNAME:EST
DTSTART:20221106T060000
END:STANDARD
BEGIN:DAYLIGHT
TZOFFSETFROM:-0500
TZOFFSETTO:-0400
TZNAME:EDT
DTSTART:20230312T070000
END:DAYLIGHT
BEGIN:STANDARD
TZOFFSETFROM:-0400
TZOFFSETTO:-0500
TZNAME:EST
DTSTART:20231105T060000
END:STANDARD
BEGIN:DAYLIGHT
TZOFFSETFROM:-0500
TZOFFSETTO:-0400
TZNAME:EDT
DTSTART:20240310T070000
END:DAYLIGHT
BEGIN:STANDARD
TZOFFSETFROM:-0400
TZOFFSETTO:-0500
TZNAME:EST
DTSTART:20241103T060000
END:STANDARD
END:VTIMEZONE
BEGIN:VEVENT
DTSTART;VALUE=DATE:20230419
DTEND;VALUE=DATE:20230420
DTSTAMP:20260422T175038
CREATED:20230317T134134Z
LAST-MODIFIED:20230317T134134Z
UID:18203-1681862400-1681948799@finance.utoronto.ca
SUMMARY:Accountable Advance Deadline for Fiscal 2023
DESCRIPTION:Accountable Advance Deadline for Fiscal 2023
URL:https://finance.utoronto.ca/event/accountable-advance-deadline-for-fiscal-2023/
CATEGORIES:Dates and Deadlines
END:VEVENT
BEGIN:VEVENT
DTSTART;VALUE=DATE:20230421
DTEND;VALUE=DATE:20230422
DTSTAMP:20260422T175038
CREATED:20230317T134858Z
LAST-MODIFIED:20230317T134858Z
UID:18215-1682035200-1682121599@finance.utoronto.ca
SUMMARY:Wire Payment Deadline for Fiscal 2023
DESCRIPTION:Wire Payment Deadline for Fiscal 2023
URL:https://finance.utoronto.ca/event/wire-payment-deadline-for-fiscal-2023/
CATEGORIES:Dates and Deadlines
END:VEVENT
BEGIN:VEVENT
DTSTART;VALUE=DATE:20230424
DTEND;VALUE=DATE:20230425
DTSTAMP:20260422T175038
CREATED:20230317T134755Z
LAST-MODIFIED:20230317T134755Z
UID:18213-1682294400-1682380799@finance.utoronto.ca
SUMMARY:Deadline to post ERDD for Fiscal 2023
DESCRIPTION:Deadline to post ERDD for Fiscal 2023
URL:https://finance.utoronto.ca/event/deadline-to-post-erdd-for-fiscal-2023/
CATEGORIES:Dates and Deadlines
END:VEVENT
BEGIN:VEVENT
DTSTART;VALUE=DATE:20230425
DTEND;VALUE=DATE:20230426
DTSTAMP:20260422T175038
CREATED:20230317T134359Z
LAST-MODIFIED:20230317T134359Z
UID:18207-1682380800-1682467199@finance.utoronto.ca
SUMMARY:Final EFT Payment Fiscal 2023
DESCRIPTION:Final EFT Payment Fiscal 2023
URL:https://finance.utoronto.ca/event/final-eft-payment-fiscal-2023/
CATEGORIES:Dates and Deadlines
END:VEVENT
BEGIN:VEVENT
DTSTART;VALUE=DATE:20230425
DTEND;VALUE=DATE:20230426
DTSTAMP:20260422T175038
CREATED:20230317T134630Z
LAST-MODIFIED:20230317T134630Z
UID:18211-1682380800-1682467199@finance.utoronto.ca
SUMMARY:Final ERDD Scheduled Fiscal 2023
DESCRIPTION:Final ERDD Scheduled Fiscal 2023
URL:https://finance.utoronto.ca/event/final-erdd-scheduled-fiscal-2023/
CATEGORIES:Dates and Deadlines
END:VEVENT
BEGIN:VEVENT
DTSTART;VALUE=DATE:20230426
DTEND;VALUE=DATE:20230427
DTSTAMP:20260422T175038
CREATED:20230317T133937Z
LAST-MODIFIED:20230317T133937Z
UID:18201-1682467200-1682553599@finance.utoronto.ca
SUMMARY:Final Cheque Production for Fiscal 2023
DESCRIPTION:Final Cheque Production for Fiscal 2023
URL:https://finance.utoronto.ca/event/final-cheque-production-for-fiscal-2023/
CATEGORIES:Dates and Deadlines
END:VEVENT
BEGIN:VEVENT
DTSTART;VALUE=DATE:20230426
DTEND;VALUE=DATE:20230427
DTSTAMP:20260422T175038
CREATED:20230317T134513Z
LAST-MODIFIED:20230317T134513Z
UID:18209-1682467200-1682553599@finance.utoronto.ca
SUMMARY:Final Draft Production Fiscal 2023
DESCRIPTION:Final Draft Production Fiscal 2023
URL:https://finance.utoronto.ca/event/final-draft-production-fiscal-2023/
CATEGORIES:Dates and Deadlines
END:VEVENT
BEGIN:VEVENT
DTSTART;TZID=America/Toronto:20230427T190000
DTEND;TZID=America/Toronto:20230501T070000
DTSTAMP:20260422T175038
CREATED:20230228T172240Z
LAST-MODIFIED:20230228T172437Z
UID:17944-1682622000-1682924400@finance.utoronto.ca
SUMMARY:AMS Close for year-end processing
DESCRIPTION:AMS Close for year-end processing
URL:https://finance.utoronto.ca/event/ams-close-for-year-end-processing/
CATEGORIES:Dates and Deadlines
END:VEVENT
END:VCALENDAR