BEGIN:VCALENDAR
VERSION:2.0
PRODID:-//Financial Services - ECPv6.15.20//NONSGML v1.0//EN
CALSCALE:GREGORIAN
METHOD:PUBLISH
X-WR-CALNAME:Financial Services
X-ORIGINAL-URL:https://finance.utoronto.ca
X-WR-CALDESC:Events for Financial Services
REFRESH-INTERVAL;VALUE=DURATION:PT1H
X-Robots-Tag:noindex
X-PUBLISHED-TTL:PT1H
BEGIN:VTIMEZONE
TZID:America/Toronto
BEGIN:DAYLIGHT
TZOFFSETFROM:-0500
TZOFFSETTO:-0400
TZNAME:EDT
DTSTART:20190310T070000
END:DAYLIGHT
BEGIN:STANDARD
TZOFFSETFROM:-0400
TZOFFSETTO:-0500
TZNAME:EST
DTSTART:20191103T060000
END:STANDARD
BEGIN:DAYLIGHT
TZOFFSETFROM:-0500
TZOFFSETTO:-0400
TZNAME:EDT
DTSTART:20200308T070000
END:DAYLIGHT
BEGIN:STANDARD
TZOFFSETFROM:-0400
TZOFFSETTO:-0500
TZNAME:EST
DTSTART:20201101T060000
END:STANDARD
BEGIN:DAYLIGHT
TZOFFSETFROM:-0500
TZOFFSETTO:-0400
TZNAME:EDT
DTSTART:20210314T070000
END:DAYLIGHT
BEGIN:STANDARD
TZOFFSETFROM:-0400
TZOFFSETTO:-0500
TZNAME:EST
DTSTART:20211107T060000
END:STANDARD
END:VTIMEZONE
BEGIN:VEVENT
DTSTART;TZID=America/Toronto:20201027T103000
DTEND;TZID=America/Toronto:20201027T113000
DTSTAMP:20260421T120642
CREATED:20201026T144411Z
LAST-MODIFIED:20201026T145334Z
UID:13350-1603794600-1603798200@finance.utoronto.ca
SUMMARY:Information Session: Understanding the FIS Impact of the S4HANA Migration Project
DESCRIPTION:On November 3rd\, 2020 the University will be upgrading the current ECC version of the SAP system to the new SAP S/4 HANA platform.  The transition will create the foundation for improved overall system performance and future modernization of the SAP systems at U of T. \nWhile this upgrade is primarily a technical upgrade and changes to business processes will be minimal\, there are a few modifications to the Financial Information System (FIS) that will impact both central and divisional users. \nTo learn more\, attend a 1 hour online information session about what has changed (and what has not) in FIS. \nIn addition\, please visit our S/4HANA Migration – FIS Documentation and Support site for all articles and simulations to help you familiarize yourself with changes that will impact you. This site will be updated when needed with information relevant to FIS end users \nThe information session will cover: \n\nAn overview of the S4 HANA Migration Project in the context of FIS\nWhat will change in FIS as of November 3\, 2020\nFAST articles and simulations related to the S4 HANA project\nReconciling postings to your FM Accounts after migration – Bi-weekly pay\nWho do you contact for support if you encounter issues in AMS after November 3\, 2020\n\nAttend the virtual session: \n\nAdd to Calendar\nConnect to Session\nCall-in: +1 647-794-1609  (Conference ID: 251 077 234#)
URL:https://finance.utoronto.ca/event/information-session-understanding-the-fis-impact-of-the-s4hana-migration-project/
CATEGORIES:Information Sessions,Training
END:VEVENT
BEGIN:VEVENT
DTSTART;TZID=America/Toronto:20201029T153000
DTEND;TZID=America/Toronto:20201029T163000
DTSTAMP:20260421T120642
CREATED:20201026T144608Z
LAST-MODIFIED:20201026T145304Z
UID:13352-1603985400-1603989000@finance.utoronto.ca
SUMMARY:Information Session: Understanding the FIS Impact of the S4HANA Migration Project
DESCRIPTION:On November 3rd\, 2020 the University will be upgrading the current ECC version of the SAP system to the new SAP S/4 HANA platform.  The transition will create the foundation for improved overall system performance and future modernization of the SAP systems at U of T. \nWhile this upgrade is primarily a technical upgrade and changes to business processes will be minimal\, there are a few modifications to the Financial Information System (FIS) that will impact both central and divisional users. \nTo learn more\, attend a 1 hour online information session about what has changed (and what has not) in FIS. \nIn addition\, please visit our S/4HANA Migration – FIS Documentation and Support site for all articles and simulations to help you familiarize yourself with changes that will impact you. This site will be updated when needed with information relevant to FIS end users \nThe information session will cover: \n\nAn overview of the S4 HANA Migration Project in the context of FIS\nWhat will change in FIS as of November 3\, 2020\nFAST articles and simulations related to the S4 HANA project\nReconciling postings to your FM Accounts after migration – Bi-weekly pay\nWho do you contact for support if you encounter issues in AMS after November 3\, 2020\n\nAttend the virtual session: \n\nAdd to Calendar\nConnect to Session\nCall-in: +1 647-794-1609  (Conference ID: 144 769 983#)\n\n 
URL:https://finance.utoronto.ca/event/information-session-understanding-the-fis-impact-of-the-s4hana-migration-project-2/
CATEGORIES:Information Sessions,Training
END:VEVENT
END:VCALENDAR