BEGIN:VCALENDAR
VERSION:2.0
PRODID:-//Financial Services - ECPv6.15.20//NONSGML v1.0//EN
CALSCALE:GREGORIAN
METHOD:PUBLISH
X-WR-CALNAME:Financial Services
X-ORIGINAL-URL:https://finance.utoronto.ca
X-WR-CALDESC:Events for Financial Services
REFRESH-INTERVAL;VALUE=DURATION:PT1H
X-Robots-Tag:noindex
X-PUBLISHED-TTL:PT1H
BEGIN:VTIMEZONE
TZID:America/Toronto
BEGIN:DAYLIGHT
TZOFFSETFROM:-0500
TZOFFSETTO:-0400
TZNAME:EDT
DTSTART:20210314T070000
END:DAYLIGHT
BEGIN:STANDARD
TZOFFSETFROM:-0400
TZOFFSETTO:-0500
TZNAME:EST
DTSTART:20211107T060000
END:STANDARD
BEGIN:DAYLIGHT
TZOFFSETFROM:-0500
TZOFFSETTO:-0400
TZNAME:EDT
DTSTART:20220313T070000
END:DAYLIGHT
BEGIN:STANDARD
TZOFFSETFROM:-0400
TZOFFSETTO:-0500
TZNAME:EST
DTSTART:20221106T060000
END:STANDARD
BEGIN:DAYLIGHT
TZOFFSETFROM:-0500
TZOFFSETTO:-0400
TZNAME:EDT
DTSTART:20230312T070000
END:DAYLIGHT
BEGIN:STANDARD
TZOFFSETFROM:-0400
TZOFFSETTO:-0500
TZNAME:EST
DTSTART:20231105T060000
END:STANDARD
END:VTIMEZONE
BEGIN:VEVENT
DTSTART;TZID=America/Toronto:20220908T103000
DTEND;TZID=America/Toronto:20220908T113000
DTSTAMP:20260421T103333
CREATED:20220822T143209Z
LAST-MODIFIED:20220822T154736Z
UID:16677-1662633000-1662636600@finance.utoronto.ca
SUMMARY:Understanding Enhancements to AMS Printing – PDF and Beyond (Connect & Learn)
DESCRIPTION:EASI has launch a safer\, more secure and efficient process to print AMS reports to PDF\, personal and network printers with the added enhancement of being able to email report directly from AMS. \nAttend this 1 hour information session via MS Teams to learn: \n\nwhy this initiative is important\nhow this will make printing AMS report to PDF faster and easier\nhow to print AMS reports directly to any printer\, similar to Office365 application\nhow to email reports\nhow to update your default print settings\n\nThe demonstration will focus on FIS reports\, but the same process applies for other AMS modules. \nClick Here to Add the Information Session to your Outlook Calendar
URL:https://finance.utoronto.ca/event/understanding-enhancements-to-printing-ams-reports-connect-learn-session/
CATEGORIES:Information Sessions
ORGANIZER;CN="Rames Paramsothy":MAILTO:rames.paramsothy@utoronto.ca
END:VEVENT
BEGIN:VEVENT
DTSTART;TZID=America/Toronto:20220913T143000
DTEND;TZID=America/Toronto:20220913T153000
DTSTAMP:20260421T103333
CREATED:20220822T143348Z
LAST-MODIFIED:20220822T151214Z
UID:16681-1663079400-1663083000@finance.utoronto.ca
SUMMARY:Understanding Enhancements to AMS Printing - PDF and Beyond (Connect & Learn)
DESCRIPTION:EASI has launch a safer\, more secure and efficient process to print AMS reports to PDF\, personal and network printers with the added enhancement of being able to email report directly from AMS. \nAttend this 1 hour information session via MS Teams to learn: \n\nwhy this initiative is important\nhow this will make printing AMS report to PDF faster and easier\nhow to print AMS reports directly to any printer\, similar to Office365 application\nhow to email reports\nhow to update your default print settings\n\nThe demonstration will focus on FIS reports\, but the same process applies for other AMS modules. \nClick Here to Add the Information Session to your Outlook Calendar
URL:https://finance.utoronto.ca/event/understanding-enhancements-to-printing-ams-reports-connect-learn-session-2/
CATEGORIES:Information Sessions
ORGANIZER;CN="Rames Paramsothy":MAILTO:rames.paramsothy@utoronto.ca
END:VEVENT
END:VCALENDAR