BEGIN:VCALENDAR
VERSION:2.0
PRODID:-//Financial Services - ECPv6.15.20//NONSGML v1.0//EN
CALSCALE:GREGORIAN
METHOD:PUBLISH
X-WR-CALNAME:Financial Services
X-ORIGINAL-URL:https://finance.utoronto.ca
X-WR-CALDESC:Events for Financial Services
REFRESH-INTERVAL;VALUE=DURATION:PT1H
X-Robots-Tag:noindex
X-PUBLISHED-TTL:PT1H
BEGIN:VTIMEZONE
TZID:America/Toronto
BEGIN:DAYLIGHT
TZOFFSETFROM:-0500
TZOFFSETTO:-0400
TZNAME:EDT
DTSTART:20240310T070000
END:DAYLIGHT
BEGIN:STANDARD
TZOFFSETFROM:-0400
TZOFFSETTO:-0500
TZNAME:EST
DTSTART:20241103T060000
END:STANDARD
BEGIN:DAYLIGHT
TZOFFSETFROM:-0500
TZOFFSETTO:-0400
TZNAME:EDT
DTSTART:20250309T070000
END:DAYLIGHT
BEGIN:STANDARD
TZOFFSETFROM:-0400
TZOFFSETTO:-0500
TZNAME:EST
DTSTART:20251102T060000
END:STANDARD
BEGIN:DAYLIGHT
TZOFFSETFROM:-0500
TZOFFSETTO:-0400
TZNAME:EDT
DTSTART:20260308T070000
END:DAYLIGHT
BEGIN:STANDARD
TZOFFSETFROM:-0400
TZOFFSETTO:-0500
TZNAME:EST
DTSTART:20261101T060000
END:STANDARD
END:VTIMEZONE
BEGIN:VEVENT
DTSTART;TZID=America/Toronto:20250605T120000
DTEND;TZID=America/Toronto:20250605T130000
DTSTAMP:20260421T012049
CREATED:20250530T200958Z
LAST-MODIFIED:20250530T202853Z
UID:22248-1749124800-1749128400@finance.utoronto.ca
SUMMARY:Lunch & Learn - June 2025 - Implementing the Procurement Restriction Policy
DESCRIPTION:The FAST team hosts a series of short (30 – 45 minute) virtual presentations on topics of interest for financial administrators at all levels. \nAll sessions will be recorded and presented by FAST\, and often in collaboration with other units. There is no registration required. \nThis session will be held on Thursday\, June 5th (12pm – 1pm) via MS Teams\, and will be presented by the F.A.S.T Team. \nTopic: Implementing the Procurement Restriction Policy \nAs communicated to the Divisional Finance Officers on April 17\, 2025\, the Province of Ontario recently announced a Procurement Restriction Policy that limits the University’s ability to engage with U.S. businesses for the purchase of goods or services. While approximately 90% of The University of Toronto’s procurement spend is already directed to Canadian companies\, the Procurement Restriction Policy applies to all new procurements\, except in circumstances where engagement with a U.S. business is justified by necessity. \nA U.S. Business is defined as any company headquartered in the U.S. with fewer than 250 full-time employees in Canada. Purchases from U.S. Businesses are still permitted if the vendor is the only viable source for the good or service being purchased and if the procurement of that good or service cannot be delayed. Appropriate justiﬁcation\, documentation\, approval requirements\, and reporting obligations apply. \nRegister for the Lunch and Learn information session \n\nHave any ideas for topics we could cover? Take a few minutes to COMPLETE THIS SURVEY to submit your ideas for future topics. \nIf you have any questions\, please contact rames.paramsothy@utoronto.ca.
URL:https://finance.utoronto.ca/event/lunch-learn-june-2025-implementing-the-procurement-restriction-policy/
LOCATION:MS Teams
CATEGORIES:FAST Lunch and Learn,Information Sessions,Training,Workshops
ORGANIZER;CN="Sandra Nelson":MAILTO:sandy.nelson@utoronto.ca
END:VEVENT
END:VCALENDAR