BEGIN:VCALENDAR
VERSION:2.0
PRODID:-//Financial Services - ECPv6.15.20//NONSGML v1.0//EN
CALSCALE:GREGORIAN
METHOD:PUBLISH
X-WR-CALNAME:Financial Services
X-ORIGINAL-URL:https://finance.utoronto.ca
X-WR-CALDESC:Events for Financial Services
REFRESH-INTERVAL;VALUE=DURATION:PT1H
X-Robots-Tag:noindex
X-PUBLISHED-TTL:PT1H
BEGIN:VTIMEZONE
TZID:America/Toronto
BEGIN:DAYLIGHT
TZOFFSETFROM:-0500
TZOFFSETTO:-0400
TZNAME:EDT
DTSTART:20160313T070000
END:DAYLIGHT
BEGIN:STANDARD
TZOFFSETFROM:-0400
TZOFFSETTO:-0500
TZNAME:EST
DTSTART:20161106T060000
END:STANDARD
BEGIN:DAYLIGHT
TZOFFSETFROM:-0500
TZOFFSETTO:-0400
TZNAME:EDT
DTSTART:20170312T070000
END:DAYLIGHT
BEGIN:STANDARD
TZOFFSETFROM:-0400
TZOFFSETTO:-0500
TZNAME:EST
DTSTART:20171105T060000
END:STANDARD
BEGIN:DAYLIGHT
TZOFFSETFROM:-0500
TZOFFSETTO:-0400
TZNAME:EDT
DTSTART:20180311T070000
END:DAYLIGHT
BEGIN:STANDARD
TZOFFSETFROM:-0400
TZOFFSETTO:-0500
TZNAME:EST
DTSTART:20181104T060000
END:STANDARD
END:VTIMEZONE
BEGIN:VEVENT
DTSTART;TZID=America/Toronto:20170503T133000
DTEND;TZID=America/Toronto:20170503T153000
DTSTAMP:20260420T230557
CREATED:20161117T185937Z
LAST-MODIFIED:20161117T185937Z
UID:6548-1493818200-1493825400@finance.utoronto.ca
SUMMARY:FIS Advanced Reporting: Year-end Operating Reserves
DESCRIPTION:Year-end Operating Reserves are a division’s net overspending (deficit) or underspending (surplus) amount at the end of a fiscal year. Accurately calculating the operating reserves can play an important role in determining your divisions’ budget for the upcoming fiscal year. \nThis course will introduce you to the best practices and processes involved in year-end operating reserve reporting. \nTopics include: \n\nDefinition of an Operating Reserve\nCalculating the Year-End Operating Reserve (single & multiple Funds Centers)\nThe University’s Operating Reserve Policy\nFeatures and characteristics of various Operating Reserve reports\n\nPrior to attending this course\, it is recommended that you complete the following Standard Curriculum courses: \n\nFIS Overview\nBasic Funds Management (FM) Reporting\nBasic Controlling (CO) Reporting\n\ne-Token – not required \n  \nREGISTER
URL:https://finance.utoronto.ca/event/fis-advanced-reporting-year-end-operating-reserves-2/
LOCATION:256 McCaul St\, Room 103\, 256 McCaul St\, Toronto\, Canada
CATEGORIES:Courses,Reporting,Training,Workshops
ORGANIZER;CN="Rames Paramsothy":MAILTO:rames.paramsothy@utoronto.ca
END:VEVENT
END:VCALENDAR