BEGIN:VCALENDAR
VERSION:2.0
PRODID:-//Financial Services - ECPv6.15.20//NONSGML v1.0//EN
CALSCALE:GREGORIAN
METHOD:PUBLISH
X-WR-CALNAME:Financial Services
X-ORIGINAL-URL:https://finance.utoronto.ca
X-WR-CALDESC:Events for Financial Services
REFRESH-INTERVAL;VALUE=DURATION:PT1H
X-Robots-Tag:noindex
X-PUBLISHED-TTL:PT1H
BEGIN:VTIMEZONE
TZID:America/Toronto
BEGIN:DAYLIGHT
TZOFFSETFROM:-0500
TZOFFSETTO:-0400
TZNAME:EDT
DTSTART:20190310T070000
END:DAYLIGHT
BEGIN:STANDARD
TZOFFSETFROM:-0400
TZOFFSETTO:-0500
TZNAME:EST
DTSTART:20191103T060000
END:STANDARD
BEGIN:DAYLIGHT
TZOFFSETFROM:-0500
TZOFFSETTO:-0400
TZNAME:EDT
DTSTART:20200308T070000
END:DAYLIGHT
BEGIN:STANDARD
TZOFFSETFROM:-0400
TZOFFSETTO:-0500
TZNAME:EST
DTSTART:20201101T060000
END:STANDARD
BEGIN:DAYLIGHT
TZOFFSETFROM:-0500
TZOFFSETTO:-0400
TZNAME:EDT
DTSTART:20210314T070000
END:DAYLIGHT
BEGIN:STANDARD
TZOFFSETFROM:-0400
TZOFFSETTO:-0500
TZNAME:EST
DTSTART:20211107T060000
END:STANDARD
END:VTIMEZONE
BEGIN:VEVENT
DTSTART;TZID=America/Toronto:20200121T090000
DTEND;TZID=America/Toronto:20200121T123000
DTSTAMP:20260422T110152
CREATED:20191119T151133Z
LAST-MODIFIED:20191119T154808Z
UID:11460-1579597200-1579609800@finance.utoronto.ca
SUMMARY:FIS Overview (SC Course 1)
DESCRIPTION:This course provides a basic understanding of how Financial Information Systems (FIS) is used to facilitate administrative financial management while introducing common terms and concepts used in FIS. \nThis is the prerequisite for all new FIS users who plan to complete the Standard Curriculum. \nTopics include: \n\nIntroduction to the terms and concepts used in FIS\nUnderstanding the big picture of Funds Management and Controlling within the FIS system\nOverview of types of master data in Funds Management and Controlling\nOverview of Funds Management and Controlling hierarchies including commitment items\, cost elements\, commitment funds centers\, cost centers and internal orders.\n\nPrior to attending this class\, please read the Introduction to FIS document. \nPre-requisites: none \nE-Token – For this particular course the attendee should have an activated e-Token. If you do not have an e-Token assigned to you\, please inform the instructor and someone will log you in when you arrive. Information on obtaining and activating an e-Token can be found at the following link. \nE-Token Information \n\n  \nREGISTER
URL:https://finance.utoronto.ca/event/fis-overview-sc-course-1/
LOCATION:256 McCaul St\, Room 103\, 256 McCaul St\, Toronto\, Canada
CATEGORIES:Courses,Standard Curriculum,Training
ORGANIZER;CN="Rames Paramsothy":MAILTO:rames.paramsothy@utoronto.ca
END:VEVENT
BEGIN:VEVENT
DTSTART;TZID=America/Toronto:20200121T130000
DTEND;TZID=America/Toronto:20200121T163000
DTSTAMP:20260422T110152
CREATED:20191119T151538Z
LAST-MODIFIED:20191119T151903Z
UID:11462-1579611600-1579624200@finance.utoronto.ca
SUMMARY:FIS Overview (SC Course 1)
DESCRIPTION:This course provides a basic understanding of how Financial Information Systems (FIS) is used to facilitate administrative financial management while introducing common terms and concepts used in FIS. \nThis is the prerequisite for all new FIS users who plan to complete the Standard Curriculum. \nTopics include: \n\nIntroduction to the terms and concepts used in FIS\nUnderstanding the big picture of Funds Management and Controlling within the FIS system\nOverview of types of master data in Funds Management and Controlling\nOverview of Funds Management and Controlling hierarchies including commitment items\, cost elements\, commitment funds centers\, cost centers and internal orders.\n\nPrior to attending this class\, please read the Introduction to FIS document. \nPre-requisites: none \nE-Token – For this particular course the attendee should have an activated e-Token. If you do not have an e-Token assigned to you\, please inform the instructor and someone will log you in when you arrive. Information on obtaining and activating an e-Token can be found at the following link. \nE-Token Information \n\n  \nREGISTER
URL:https://finance.utoronto.ca/event/fis-overview-sc-course-1-2/
LOCATION:256 McCaul St\, Room 103\, 256 McCaul St\, Toronto\, Canada
CATEGORIES:Courses,Standard Curriculum,Training
ORGANIZER;CN="Rames Paramsothy":MAILTO:rames.paramsothy@utoronto.ca
END:VEVENT
BEGIN:VEVENT
DTSTART;TZID=America/Toronto:20200128T130000
DTEND;TZID=America/Toronto:20200128T163000
DTSTAMP:20260422T110152
CREATED:20191119T152341Z
LAST-MODIFIED:20191119T152743Z
UID:11465-1580216400-1580229000@finance.utoronto.ca
SUMMARY:Accounts Payable (A/P) Processing Part 1 - Basic Data Entry (SC Course 2)
DESCRIPTION:This course is designed for new Financial Information Systems (FIS) users who are expected to complete A/P invoices\, Petty Cash and / or Imprest Reimbursements within FIS. \nSpecifically\, it focuses on identifying and entering information within the Accounts Payable – Invoice Document Entry screen for various financial transactions. \nTopics include: \n\nWhen to use the Accounts Payable – Invoice Document Entry screen\nIdentifying the information required to process a transaction\nHow to process a transaction in FIS using this screen (e.g.\, entering an invoice\, credit memo)\n\nPre-requisites: FIS Overview \nE-Token: For this particular course the attendee should have an activated e-Token. If you do not have an e-Token assigned to you\, please inform the instructor and someone will log you in when you arrive. Information on obtaining and activating an e-Token can be found at the following link. \nE-Token Information \n\n\nREGISTER
URL:https://finance.utoronto.ca/event/accounts-payable-a-p-processing-part-1-basic-data-entry-sc-course-2/
LOCATION:256 McCaul St\, Room 103\, 256 McCaul St\, Toronto\, Canada
CATEGORIES:Courses,Standard Curriculum,Training
ORGANIZER;CN="Rames Paramsothy":MAILTO:rames.paramsothy@utoronto.ca
END:VEVENT
BEGIN:VEVENT
DTSTART;TZID=America/Toronto:20200129T093000
DTEND;TZID=America/Toronto:20200129T130000
DTSTAMP:20260422T110152
CREATED:20191119T152650Z
LAST-MODIFIED:20191119T152744Z
UID:11468-1580290200-1580302800@finance.utoronto.ca
SUMMARY:Accounts Payable (A/P) Processing Part 1 - Basic Data Entry (SC Course 2)
DESCRIPTION:This course is designed for new Financial Information Systems (FIS) users who are expected to complete A/P invoices\, Petty Cash and / or Imprest Reimbursements within FIS. \nSpecifically\, it focuses on identifying and entering information within the Accounts Payable – Invoice Document Entry screen for various financial transactions. \nTopics include: \n\nWhen to use the Accounts Payable – Invoice Document Entry screen\nIdentifying the information required to process a transaction\nHow to process a transaction in FIS using this screen (e.g.\, entering an invoice\, credit memo)\n\nPre-requisites: FIS Overview \nE-Token: For this particular course the attendee should have an activated e-Token. If you do not have an e-Token assigned to you\, please inform the instructor and someone will log you in when you arrive. Information on obtaining and activating an e-Token can be found at the following link. \nE-Token Information \n\n\nREGISTER
URL:https://finance.utoronto.ca/event/accounts-payable-a-p-processing-part-1-basic-data-entry-sc-course-2-2/
LOCATION:256 McCaul St\, Room 103\, 256 McCaul St\, Toronto\, Canada
CATEGORIES:Courses,Standard Curriculum,Training
ORGANIZER;CN="Rames Paramsothy":MAILTO:rames.paramsothy@utoronto.ca
END:VEVENT
END:VCALENDAR