BEGIN:VCALENDAR
VERSION:2.0
PRODID:-//Financial Services - ECPv6.15.20//NONSGML v1.0//EN
CALSCALE:GREGORIAN
METHOD:PUBLISH
X-ORIGINAL-URL:https://finance.utoronto.ca
X-WR-CALDESC:Events for Financial Services
REFRESH-INTERVAL;VALUE=DURATION:PT1H
X-Robots-Tag:noindex
X-PUBLISHED-TTL:PT1H
BEGIN:VTIMEZONE
TZID:America/Toronto
BEGIN:DAYLIGHT
TZOFFSETFROM:-0500
TZOFFSETTO:-0400
TZNAME:EDT
DTSTART:20250309T070000
END:DAYLIGHT
BEGIN:STANDARD
TZOFFSETFROM:-0400
TZOFFSETTO:-0500
TZNAME:EST
DTSTART:20251102T060000
END:STANDARD
BEGIN:DAYLIGHT
TZOFFSETFROM:-0500
TZOFFSETTO:-0400
TZNAME:EDT
DTSTART:20260308T070000
END:DAYLIGHT
BEGIN:STANDARD
TZOFFSETFROM:-0400
TZOFFSETTO:-0500
TZNAME:EST
DTSTART:20261101T060000
END:STANDARD
BEGIN:DAYLIGHT
TZOFFSETFROM:-0500
TZOFFSETTO:-0400
TZNAME:EDT
DTSTART:20270314T070000
END:DAYLIGHT
BEGIN:STANDARD
TZOFFSETFROM:-0400
TZOFFSETTO:-0500
TZNAME:EST
DTSTART:20271107T060000
END:STANDARD
END:VTIMEZONE
BEGIN:VEVENT
DTSTART;TZID=America/Toronto:20260514T100000
DTEND;TZID=America/Toronto:20260514T123000
DTSTAMP:20260423T050025
CREATED:20260203T201403Z
LAST-MODIFIED:20260203T201403Z
UID:23284-1778752800-1778761800@finance.utoronto.ca
SUMMARY:Basic Controlling Reporting (Course 9)
DESCRIPTION:Location: Virtual Training Session\nDuration: 2 hours\nFormat: Lecture + Demonstrations\nCourse Material \nThis course is designed for new and experienced Financial Information Systems (FIS) users and provides an overview of some commonly used Controlling reports. Specifically\, the course introduces commonly used Controlling (CO) reports\, the characteristics and functions of each report\, and how to interpret each reports’ output data. \nTopics include:\n\nCommon Controlling (CO) reports and their features\nIdentifying the budget a financial transaction was posted to\nComparing plan to actual financial activity\nIdentifying outstanding Commitments against Cost Centers / Internal Orders\n\nPrior to attending this course it is required that you attend the FIS Overview. \n\nClick Here to REGISTER
URL:https://finance.utoronto.ca/event/basic-controlling-reporting-course-9-26/
LOCATION:Virtual Session – Adobe Connect
CATEGORIES:Courses,Standard Curriculum,Training,Workshops
END:VEVENT
END:VCALENDAR