BEGIN:VCALENDAR
VERSION:2.0
PRODID:-//Financial Services - ECPv6.15.20//NONSGML v1.0//EN
CALSCALE:GREGORIAN
METHOD:PUBLISH
X-ORIGINAL-URL:https://finance.utoronto.ca
X-WR-CALDESC:Events for Financial Services
REFRESH-INTERVAL;VALUE=DURATION:PT1H
X-Robots-Tag:noindex
X-PUBLISHED-TTL:PT1H
BEGIN:VTIMEZONE
TZID:America/Toronto
BEGIN:DAYLIGHT
TZOFFSETFROM:-0500
TZOFFSETTO:-0400
TZNAME:EDT
DTSTART:20150308T070000
END:DAYLIGHT
BEGIN:STANDARD
TZOFFSETFROM:-0400
TZOFFSETTO:-0500
TZNAME:EST
DTSTART:20151101T060000
END:STANDARD
BEGIN:DAYLIGHT
TZOFFSETFROM:-0500
TZOFFSETTO:-0400
TZNAME:EDT
DTSTART:20160313T070000
END:DAYLIGHT
BEGIN:STANDARD
TZOFFSETFROM:-0400
TZOFFSETTO:-0500
TZNAME:EST
DTSTART:20161106T060000
END:STANDARD
BEGIN:DAYLIGHT
TZOFFSETFROM:-0500
TZOFFSETTO:-0400
TZNAME:EDT
DTSTART:20170312T070000
END:DAYLIGHT
BEGIN:STANDARD
TZOFFSETFROM:-0400
TZOFFSETTO:-0500
TZNAME:EST
DTSTART:20171105T060000
END:STANDARD
END:VTIMEZONE
BEGIN:VEVENT
DTSTART;TZID=America/Toronto:20160301T133000
DTEND;TZID=America/Toronto:20160301T163000
DTSTAMP:20260421T140758
CREATED:20151201T184430Z
LAST-MODIFIED:20151201T184430Z
UID:4258-1456839000-1456849800@finance.utoronto.ca
SUMMARY:8. Basic Funds Management Reporting
DESCRIPTION:Duration: 3 hours\nFormat: Lecture + Demonstrations \nDo you want to learn how you can determine how much money you have in your Funds Center or Funds Center/Fund combination? What about locating what has been charged to your accounts? \nThis course is designed for new Financial Information Systems (FIS) users\, and provides an overview of Funds Management (FM) reports that will enable you to answer these questions. \nTopics include: \n\nThe purpose of Funds Management (FM) reporting\nCommon FM reports and their features\n\nPre-requisites: It is highly recommended that this course be completed after the preceding Standard Curriculum courses. \n  \nREGISTER \n 
URL:https://finance.utoronto.ca/event/8-basic-funds-management-reporting/
LOCATION:256 McCaul St\, Room 103\, 256 McCaul St\, Toronto\, Canada
CATEGORIES:Courses,Standard Curriculum,Training
ORGANIZER;CN="Rames Paramsothy":MAILTO:rames.paramsothy@utoronto.ca
END:VEVENT
BEGIN:VEVENT
DTSTART;TZID=America/Toronto:20160302T123000
DTEND;TZID=America/Toronto:20160302T140000
DTSTAMP:20260421T140758
CREATED:20151202T204923Z
LAST-MODIFIED:20151211T202312Z
UID:4398-1456921800-1456927200@finance.utoronto.ca
SUMMARY:GET HELP FAST drop-in Session
DESCRIPTION:This drop-in session is meant to provide FIS\, HRIS\, uSOURCE and RIS/MRA/MROL users with one-on-one support with experienced members of the Financial Advisory Services and Training (FAST) team\, HRIS\, Procurement Services and RIS. \nHighlights of the program include: \n\nUsers receive help with their specific work issues\nConvenient lunch time hours\nNo lectures or exercises – bring your actual work and GET HELP!\nNo registration required – just come in during the scheduled hours
URL:https://finance.utoronto.ca/event/get-help-fast-drop-in-session-4/
LOCATION:256 McCaul St\, Room 103\, 256 McCaul St\, Toronto\, Canada
CATEGORIES:Get Help FAST,Training
ORGANIZER;CN="Rames Paramsothy":MAILTO:rames.paramsothy@utoronto.ca
END:VEVENT
BEGIN:VEVENT
DTSTART;TZID=America/Toronto:20160303T133000
DTEND;TZID=America/Toronto:20160303T163000
DTSTAMP:20260421T140758
CREATED:20151201T184616Z
LAST-MODIFIED:20151202T171619Z
UID:4260-1457011800-1457022600@finance.utoronto.ca
SUMMARY:9. Basic Controlling Reporting
DESCRIPTION:Duration: 3 hours\nFormat: Lecture + Demonstrations \nThis course is designed for new Financial Information Systems (FIS) users and provides an overview of some commonly used Controlling reports. \nSpecifically\, the course introduces commonly used Controlling (CO) reports\, the characteristics and functions of each report\, and how to interpret each reports’ output data. \nTopics include: \n\nCommon Controlling (CO) reports and their features\nIdentifying the budget a financial transaction was posted to\nComparing plan to actual financial activity\nIdentifying outstanding Commitments against Cost Centres / Internal Orders\n\nPre-requisites: It is highly recommended that this course be completed after the preceding Standard Curriculum courses. \n  \nREGISTER
URL:https://finance.utoronto.ca/event/9-basic-controlling-reporting/
LOCATION:256 McCaul St\, Room 103\, 256 McCaul St\, Toronto\, Canada
CATEGORIES:Courses,Standard Curriculum,Training
ORGANIZER;CN="Rames Paramsothy":MAILTO:rames.paramsothy@utoronto.ca
END:VEVENT
BEGIN:VEVENT
DTSTART;TZID=America/Toronto:20160311T133000
DTEND;TZID=America/Toronto:20160311T153000
DTSTAMP:20260421T140758
CREATED:20160307T144944Z
LAST-MODIFIED:20160307T145019Z
UID:5702-1457703000-1457710200@finance.utoronto.ca
SUMMARY:Updating CO Plans for Operating Budgets
DESCRIPTION:Duration:  2 hours\nFormat:     Lecture\, Demonstration + Hands-on Practice Activity \nThis course will briefly review what happens during the Planning/Budget process and give a quick overview of the flow of information from the Target Letter to the Uploading of Plans. A representative from Planning & Budget will be on hand to answer questions regarding Planning & Budget policies and processes (e.g. Target Letter\, B6\, etc.). Details of how to manually update CO plans in FIS and how to use an Excel template to upload finalized plans to FIS will be demonstrated. \n(NOTE: This course does NOT review the B6 editing process.) \nTopics Covered: \n\nWhy update CO Plans\nHow to use Excel 2010 to quickly extract B6 data and incorporate it in the Plans\nHow to update Plans manually and by mass upload\nWhat the Linking Table is\nHow to compare CO Plans to FM Budgets\n\n  \nPrior to attending this course\, it is highly recommended that you complete the following FIS Standard Curriculum course: \n\nFIS Overview\nBasic Controlling (CO) Reporting\n\n  \nPrior to attending this course\, it is highly recommended that you complete the FIS Standard Curriculum. \nREGISTER
URL:https://finance.utoronto.ca/event/5702/
LOCATION:256 McCaul St\, Room 103\, 256 McCaul St\, Toronto\, Canada
CATEGORIES:Courses,Dates and Deadlines,Training,Workshops
ORGANIZER;CN="Rames Paramsothy":MAILTO:rames.paramsothy@utoronto.ca
END:VEVENT
BEGIN:VEVENT
DTSTART;TZID=America/Toronto:20160315T113000
DTEND;TZID=America/Toronto:20160315T130000
DTSTAMP:20260421T140758
CREATED:20151202T205018Z
LAST-MODIFIED:20160201T203923Z
UID:4399-1458041400-1458046800@finance.utoronto.ca
SUMMARY:GET HELP FAST drop-in Session
DESCRIPTION:This drop-in session is meant to provide FIS\, HRIS\, uSOURCE and RIS/MRA/MROL users with one-on-one support with experienced members of the Financial Advisory Services and Training (FAST) team\, HRIS\, Procurement Services and RIS. \nHighlights of the program include: \n\nUsers receive help with their specific work issues\nConvenient lunch time hours\nNo lectures or exercises – bring your actual work and GET HELP!\nNo registration required – just come in during the scheduled hours
URL:https://finance.utoronto.ca/event/get-help-fast-drop-in-session-5/
LOCATION:256 McCaul St\, Room 103\, 256 McCaul St\, Toronto\, Canada
CATEGORIES:Get Help FAST,Training
ORGANIZER;CN="Rames Paramsothy":MAILTO:rames.paramsothy@utoronto.ca
END:VEVENT
BEGIN:VEVENT
DTSTART;TZID=America/Toronto:20160328T133000
DTEND;TZID=America/Toronto:20160328T163000
DTSTAMP:20260421T140758
CREATED:20151201T184823Z
LAST-MODIFIED:20151201T184921Z
UID:4261-1459171800-1459182600@finance.utoronto.ca
SUMMARY:1. FIS Overview
DESCRIPTION:Duration: 3 hours\nFormat: Lecture + Demonstrations \nThis course provides a basic understanding of how Financial Information Systems (FIS) is used to facilitate administrative financial management while introducing common terms and concepts used in FIS. \nThis is the prerequisite for all new FIS users who plan to complete the Standard Curriculum. \nTopics include: \n\nIntroduction to the terms and concepts used in FIS\nUnderstanding the big picture of Funds Management and Controlling within the FIS system\nOverview of types of master data in Funds Management and Controlling\nOverview of Funds Management and Controlling hierarchies including commitment items\, cost elements\, commitment funds centres\, cost centres and iternal orders.\n\nPrior to attending this class\, please read the Introduction to FIS document. \nPre-requisites: none \n  \nREGISTER
URL:https://finance.utoronto.ca/event/1-fis-overview/
LOCATION:256 McCaul St\, Room 103\, 256 McCaul St\, Toronto\, Canada
CATEGORIES:Courses,Standard Curriculum,Training
ORGANIZER;CN="Rames Paramsothy":MAILTO:rames.paramsothy@utoronto.ca
END:VEVENT
BEGIN:VEVENT
DTSTART;TZID=America/Toronto:20160330T093000
DTEND;TZID=America/Toronto:20160330T123000
DTSTAMP:20260421T140758
CREATED:20160324T180351Z
LAST-MODIFIED:20160324T180351Z
UID:5768-1459330200-1459341000@finance.utoronto.ca
SUMMARY:1. FIS Overview
DESCRIPTION:Duration: 3 hours\nFormat: Lecture + Demonstrations \nThis course provides a basic understanding of how Financial Information Systems (FIS) is used to facilitate administrative financial management while introducing common terms and concepts used in FIS. \nThis is the prerequisite for all new FIS users who plan to complete the Standard Curriculum. \nTopics include: \n\nIntroduction to the terms and concepts used in FIS\nUnderstanding the big picture of Funds Management and Controlling within the FIS system\nOverview of types of master data in Funds Management and Controlling\nOverview of Funds Management and Controlling hierarchies including commitment items\, cost elements\, commitment funds centres\, cost centres and iternal orders.\n\nPrior to attending this class\, please read the Introduction to FIS document. \nPre-requisites: none \nREGISTER
URL:https://finance.utoronto.ca/event/1-fis-overview-4/
LOCATION:256 McCaul St\, Room 103\, 256 McCaul St\, Toronto\, Canada
CATEGORIES:Courses,Standard Curriculum,Training
ORGANIZER;CN="Rames Paramsothy":MAILTO:rames.paramsothy@utoronto.ca
END:VEVENT
BEGIN:VEVENT
DTSTART;TZID=America/Toronto:20160331T123000
DTEND;TZID=America/Toronto:20160331T140000
DTSTAMP:20260421T140758
CREATED:20151202T205108Z
LAST-MODIFIED:20151211T202211Z
UID:4400-1459427400-1459432800@finance.utoronto.ca
SUMMARY:GET HELP FAST drop-in Session
DESCRIPTION:This drop-in session is meant to provide FIS\, HRIS\, uSOURCE and RIS/MRA/MROL users with one-on-one support with experienced members of the Financial Advisory Services and Training (FAST) team\, HRIS\, Procurement Services and RIS. \nHighlights of the program include: \n\nUsers receive help with their specific work issues\nConvenient lunch time hours\nNo lectures or exercises – bring your actual work and GET HELP!\nNo registration required – just come in during the scheduled hours
URL:https://finance.utoronto.ca/event/get-help-fast-drop-in-session-6/
LOCATION:256 McCaul St\, Room 103\, 256 McCaul St\, Toronto\, Canada
CATEGORIES:Get Help FAST,Training
ORGANIZER;CN="Rames Paramsothy":MAILTO:rames.paramsothy@utoronto.ca
END:VEVENT
END:VCALENDAR