BEGIN:VCALENDAR
VERSION:2.0
PRODID:-//Financial Services - ECPv6.15.20//NONSGML v1.0//EN
CALSCALE:GREGORIAN
METHOD:PUBLISH
X-WR-CALNAME:Financial Services
X-ORIGINAL-URL:https://finance.utoronto.ca
X-WR-CALDESC:Events for Financial Services
REFRESH-INTERVAL;VALUE=DURATION:PT1H
X-Robots-Tag:noindex
X-PUBLISHED-TTL:PT1H
BEGIN:VTIMEZONE
TZID:America/Toronto
BEGIN:DAYLIGHT
TZOFFSETFROM:-0500
TZOFFSETTO:-0400
TZNAME:EDT
DTSTART:20170312T070000
END:DAYLIGHT
BEGIN:STANDARD
TZOFFSETFROM:-0400
TZOFFSETTO:-0500
TZNAME:EST
DTSTART:20171105T060000
END:STANDARD
BEGIN:DAYLIGHT
TZOFFSETFROM:-0500
TZOFFSETTO:-0400
TZNAME:EDT
DTSTART:20180311T070000
END:DAYLIGHT
BEGIN:STANDARD
TZOFFSETFROM:-0400
TZOFFSETTO:-0500
TZNAME:EST
DTSTART:20181104T060000
END:STANDARD
BEGIN:DAYLIGHT
TZOFFSETFROM:-0500
TZOFFSETTO:-0400
TZNAME:EDT
DTSTART:20190310T070000
END:DAYLIGHT
BEGIN:STANDARD
TZOFFSETFROM:-0400
TZOFFSETTO:-0500
TZNAME:EST
DTSTART:20191103T060000
END:STANDARD
END:VTIMEZONE
BEGIN:VEVENT
DTSTART;TZID=America/Toronto:20180305T133000
DTEND;TZID=America/Toronto:20180305T163000
DTSTAMP:20260419T193207
CREATED:20180302T213318Z
LAST-MODIFIED:20180302T213318Z
UID:8975-1520256600-1520267400@finance.utoronto.ca
SUMMARY:1 - FIS Overview
DESCRIPTION:Duration:   3 hours\nFormat:      Lecture + Demonstrations \nThis course provides a basic understanding of how Financial Information Systems (FIS) is used to facilitate administrative financial management while introducing common terms and concepts used in FIS. \nThis is the prerequisite for all new FIS users who plan to complete the Standard Curriculum. \nTopics include: \n\nIntroduction to the terms and concepts used in FIS\nUnderstanding the big picture of Funds Management and Controlling within the FIS system\nOverview of types of master data in Funds Management and Controlling\nOverview of Funds Management and Controlling hierarchies including commitment items\, cost elements\, commitment funds centers\, cost centers and internal orders.\n\nPrior to attending this class\, please read the Introduction to FIS document. \nPre-requisites: none \nE-Token – For this particular course the attendee should have an activated e-Token. If you do not have an e-Token assigned to you\, please inform the instructor and someone will log you in when you arrive. \n  \nREGISTER
URL:https://finance.utoronto.ca/event/1-fis-overview-28/
LOCATION:256 McCaul St\, Room 103\, 256 McCaul St\, Toronto\, Canada
CATEGORIES:Courses,Standard Curriculum,Training
ORGANIZER;CN="Rames Paramsothy":MAILTO:rames.paramsothy@utoronto.ca
END:VEVENT
BEGIN:VEVENT
DTSTART;TZID=America/Toronto:20180306T133000
DTEND;TZID=America/Toronto:20180306T163000
DTSTAMP:20260419T193207
CREATED:20171113T192031Z
LAST-MODIFIED:20171113T192031Z
UID:8000-1520343000-1520353800@finance.utoronto.ca
SUMMARY:9 - Basic Controlling Reporting
DESCRIPTION:Duration: 3 hours\nFormat: Lecture + Demonstrations \nThis course is designed for new Financial Information Systems (FIS) users and provides an overview of some commonly used Controlling reports. \nSpecifically\, the course introduces commonly used Controlling (CO) reports\, the characteristics and functions of each report\, and how to interpret each reports’ output data. \nTopics include: \n\nCommon Controlling (CO) reports and their features\nIdentifying the budget a financial transaction was posted to\nComparing plan to actual financial activity\nIdentifying outstanding Commitments against Cost Centres / Internal Orders\n\nPre-requisites: It is highly recommended that this course be completed after the preceding Standard Curriculum courses. \nE-Token – For this particular course the attendee should have an activated e-Token. If you do not have an e-Token assigned to you\, please inform the instructor and someone will log you in when you arrive. \n  \nREGISTER
URL:https://finance.utoronto.ca/event/9-basic-controlling-reporting-12/
LOCATION:256 McCaul St\, Room 103\, 256 McCaul St\, Toronto\, Canada
CATEGORIES:Courses,Standard Curriculum,Training
ORGANIZER;CN="Rames Paramsothy":MAILTO:rames.paramsothy@utoronto.ca
END:VEVENT
BEGIN:VEVENT
DTSTART;TZID=America/Toronto:20180307T093000
DTEND;TZID=America/Toronto:20180307T113000
DTSTAMP:20260419T193207
CREATED:20171113T192239Z
LAST-MODIFIED:20171113T192301Z
UID:8002-1520415000-1520422200@finance.utoronto.ca
SUMMARY:FIS Workshop - Updating CO Plans for Operating Budgets
DESCRIPTION:This course will briefly review what happens during the Planning/Budget process and give a quick overview of the flow of information from the Target Letter to the Uploading of Plans. A representative from Planning & Budget will be on hand to answer questions regarding Planning & Budget policies and processes (e.g. Target Letter\, B6\, etc.). Details of how to manually update CO plans in FIS and how to use an Excel template to upload finalized plans to FIS will be demonstrated. \n(NOTE: This course does NOT review the B6 editing process.) \nTopics Covered: \n\nWhy update CO Plans\nHow to use Excel 2010 to quickly extract B6 data and incorporate it in the Plans\nHow to update Plans manually and by mass upload\nWhat the Linking Table is\nHow to compare CO Plans to FM Budgets\n\nE-Token – All attendees should have an activated e-Token. If you do not have an e-Token assigned to you\, please inform the instructor and someone will log you in when you arrive. \n  \nREGISTER
URL:https://finance.utoronto.ca/event/fis-workshop-updating-co-plans-operating-budgets-6/
LOCATION:256 McCaul St\, Room 103\, 256 McCaul St\, Toronto\, Canada
CATEGORIES:Courses,Reporting,Training,Workshops
ORGANIZER;CN="Rames Paramsothy":MAILTO:rames.paramsothy@utoronto.ca
END:VEVENT
BEGIN:VEVENT
DTSTART;TZID=America/Toronto:20180327T133000
DTEND;TZID=America/Toronto:20180327T163000
DTSTAMP:20260419T193207
CREATED:20171113T192500Z
LAST-MODIFIED:20171113T192500Z
UID:8004-1522157400-1522168200@finance.utoronto.ca
SUMMARY:1 - FIS Overview
DESCRIPTION:Duration:   3 hours\nFormat:      Lecture + Demonstrations \nThis course provides a basic understanding of how Financial Information Systems (FIS) is used to facilitate administrative financial management while introducing common terms and concepts used in FIS. \nThis is the prerequisite for all new FIS users who plan to complete the Standard Curriculum. \nTopics include: \n\nIntroduction to the terms and concepts used in FIS\nUnderstanding the big picture of Funds Management and Controlling within the FIS system\nOverview of types of master data in Funds Management and Controlling\nOverview of Funds Management and Controlling hierarchies including commitment items\, cost elements\, commitment funds centers\, cost centers and internal orders.\n\nPrior to attending this class\, please read the Introduction to FIS document. \nPre-requisites: none \nE-Token – For this particular course the attendee should have an activated e-Token. If you do not have an e-Token assigned to you\, please inform the instructor and someone will log you in when you arrive. \n  \nREGISTER
URL:https://finance.utoronto.ca/event/1-fis-overview-20/
LOCATION:256 McCaul St\, Room 103\, 256 McCaul St\, Toronto\, Canada
CATEGORIES:Courses,Standard Curriculum,Training
ORGANIZER;CN="Rames Paramsothy":MAILTO:rames.paramsothy@utoronto.ca
END:VEVENT
BEGIN:VEVENT
DTSTART;TZID=America/Toronto:20180328T093000
DTEND;TZID=America/Toronto:20180328T123000
DTSTAMP:20260419T193207
CREATED:20171113T192619Z
LAST-MODIFIED:20171113T193013Z
UID:8006-1522229400-1522240200@finance.utoronto.ca
SUMMARY:1 - FIS Overview
DESCRIPTION:Duration:   3 hours\nFormat:      Lecture + Demonstrations \nThis course provides a basic understanding of how Financial Information Systems (FIS) is used to facilitate administrative financial management while introducing common terms and concepts used in FIS. \nThis is the prerequisite for all new FIS users who plan to complete the Standard Curriculum. \nTopics include: \n\nIntroduction to the terms and concepts used in FIS\nUnderstanding the big picture of Funds Management and Controlling within the FIS system\nOverview of types of master data in Funds Management and Controlling\nOverview of Funds Management and Controlling hierarchies including commitment items\, cost elements\, commitment funds centers\, cost centers and internal orders.\n\nPrior to attending this class\, please read the Introduction to FIS document. \nPre-requisites: none \nE-Token – For this particular course the attendee should have an activated e-Token. If you do not have an e-Token assigned to you\, please inform the instructor and someone will log you in when you arrive. \n  \nREGISTER
URL:https://finance.utoronto.ca/event/1-fis-overview-21/
LOCATION:256 McCaul St\, Room 103\, 256 McCaul St\, Toronto\, Canada
CATEGORIES:Courses,Standard Curriculum,Training
ORGANIZER;CN="Rames Paramsothy":MAILTO:rames.paramsothy@utoronto.ca
END:VEVENT
END:VCALENDAR