BEGIN:VCALENDAR
VERSION:2.0
PRODID:-//Financial Services - ECPv6.15.20//NONSGML v1.0//EN
CALSCALE:GREGORIAN
METHOD:PUBLISH
X-WR-CALNAME:Financial Services
X-ORIGINAL-URL:https://finance.utoronto.ca
X-WR-CALDESC:Events for Financial Services
REFRESH-INTERVAL;VALUE=DURATION:PT1H
X-Robots-Tag:noindex
X-PUBLISHED-TTL:PT1H
BEGIN:VTIMEZONE
TZID:America/Toronto
BEGIN:DAYLIGHT
TZOFFSETFROM:-0500
TZOFFSETTO:-0400
TZNAME:EDT
DTSTART:20170312T070000
END:DAYLIGHT
BEGIN:STANDARD
TZOFFSETFROM:-0400
TZOFFSETTO:-0500
TZNAME:EST
DTSTART:20171105T060000
END:STANDARD
BEGIN:DAYLIGHT
TZOFFSETFROM:-0500
TZOFFSETTO:-0400
TZNAME:EDT
DTSTART:20180311T070000
END:DAYLIGHT
BEGIN:STANDARD
TZOFFSETFROM:-0400
TZOFFSETTO:-0500
TZNAME:EST
DTSTART:20181104T060000
END:STANDARD
BEGIN:DAYLIGHT
TZOFFSETFROM:-0500
TZOFFSETTO:-0400
TZNAME:EDT
DTSTART:20190310T070000
END:DAYLIGHT
BEGIN:STANDARD
TZOFFSETFROM:-0400
TZOFFSETTO:-0500
TZNAME:EST
DTSTART:20191103T060000
END:STANDARD
END:VTIMEZONE
BEGIN:VEVENT
DTSTART;TZID=America/Toronto:20180605T093000
DTEND;TZID=America/Toronto:20180605T130000
DTSTAMP:20260419T165347
CREATED:20171113T213737Z
LAST-MODIFIED:20171113T213737Z
UID:8047-1528191000-1528203600@finance.utoronto.ca
SUMMARY:5 – A/P and G/L Account Postings Troubleshooting
DESCRIPTION:Duration: 3.5  hours\nFormat: Lecture\, Demonstrations + Hands-on Practice Activities \nThis course is designed for Financial Information Systems (FIS) users who input accounts payable and/or journal entry type documents on a regular basis. \nSpecifically\, troubleshooting tips will be provided to help you deal with system warning / error messages and / or missing information during  and after the data entry process. \nTopics include: \n\nInterpreting system warning/error messages\nTroubleshooting errors DURING the data entry process and AFTER a document has been posted\nReversing posted documents\nProcessing a correcting Journal Entry\nMaking corrections to a Accounts Payable (A/P) document\n\nPre-requisites: It is highly recommended that this course be completed after the preceding Standard Curriculum courses. \nE-Token – For this particular course the attendee should have an activated e-Token. If you do not have an e-Token assigned to you\, please inform the instructor and someone will log you in when you arrive. \n  \nREGISTER
URL:https://finance.utoronto.ca/event/5-ap-gl-account-postings-troubleshooting-9/
LOCATION:256 McCaul St\, Room 103\, 256 McCaul St\, Toronto\, Canada
CATEGORIES:Courses,Standard Curriculum,Training
ORGANIZER;CN="Rames Paramsothy":MAILTO:rames.paramsothy@utoronto.ca
END:VEVENT
BEGIN:VEVENT
DTSTART;TZID=America/Toronto:20180607T093000
DTEND;TZID=America/Toronto:20180607T163000
DTSTAMP:20260419T165347
CREATED:20171113T213907Z
LAST-MODIFIED:20171113T214217Z
UID:8049-1528363800-1528389000@finance.utoronto.ca
SUMMARY:6 - Logistics - Purchase Requisitions & Purchase Orders Part 1
DESCRIPTION:Duration: 7 hours\nFormat: Lecture\, Demonstrations + Hands-on Practice Activities \nThis course is designed for all Financial Information Systems (FIS) users who will be processing Purchase Orders (PO) and Purchase Requisitions (PR). \nSpecifically\, this course provides an overview of the differences between a Purchase Order (PO) and a Purchase Requisition (PR) and how to process each in FIS. \nTopics include: \n\nReview of the Purchasing Cycle at the University\nWhat are PRs and POs\nWhen are PRs and POs required\nCreating\, changing and deleting POs\n\nPrior to taking this course\, review the following supporting document to get a overview of the Purchasing Cycle: \n\n\n\nThe Purchasing Cycle at the University\n\n\n\nPre-requisites: It is highly recommended that this course be completed after the preceding Standard Curriculum courses. \nE-Token – All attendees should have an activated e-Token. If you do not have an e-Token assigned to you\, please inform the instructor and someone will log you in when you arrive. \nREGISTER
URL:https://finance.utoronto.ca/event/6-logistics-purchase-requisitions-purchase-orders-part-1-6/
LOCATION:256 McCaul St\, Room 103\, 256 McCaul St\, Toronto\, Canada
CATEGORIES:Courses,Standard Curriculum,Training
ORGANIZER;CN="Rames Paramsothy":MAILTO:rames.paramsothy@utoronto.ca
END:VEVENT
BEGIN:VEVENT
DTSTART;TZID=America/Toronto:20180612T133000
DTEND;TZID=America/Toronto:20180612T153000
DTSTAMP:20260419T165347
CREATED:20171113T214336Z
LAST-MODIFIED:20171113T214336Z
UID:8051-1528810200-1528817400@finance.utoronto.ca
SUMMARY:Earmarked Funds (i.e. Manual Reserves)
DESCRIPTION:Earmarked Funds (a.k.a.\, Manual Reserves\, Funds Commitments and Encumbrances) are created by departments in FIS to reserve available budget dollars for expenses that are not processed through HRIS (e.g.\, payroll) or Logistics (e.g.\, POs). They enable you to set aside/reserve budget dollars for future expenditures. \nThis workshop defines Earmarked Funds and provides demonstrations of how to process and report them in FIS. \n  \nTopics include: \n\nWhat are Earmarked Funds and why we use them\nCreating Earmarked Funds\nMaking changes to Earmarked Funds\nGenerating reports on Earmarked Funds\n\nPrior to attending this course\, it is highly recommended that you complete the FIS Standard Curriculum. \n  \nE-Token – For this particular course the attendee should have an activated e-Token. If you do not have an e-Token assigned to you\, please inform the instructor and someone will log you in when you arrive. Information on obtaining and activating an e-Token can be found at the following link. \nFAQ: E-Token \n  \nREGISTER
URL:https://finance.utoronto.ca/event/earmarked-funds-e-manual-reserves-2/
LOCATION:256 McCaul St\, Room 103\, 256 McCaul St\, Toronto\, Canada
CATEGORIES:Courses,Training,Workshops
ORGANIZER;CN="Rames Paramsothy":MAILTO:rames.paramsothy@utoronto.ca
END:VEVENT
BEGIN:VEVENT
DTSTART;TZID=America/Toronto:20180613T093000
DTEND;TZID=America/Toronto:20180613T163000
DTSTAMP:20260419T165347
CREATED:20171113T214736Z
LAST-MODIFIED:20171113T214817Z
UID:8053-1528882200-1528907400@finance.utoronto.ca
SUMMARY:7 – Logistics Part 2: Goods Receipts & Invoice Receipts
DESCRIPTION:Duration: 7 hours\nFormat: Lecture\, Demonstrations + Hands-on Practice Activities \nThis course is designed for all Financial Information Systems (FIS) users who will be processing Purchase Orders (PO). \nSpecifically\, it provides an overview of Goods Receipts (GR) and Invoice Receipts (IR)\, how and when to process them and making adjustments to each when necessary. \nTopics include: \n\nUnderstanding the receiving process\nCreating\, changing and reversing GRs and IRs in FIS\nReturning goods to the vendors\nTracking GRs in departmental accounts\nProcessing adjustments to IRs (e.g.\, Stop Payments\, IR Reversals and Credit Memos)\n\nPrior to taking this course\, review the following supporting document to get a overview of the Purchasing Cycle: \n\n\n\nThe Purchasing Cycle at the University\n\n\n\nPre-requisites: It is highly recommended that this course be completed after the preceding Standard Curriculum courses\, particularly the Logistics Part 1 course. \ne-Token – For this particular course the attendee should have a e-Token and ensure that the token is activated. If you do not have an  e-Token assigned to you\, please inform the instructor and someone will log you in when you arrive. \n  \nREGISTER
URL:https://finance.utoronto.ca/event/7-logistics-part-2-goods-receipts-invoice-receipts-11/
LOCATION:256 McCaul St\, Room 103\, 256 McCaul St\, Toronto\, Canada
CATEGORIES:Courses,Standard Curriculum,Training
ORGANIZER;CN="Rames Paramsothy":MAILTO:rames.paramsothy@utoronto.ca
END:VEVENT
BEGIN:VEVENT
DTSTART;TZID=America/Toronto:20180618T133000
DTEND;TZID=America/Toronto:20180618T163000
DTSTAMP:20260419T165347
CREATED:20171113T214930Z
LAST-MODIFIED:20171113T215024Z
UID:8055-1529328600-1529339400@finance.utoronto.ca
SUMMARY:8 – Basic Funds Management Reporting
DESCRIPTION:Duration: 3 hours\nFormat: Lecture + Demonstrations \nDo you want to learn how you can determine how much money you have in your Funds Center or Funds Center/Fund combination? What about locating what has been charged to your accounts? \nThis course is designed for new Financial Information Systems (FIS) users\, and provides an overview of Funds Management (FM) reports that will enable you to answer these questions. \nTopics include: \n\nThe purpose of Funds Management (FM) reporting\nCommon FM reports and their features\n\nPre-requisites: It is highly recommended that this course be completed after the preceding Standard Curriculum courses. \nE-Token – For this particular course the attendee should have an activated e-Token. If you do not have an e-Token assigned to you\, please inform the instructor and someone will log you in when you arrive. \n  \nREGISTER
URL:https://finance.utoronto.ca/event/8-basic-funds-management-reporting-13/
LOCATION:256 McCaul St\, Room 103\, 256 McCaul St\, Toronto\, Canada
CATEGORIES:Courses,Reporting,Standard Curriculum,Training
ORGANIZER;CN="Rames Paramsothy":MAILTO:rames.paramsothy@utoronto.ca
END:VEVENT
BEGIN:VEVENT
DTSTART;TZID=America/Toronto:20180620T133000
DTEND;TZID=America/Toronto:20180620T163000
DTSTAMP:20260419T165347
CREATED:20171113T215132Z
LAST-MODIFIED:20171113T215138Z
UID:8057-1529501400-1529512200@finance.utoronto.ca
SUMMARY:9 – Basic Controlling Reporting
DESCRIPTION:Duration: 3 hours\nFormat: Lecture + Demonstrations \nThis course is designed for new Financial Information Systems (FIS) users and provides an overview of some commonly used Controlling reports. \nSpecifically\, the course introduces commonly used Controlling (CO) reports\, the characteristics and functions of each report\, and how to interpret each reports’ output data. \nTopics include: \n\nCommon Controlling (CO) reports and their features\nIdentifying the budget a financial transaction was posted to\nComparing plan to actual financial activity\nIdentifying outstanding Commitments against Cost Centers / Internal Orders\n\nPre-requisites: It is highly recommended that this course be completed after the preceding Standard Curriculum courses. \nE-Token – For this particular course the attendee should have an activated e-Token. If you do not have an e-Token assigned to you\, please inform the instructor and someone will log you in when you arrive. \n  \nREGISTER
URL:https://finance.utoronto.ca/event/9-basic-controlling-reporting-14/
LOCATION:256 McCaul St\, Room 103\, 256 McCaul St\, Toronto\, Canada
CATEGORIES:Courses,Reporting,Standard Curriculum,Training
ORGANIZER;CN="Rames Paramsothy":MAILTO:rames.paramsothy@utoronto.ca
END:VEVENT
BEGIN:VEVENT
DTSTART;TZID=America/Toronto:20180621T133000
DTEND;TZID=America/Toronto:20180621T153000
DTSTAMP:20260419T165347
CREATED:20171114T145642Z
LAST-MODIFIED:20171114T145642Z
UID:8059-1529587800-1529595000@finance.utoronto.ca
SUMMARY:FIS Advanced Reporting:  Reconciling & Reviewing Month-End Statements
DESCRIPTION:The university policy requires that all departments reconcile their actual transaction with their Statement of Accounts on a monthly basis. This ensures that all transactions are completely/accurately recorded in FIS. \nThis course walks you through the university’s month-end reconciliation policy\, guidelines and management reports. \nTopics include: \n\nUniversity month-end reconciliation policy\nStep-by-step walk through of the monthly reconciliation process\nCommon errors caught by Internal Audit\nMonth-end reconciliation reports (e.g.\, Statement of Accounts\, Payroll Distribution Report)\n\nPrior to attending this course\, it is recommended that you complete the FIS Standard Curriculum courses. \n  \nREGISTER
URL:https://finance.utoronto.ca/event/fis-advanced-reporting-reconciling-reviewing-month-end-statements-8/
LOCATION:256 McCaul St\, Room 103\, 256 McCaul St\, Toronto\, Canada
CATEGORIES:Courses,Reporting,Training,Workshops
ORGANIZER;CN="Rames Paramsothy":MAILTO:rames.paramsothy@utoronto.ca
END:VEVENT
END:VCALENDAR