BEGIN:VCALENDAR
VERSION:2.0
PRODID:-//Financial Services - ECPv6.15.20//NONSGML v1.0//EN
CALSCALE:GREGORIAN
METHOD:PUBLISH
X-ORIGINAL-URL:https://finance.utoronto.ca
X-WR-CALDESC:Events for Financial Services
REFRESH-INTERVAL;VALUE=DURATION:PT1H
X-Robots-Tag:noindex
X-PUBLISHED-TTL:PT1H
BEGIN:VTIMEZONE
TZID:America/Toronto
BEGIN:DAYLIGHT
TZOFFSETFROM:-0500
TZOFFSETTO:-0400
TZNAME:EDT
DTSTART:20190310T070000
END:DAYLIGHT
BEGIN:STANDARD
TZOFFSETFROM:-0400
TZOFFSETTO:-0500
TZNAME:EST
DTSTART:20191103T060000
END:STANDARD
BEGIN:DAYLIGHT
TZOFFSETFROM:-0500
TZOFFSETTO:-0400
TZNAME:EDT
DTSTART:20200308T070000
END:DAYLIGHT
BEGIN:STANDARD
TZOFFSETFROM:-0400
TZOFFSETTO:-0500
TZNAME:EST
DTSTART:20201101T060000
END:STANDARD
BEGIN:DAYLIGHT
TZOFFSETFROM:-0500
TZOFFSETTO:-0400
TZNAME:EDT
DTSTART:20210314T070000
END:DAYLIGHT
BEGIN:STANDARD
TZOFFSETFROM:-0400
TZOFFSETTO:-0500
TZNAME:EST
DTSTART:20211107T060000
END:STANDARD
END:VTIMEZONE
BEGIN:VEVENT
DTSTART;TZID=America/Toronto:20200415T100000
DTEND;TZID=America/Toronto:20200415T113000
DTSTAMP:20260422T082122
CREATED:20191120T153706Z
LAST-MODIFIED:20191120T153706Z
UID:11525-1586944800-1586950200@finance.utoronto.ca
SUMMARY:Year-end Operating Reserves (Reporting)
DESCRIPTION:Year-end Operating Reserves are a division’s net overspending (deficit) or underspending (surplus) amount at the end of a fiscal year. Accurately calculating the operating reserves can play an important role in determining your divisions’ budget for the upcoming fiscal year. \nThis course will introduce you to the best practices and processes involved in year-end operating reserve reporting. \nTopics include: \n\nDefinition of an Operating Reserve\nCalculating the Year-End Operating Reserve (single & multiple Funds Centers)\nThe University’s Operating Reserve Policy\nFeatures and characteristics of various Operating Reserve reports\n\nPrior to attending this course\, it is recommended that you complete the following Standard Curriculum courses: \n\nFIS Overview\nBasic Funds Management (FM) Reporting\nBasic Controlling (CO) Reporting\n\nE-Token – not required \n\n  \nREGISTER
URL:https://finance.utoronto.ca/event/year-end-operating-reserves-reporting/
LOCATION:256 McCaul St\, Room 103\, 256 McCaul St\, Toronto\, Canada
CATEGORIES:Courses,Reporting,Training,Workshops
ORGANIZER;CN="Rames Paramsothy":MAILTO:rames.paramsothy@utoronto.ca
END:VEVENT
BEGIN:VEVENT
DTSTART;TZID=America/Toronto:20200423T130000
DTEND;TZID=America/Toronto:20200423T163000
DTSTAMP:20260422T082122
CREATED:20200421T024152Z
LAST-MODIFIED:20200421T025616Z
UID:12318-1587646800-1587659400@finance.utoronto.ca
SUMMARY:Accounts Payable (A/P) Processing Part 1 - Basic Data Entry (SC Course 2)
DESCRIPTION:This course is designed for new Financial Information Systems (FIS) users who are expected to complete A/P invoices\, Petty Cash and / or Imprest Reimbursements within FIS. \nSpecifically\, it focuses on identifying and entering information within the Accounts Payable – Invoice Document Entry screen for various financial transactions. \nTopics include: \n\nWhen to use the Accounts Payable – Invoice Document Entry screen\nIdentifying the information required to process a transaction\nHow to process a transaction in FIS using this screen (e.g.\, entering an invoice\, credit memo)\n\nPre-requisites: FIS Overview \nE-Token: For this particular course the attendee should have an activated e-Token. If you do not have an e-Token assigned to you\, please inform the instructor and someone will log you in when you arrive. Information on obtaining and activating an e-Token can be found at the following link. \nE-Token Information \n\n\nREGISTER
URL:https://finance.utoronto.ca/event/accounts-payable-a-p-processing-part-1-basic-data-entry-sc-course-2-7/
LOCATION:Virtual Session – Adobe Connect
CATEGORIES:Courses,Standard Curriculum,Training
ORGANIZER;CN="Rames Paramsothy":MAILTO:rames.paramsothy@utoronto.ca
END:VEVENT
BEGIN:VEVENT
DTSTART;TZID=America/Toronto:20200427T133000
DTEND;TZID=America/Toronto:20200427T153000
DTSTAMP:20260422T082122
CREATED:20200421T040700Z
LAST-MODIFIED:20200421T040700Z
UID:12340-1587994200-1588001400@finance.utoronto.ca
SUMMARY:Managing Travel & Other Reimbursable Expenses (Workshop)
DESCRIPTION:Processing travel and other reimbursable expenses are some of the most common FIS transactions performed by University staff. \nThis workshop guides you through the provincial legislation that govern the University’s reimbursement policies\, University guidelines as well other information that will aid you when processing reimbursable travel expenses. \nTopics include: \n\nThe Ontario Expenses Directive and its impact on University business practices\nGeneral principles and guidelines governing travel expenses\nApproving and authorizing travel plans and expenses\nMethods of payment for reimbursing travel expenses\nAllowable travel and other reimbursable expenses\nCommon errors caught by Internal Audit\n\nPrior to attending this course\, it is recommended that you complete the FIS Standard Curriculum. \nPre-requisites: none \nE-Token: not required \n\n  \nREGISTER
URL:https://finance.utoronto.ca/event/managing-travel-other-reimbursable-expenses-workshop-7/
LOCATION:Virtual Session – Adobe Connect
CATEGORIES:Courses,Training,Workshops
ORGANIZER;CN="Rames Paramsothy":MAILTO:rames.paramsothy@utoronto.ca
END:VEVENT
BEGIN:VEVENT
DTSTART;TZID=America/Toronto:20200428T130000
DTEND;TZID=America/Toronto:20200428T163000
DTSTAMP:20260422T082122
CREATED:20200421T024519Z
LAST-MODIFIED:20200421T025825Z
UID:12321-1588078800-1588091400@finance.utoronto.ca
SUMMARY:Accounts Payable Processing Part 2: Expense Reimbursements (SC Course 3)
DESCRIPTION:This course is designed for Financial Information Systems (FIS) users who input Accounts Payable Expense Reimbursements. \nSpecifically\, it focuses on the how to post an Expense Reimbursement using either the Accounts Payable – Invoice document entry screen or the Expense Reimbursement Direct Deposit (ERDD) entry screen. \nTopics include: \n\nReimbursement options\nTax codes for Petty Cash and Expense Reimbursements\nWhen to use either the:\n\nAccounts Payable – Invoice document entry screen or\nExpense Reimbursement Direct Deposit screen\n\n\nCreating and reversing Expense Reimbursements\nCorrecting Expense Reimbursement documents\nCommon reimbursement errors\n\nPre-requisites: It is highly recommended that this course be completed after the preceding Standard Curriculum courses. \nE-Token: For this particular course the attendee should have an activated e-Token. If you do not have an e-Token assigned to you\, please inform the instructor and someone will log you in when you arrive. Information on obtaining and activating an e-Token can be found at the following link. \nE-Token Information \n\n  \nREGISTER
URL:https://finance.utoronto.ca/event/accounts-payable-processing-part-2-expense-reimbursements-sc-course-3-3/
LOCATION:Virtual Session – Adobe Connect
CATEGORIES:Courses,Standard Curriculum,Training
ORGANIZER;CN="Rames Paramsothy":MAILTO:rames.paramsothy@utoronto.ca
END:VEVENT
BEGIN:VEVENT
DTSTART;TZID=America/Toronto:20200430T130000
DTEND;TZID=America/Toronto:20200430T163000
DTSTAMP:20260422T082122
CREATED:20200421T024845Z
LAST-MODIFIED:20200421T025134Z
UID:12323-1588251600-1588264200@finance.utoronto.ca
SUMMARY:GL Account Postings - Basic Data Entry (SC Course 4)
DESCRIPTION:This course is designed for new Financial Information Systems (FIS)users\, and focuses on how to effectively post financial transactions using the G/L Account Posting screen. \nParticular attention will be paid to processing Internal Revenues and Expense Recoveries. \nTopics include: \n\nIdentifying the appropriate FIS screen for each financial transaction\nProcessing Internal Revenues and Expense Recoveries\nCorrecting posting errors using Journal Entries\nDisplaying or changing an existing financial document\nProcessing and handling Cash Receipts\n\nPre-requisites: It is highly recommended that this course be completed after the preceding Standard Curriculum courses. \nE-Token: For this particular course the attendee should have an activated e-Token. If you do not have an e-Token assigned to you\, please inform the instructor and someone will log you in when you arrive. Information on obtaining and activating an e-Token can be found at the following link. \nE-Token Information \n\n  \nREGISTER
URL:https://finance.utoronto.ca/event/gl-account-postings-basic-data-entry-sc-course-4-3/
LOCATION:Virtual Session – Adobe Connect
CATEGORIES:Courses,Standard Curriculum,Training
ORGANIZER;CN="Rames Paramsothy":MAILTO:rames.paramsothy@utoronto.ca
END:VEVENT
END:VCALENDAR