BEGIN:VCALENDAR
VERSION:2.0
PRODID:-//Financial Services - ECPv6.15.20//NONSGML v1.0//EN
CALSCALE:GREGORIAN
METHOD:PUBLISH
X-ORIGINAL-URL:https://finance.utoronto.ca
X-WR-CALDESC:Events for Financial Services
REFRESH-INTERVAL;VALUE=DURATION:PT1H
X-Robots-Tag:noindex
X-PUBLISHED-TTL:PT1H
BEGIN:VTIMEZONE
TZID:America/Toronto
BEGIN:DAYLIGHT
TZOFFSETFROM:-0500
TZOFFSETTO:-0400
TZNAME:EDT
DTSTART:20240310T070000
END:DAYLIGHT
BEGIN:STANDARD
TZOFFSETFROM:-0400
TZOFFSETTO:-0500
TZNAME:EST
DTSTART:20241103T060000
END:STANDARD
BEGIN:DAYLIGHT
TZOFFSETFROM:-0500
TZOFFSETTO:-0400
TZNAME:EDT
DTSTART:20250309T070000
END:DAYLIGHT
BEGIN:STANDARD
TZOFFSETFROM:-0400
TZOFFSETTO:-0500
TZNAME:EST
DTSTART:20251102T060000
END:STANDARD
BEGIN:DAYLIGHT
TZOFFSETFROM:-0500
TZOFFSETTO:-0400
TZNAME:EDT
DTSTART:20260308T070000
END:DAYLIGHT
BEGIN:STANDARD
TZOFFSETFROM:-0400
TZOFFSETTO:-0500
TZNAME:EST
DTSTART:20261101T060000
END:STANDARD
END:VTIMEZONE
BEGIN:VEVENT
DTSTART;TZID=America/Toronto:20251104T100000
DTEND;TZID=America/Toronto:20251104T123000
DTSTAMP:20260422T141252
CREATED:20250915T154627Z
LAST-MODIFIED:20250915T154627Z
UID:22553-1762250400-1762259400@finance.utoronto.ca
SUMMARY:G/L Account Postings: Basic Data Entry (Course 4)
DESCRIPTION:Location: Virtual Training Session\nFormat: Lecture\, Demonstrations + Hands-on Practice Activities\nCourse Material \nThis course is designed for new Financial Information Systems (FIS) users\, and focuses on how to effectively post financial transactions using the G/L Account Posting screen. Particular attention will be paid to processing Internal Revenues and Expense Recoveries. \nTopics include:\n\nIdentifying the appropriate FIS screen for each financial transaction\nProcessing Internal Revenues and Expense Recoveries\nCorrecting posting errors using Journal Entries\nDisplaying or changing an existing financial document\nProcessing and handling Cash Receipts\n\nSince much of this course builds on the preceding courses within the Standard Curriculum\, it is recommended that it be taken in sequence. The FIS Overview is required prior to completing this course. \n\nClick Here to REGISTER
URL:https://finance.utoronto.ca/event/g-l-account-postings-basic-data-entry-course-4-23/
LOCATION:Virtual Session – Adobe Connect
CATEGORIES:Courses,Standard Curriculum,Training
END:VEVENT
BEGIN:VEVENT
DTSTART;TZID=America/Toronto:20251107T100000
DTEND;TZID=America/Toronto:20251107T123000
DTSTAMP:20260422T141252
CREATED:20250915T154918Z
LAST-MODIFIED:20250915T154918Z
UID:22555-1762509600-1762518600@finance.utoronto.ca
SUMMARY:Troubleshooting A/P & G/L Account Postings (Course 5)
DESCRIPTION:Location: Virtual Training Session\nDuration: 2 hours\nFormat: Lecture\, Demonstrations + Hands-on Practice Activities\nCourse Material \nThis course is designed for Financial Information Systems (FIS) users who input accounts payable and/or journal entry type documents on a regular basis. Specifically\, troubleshooting tips will be provided to help you deal with system warning / error messages and / or missing information during and after the data entry process. \nTopics include:\n\nInterpreting system warning/error messages\nTroubleshooting errors DURING the data entry process and AFTER a document has been posted\nReversing posted documents\nProcessing a correcting Journal Entry\nMaking corrections to a Accounts Payable (A/P) document\n\nSince much of this course builds on the preceding courses within the Standard Curriculum\, it is recommended that it be taken in sequence. \n\nClick Here to REGISTER 
URL:https://finance.utoronto.ca/event/troubleshooting-a-p-g-l-account-postings-course-5-10/
LOCATION:Virtual Session – Adobe Connect
CATEGORIES:Courses,Standard Curriculum,Training
END:VEVENT
BEGIN:VEVENT
DTSTART;TZID=America/Toronto:20251112T100000
DTEND;TZID=America/Toronto:20251112T153000
DTSTAMP:20260422T141252
CREATED:20250915T155149Z
LAST-MODIFIED:20251104T171040Z
UID:22559-1762941600-1762961400@finance.utoronto.ca
SUMMARY:Logistics Part 1: Purchase Orders (Course 6)
DESCRIPTION:Location: Virtual Training Session\nDuration: 5.5 hours\nFormat: Lecture\, Demonstrations + Hands-on Practice Activities \nCourse Material \nThis course is designed for all Financial Information Systems (FIS) users who will be processing Purchase Orders (PO) and have completed the first 5 courses in the Standard Curriculum. Specifically\, this course provides an overview of the differences between a Purchase Order (PO) and a Purchase Requisition (PR) and how to process each in FIS. \nTopics include:\n\nReview of the Purchasing Cycle at the University\nWhat are PRs and POs\nWhen are PRs and POs required\nCreating\, changing and deleting POs\n\nPrior to taking this course\, review the following supporting document to get a overview of the Purchasing Cycle: \n\nThe Purchasing Cycle at the University\n\n\nClick Here to REGISTER
URL:https://finance.utoronto.ca/event/logistics-part-1-purchase-orders-course-6/
LOCATION:Virtual Session – Adobe Connect
CATEGORIES:Courses,Standard Curriculum,Training
END:VEVENT
BEGIN:VEVENT
DTSTART;TZID=America/Toronto:20251120T080000
DTEND;TZID=America/Toronto:20251120T170000
DTSTAMP:20260422T141252
CREATED:20250915T155333Z
LAST-MODIFIED:20250915T155333Z
UID:22561-1763625600-1763658000@finance.utoronto.ca
SUMMARY:Logistics Part 2: Goods Receipts & Invoice Receipts (Course 7)
DESCRIPTION:Location: Virtual Training Session\nDuration: 5.5 hours\nFormat: Lecture\, Demonstrations + Hands-on Practice Activities\nCourse Material \nThis course is designed for all Financial Information Systems (FIS) users who will be processing Purchase Orders (PO) and have completed the Logistics Part 1 course as part of the Standard Curriculum. Specifically\, it provides an overview of Goods Receipts (GR) and Invoice Receipts (IR)\, how and when to process them and making adjustments to each when necessary. \nTopics include:\n\nUnderstanding the receiving process\nCreating\, changing and reversing GRs and IRs in FIS\nReturning goods to the vendors\nTracking GRs in departmental accounts\nProcessing adjustments to IRs (e.g.\, Stop Payments\, IR Reversals and Credit Memos)\n\nPrior to taking this course\, review the following supporting document to get a overview of the Purchasing Cycle: \n\nThe Purchasing Cycle at the University\n\n\nClick Here to REGISTER
URL:https://finance.utoronto.ca/event/logistics-part-2-goods-receipts-invoice-receipts-course-7-22/
LOCATION:Virtual Session – Adobe Connect
CATEGORIES:Courses,Standard Curriculum,Training
END:VEVENT
BEGIN:VEVENT
DTSTART;TZID=America/Toronto:20251125T100000
DTEND;TZID=America/Toronto:20251125T123000
DTSTAMP:20260422T141252
CREATED:20250915T155523Z
LAST-MODIFIED:20250915T155523Z
UID:22563-1764064800-1764073800@finance.utoronto.ca
SUMMARY:Basic Funds Management Reporting (Course 8)
DESCRIPTION:Location: Virtual Training Session\nDuration: 2.5 hours\nFormat: Lecture + Demonstrations\nCourse Material \nThis course is designed for new Financial Information Systems (FIS) users\, and provides an overview of Funds Management (FM) reports. \nTopics include:\n\nThe purpose of Funds Management (FM) reporting\nCommon FM reports and their features\nDetermining the right FM reports for your needs\nFeatures common FM reports\n\nThe FIS Overview is a pre-requisite for this course. \n\nClick Here to REGISTER
URL:https://finance.utoronto.ca/event/basic-funds-management-reporting-course-8-24/
LOCATION:Virtual Session – Adobe Connect
CATEGORIES:Courses,Standard Curriculum,Training
END:VEVENT
BEGIN:VEVENT
DTSTART;TZID=America/Toronto:20251127T120000
DTEND;TZID=America/Toronto:20251127T130000
DTSTAMP:20260422T141252
CREATED:20251031T174516Z
LAST-MODIFIED:20251031T174516Z
UID:22814-1764244800-1764248400@finance.utoronto.ca
SUMMARY:FAST Monthly Lunch & Learn - Exploring Concur Workflows
DESCRIPTION:  \nThe FAST team hosts a series of short (30 – 45 minute) virtual presentations on topics of interest for financial administrators at all levels. \nAll sessions will be recorded and presented by FAST\, and often in collaboration with other units. There is no registration required. \nThis session will be held on Thursday\, November 27th (12pm – 1pm) via MS Teams\, and will explore Concur workflows. \nTopics: \n\nThe importance of default/built in workflows in Concur\nReview the standard workflows for appointed and non-appointed employees\nClarifying when to use the Approve vs Approve & Forward approach\nUnderstanding workflows for Cross-Appointments\, Administrative Academic Appointments (AAA) and when budget owners are in another unit.\nOpen forum for questions\n\nClick here to download and save the MS Teams invite. To go directly to the presentation on November 27th\, click here. \nHave any ideas for topics we could cover? Take a few minutes to COMPLETE THIS SURVEY to submit your ideas for future topics. \nIf you have any questions\, please contact rames.paramsothy@utoronto.ca. \n 
URL:https://finance.utoronto.ca/event/fast-monthly-lunch-learn-exploring-concur-workflows/
LOCATION:MS Teams
CATEGORIES:FAST Lunch and Learn,Information Sessions,Training
ORGANIZER;CN="Rames Paramsothy":MAILTO:rames.paramsothy@utoronto.ca
END:VEVENT
END:VCALENDAR