BEGIN:VCALENDAR
VERSION:2.0
PRODID:-//Financial Services - ECPv6.15.20//NONSGML v1.0//EN
CALSCALE:GREGORIAN
METHOD:PUBLISH
X-ORIGINAL-URL:https://finance.utoronto.ca
X-WR-CALDESC:Events for Financial Services
REFRESH-INTERVAL;VALUE=DURATION:PT1H
X-Robots-Tag:noindex
X-PUBLISHED-TTL:PT1H
BEGIN:VTIMEZONE
TZID:America/Toronto
BEGIN:DAYLIGHT
TZOFFSETFROM:-0500
TZOFFSETTO:-0400
TZNAME:EDT
DTSTART:20200308T070000
END:DAYLIGHT
BEGIN:STANDARD
TZOFFSETFROM:-0400
TZOFFSETTO:-0500
TZNAME:EST
DTSTART:20201101T060000
END:STANDARD
BEGIN:DAYLIGHT
TZOFFSETFROM:-0500
TZOFFSETTO:-0400
TZNAME:EDT
DTSTART:20210314T070000
END:DAYLIGHT
BEGIN:STANDARD
TZOFFSETFROM:-0400
TZOFFSETTO:-0500
TZNAME:EST
DTSTART:20211107T060000
END:STANDARD
BEGIN:DAYLIGHT
TZOFFSETFROM:-0500
TZOFFSETTO:-0400
TZNAME:EDT
DTSTART:20220313T070000
END:DAYLIGHT
BEGIN:STANDARD
TZOFFSETFROM:-0400
TZOFFSETTO:-0500
TZNAME:EST
DTSTART:20221106T060000
END:STANDARD
END:VTIMEZONE
BEGIN:VEVENT
DTSTART;TZID=America/Toronto:20211014T133000
DTEND;TZID=America/Toronto:20211014T153000
DTSTAMP:20260422T201036
CREATED:20210813T173614Z
LAST-MODIFIED:20210813T181649Z
UID:14887-1634218200-1634225400@finance.utoronto.ca
SUMMARY:Understanding Earmarked Funds (i.e.\, Manual Reserves)
DESCRIPTION:Location: Virtual Training Session\nDuration: 2 hours\nFormat: Lecture + Demonstration \nWorkshop Material \nEarmarked Funds (a.k.a.\, Manual Reserves\, Funds Commitments and Encumbrances) are created by departments in FIS to reserve available budget dollars for expenses that are not processed through HRIS (e.g.\, payroll) or Logistics (e.g.\, POs). They enable you to set aside/reserve budget dollars for future expenditures. This workshop defines Manual Reserves and provides demonstrations of how to process and report them in FIS. \nTopics include: \n\nWhat are Earmarked Funds and why we use them?\nCreating Earmarked Funds\nMaking changes to Earmarked Funds\nGenerating reports on Earmarked Funds\n\nPrior to attending this course\, it is highly recommended that you complete the FIS Standard Curriculum. \n\nREGISTER
URL:https://finance.utoronto.ca/event/understanding-earmarked-funds-i-e-manual-reserves-3/
LOCATION:Virtual Session – Adobe Connect
CATEGORIES:Courses,Training,Workshops
ORGANIZER;CN="Rames Paramsothy":MAILTO:rames.paramsothy@utoronto.ca
END:VEVENT
BEGIN:VEVENT
DTSTART;TZID=America/Toronto:20211026T093000
DTEND;TZID=America/Toronto:20211026T113000
DTSTAMP:20260422T201036
CREATED:20210813T173911Z
LAST-MODIFIED:20210813T180734Z
UID:14889-1635240600-1635247800@finance.utoronto.ca
SUMMARY:Reconciling and Reviewing Month End Statements
DESCRIPTION:Location: Virtual Training Session\nDuration: 2 hours\nFormat: Lecture + Demonstration. The university policy requires that all departments reconcile their actual transaction with their Statement of Accounts on a monthly basis. This ensures that all transactions are completely/accurately recorded in FIS. This course walks you through the university’s month-end reconciliation policy\, guidelines and management reports. \nTopics include: \n\nUniversity month-end reconciliation policy\nStep-by-step walk-through of the monthly reconciliation process\nMonth-end reconciliation reports (e.g.\, Statement of Accounts\, Payroll Distribution Report)\n\nPrior to attending this course\, it is highly recommended that you complete the following Standard Curriculum courses: \n\nFIS Overview\nBasic Funds Management (FM) Reporting\nBasic Controlling (CO) Reporting\n\n\nREGISTER
URL:https://finance.utoronto.ca/event/reconciling-and-reviewing-month-end-statements-3/
LOCATION:Virtual Session – Adobe Connect
CATEGORIES:Courses,Training,Workshops
ORGANIZER;CN="Rames Paramsothy":MAILTO:rames.paramsothy@utoronto.ca
END:VEVENT
END:VCALENDAR