BEGIN:VCALENDAR
VERSION:2.0
PRODID:-//Financial Services - ECPv6.15.20//NONSGML v1.0//EN
CALSCALE:GREGORIAN
METHOD:PUBLISH
X-ORIGINAL-URL:https://finance.utoronto.ca
X-WR-CALDESC:Events for Financial Services
REFRESH-INTERVAL;VALUE=DURATION:PT1H
X-Robots-Tag:noindex
X-PUBLISHED-TTL:PT1H
BEGIN:VTIMEZONE
TZID:America/Toronto
BEGIN:DAYLIGHT
TZOFFSETFROM:-0500
TZOFFSETTO:-0400
TZNAME:EDT
DTSTART:20160313T070000
END:DAYLIGHT
BEGIN:STANDARD
TZOFFSETFROM:-0400
TZOFFSETTO:-0500
TZNAME:EST
DTSTART:20161106T060000
END:STANDARD
BEGIN:DAYLIGHT
TZOFFSETFROM:-0500
TZOFFSETTO:-0400
TZNAME:EDT
DTSTART:20170312T070000
END:DAYLIGHT
BEGIN:STANDARD
TZOFFSETFROM:-0400
TZOFFSETTO:-0500
TZNAME:EST
DTSTART:20171105T060000
END:STANDARD
BEGIN:DAYLIGHT
TZOFFSETFROM:-0500
TZOFFSETTO:-0400
TZNAME:EDT
DTSTART:20180311T070000
END:DAYLIGHT
BEGIN:STANDARD
TZOFFSETFROM:-0400
TZOFFSETTO:-0500
TZNAME:EST
DTSTART:20181104T060000
END:STANDARD
END:VTIMEZONE
BEGIN:VEVENT
DTSTART;TZID=America/Toronto:20170110T133000
DTEND;TZID=America/Toronto:20170110T153000
DTSTAMP:20260421T030911
CREATED:20161117T181857Z
LAST-MODIFIED:20171113T160904Z
UID:6530-1484055000-1484062200@finance.utoronto.ca
SUMMARY:FIS Workshop - Managing Refundable Deposits
DESCRIPTION:Managing Refundable Deposits the easy way while adhering to UofT policies. \nThis workshop will review the correct procedures for creating a cash receipt for refundable deposits (e.g. key or locker deposits\, etc.) and how to refund the deposit at a later date (e.g. at the end of the term). Reports for deposit/refund reconciliation will also be reviewed. \nE-Token – For this particular course the attendee should have an activated e-Token. If you do not have an e-Token assigned to you\, please inform the instructor and someone will log you in when you arrive. \n  \nREGISTER
URL:https://finance.utoronto.ca/event/fis-workshop-managing-refundable-deposits/
LOCATION:256 McCaul St\, Room 103\, 256 McCaul St\, Toronto\, Canada
CATEGORIES:Courses,Training,Workshops
ORGANIZER;CN="Rames Paramsothy":MAILTO:rames.paramsothy@utoronto.ca
END:VEVENT
BEGIN:VEVENT
DTSTART;TZID=America/Toronto:20170119T093000
DTEND;TZID=America/Toronto:20170119T113000
DTSTAMP:20260421T030911
CREATED:20161117T164838Z
LAST-MODIFIED:20161117T181632Z
UID:6528-1484818200-1484825400@finance.utoronto.ca
SUMMARY:FIS Workshop - Manual Reserves
DESCRIPTION:Manual Reserves (a.k.a.\, earmarked Funds\, Funds Commitments and Encumbrances) are created by departments in FIS to reserve available budget dollars for expenses that are not processed through HRIS (e.g.\, payroll) or Logistics (e.g.\, POs). They enable you to set aside/reserve budget dollars for future expenditures. \nThis workshop defines Manual Reserves and provides demonstrations of how to process and report them in FIS. \n  \nTopics include: \n\nWhat are Manual Reserves and why we use them\nCreating Manual Reserves\nMaking changes to Manual Reserves\nGenerating reports on Manual Reserves\n\nPrior to attending this course\, it is highly recommended that you complete the FIS Standard Curriculum. \nE-Token – All attendees should have an activated e-Token. If you do not have an e-Token assigned to you\, please inform the instructor and someone will log you in when you arrive. \n  \nREGISTER \n 
URL:https://finance.utoronto.ca/event/fis-workshop-manual-reserves/
LOCATION:256 McCaul St\, Room 103\, 256 McCaul St\, Toronto\, Canada
CATEGORIES:Courses,Training,Workshops
ORGANIZER;CN="Rames Paramsothy":MAILTO:rames.paramsothy@utoronto.ca
END:VEVENT
BEGIN:VEVENT
DTSTART;TZID=America/Toronto:20170124T123000
DTEND;TZID=America/Toronto:20170124T140000
DTSTAMP:20260421T030911
CREATED:20170104T184934Z
LAST-MODIFIED:20170104T184949Z
UID:6681-1485261000-1485266400@finance.utoronto.ca
SUMMARY:GET HELP FAST drop-in Session
DESCRIPTION:This drop-in session is meant to provide FIS and HRIS users with one-on-one support with experienced members of the Financial Advisory Services and Training (FAST) team and HRIS. \nHighlights of the program include: \n\nUsers receive help with their specific work issues\nConvenient lunch time hours\nNo lectures or exercises – bring your actual work and get help!\nNo registration required – just come in during the scheduled hours
URL:https://finance.utoronto.ca/event/get-help-fast-drop-session/
LOCATION:256 McCaul St\, Room 103\, 256 McCaul St\, Toronto\, Canada
CATEGORIES:Get Help FAST
ORGANIZER;CN="Rames Paramsothy":MAILTO:rames.paramsothy@utoronto.ca
END:VEVENT
BEGIN:VEVENT
DTSTART;TZID=America/Toronto:20170126T133000
DTEND;TZID=America/Toronto:20170126T163000
DTSTAMP:20260421T030911
CREATED:20161116T182657Z
LAST-MODIFIED:20161116T203446Z
UID:6461-1485437400-1485448200@finance.utoronto.ca
SUMMARY:1 - FIS Overview
DESCRIPTION:Duration:   3 hours\nFormat:      Lecture + Demonstrations \nThis course provides a basic understanding of how Financial Information Systems (FIS) is used to facilitate administrative financial management while introducing common terms and concepts used in FIS. \nThis is the prerequisite for all new FIS users who plan to complete the Standard Curriculum. \nTopics include: \n\nIntroduction to the terms and concepts used in FIS\nUnderstanding the big picture of Funds Management and Controlling within the FIS system\nOverview of types of master data in Funds Management and Controlling\nOverview of Funds Management and Controlling hierarchies including Funds Centers\, Cost Centers and Internal Orders.\n\nPrior to attending this class\, please read the Introduction to FIS document. \nPre-requisites: none \n  \nREGISTER
URL:https://finance.utoronto.ca/event/1-fis-overview-10/
LOCATION:256 McCaul St\, Room 103\, 256 McCaul St\, Toronto\, Canada
CATEGORIES:Courses,Standard Curriculum,Training
ORGANIZER;CN="Rames Paramsothy":MAILTO:rames.paramsothy@utoronto.ca
END:VEVENT
BEGIN:VEVENT
DTSTART;TZID=America/Toronto:20170130T133000
DTEND;TZID=America/Toronto:20170130T163000
DTSTAMP:20260421T030911
CREATED:20170110T145429Z
LAST-MODIFIED:20170110T145453Z
UID:6750-1485783000-1485793800@finance.utoronto.ca
SUMMARY:1 - FIS Overview
DESCRIPTION:Duration:   3 hours\nFormat:      Lecture + Demonstrations \nThis course provides a basic understanding of how Financial Information Systems (FIS) is used to facilitate administrative financial management while introducing common terms and concepts used in FIS. \nThis is the prerequisite for all new FIS users who plan to complete the Standard Curriculum. \nTopics include: \n\nIntroduction to the terms and concepts used in FIS\nUnderstanding the big picture of Funds Management and Controlling within the FIS system\nOverview of types of master data in Funds Management and Controlling\nOverview of Funds Management and Controlling hierarchies including Funds Centers\, Cost Centers and Internal Orders.\n\nPrior to attending this class\, please read the Introduction to FIS document. \nPre-requisites: none \nREGISTER
URL:https://finance.utoronto.ca/event/1-fis-overview-13/
LOCATION:256 McCaul St\, Room 103\, 256 McCaul St\, Toronto\, Canada
CATEGORIES:Courses,Standard Curriculum,Training
ORGANIZER;CN="Rames Paramsothy":MAILTO:rames.paramsothy@utoronto.ca
END:VEVENT
END:VCALENDAR