BEGIN:VCALENDAR
VERSION:2.0
PRODID:-//Financial Services - ECPv6.15.20//NONSGML v1.0//EN
CALSCALE:GREGORIAN
METHOD:PUBLISH
X-WR-CALNAME:Financial Services
X-ORIGINAL-URL:https://finance.utoronto.ca
X-WR-CALDESC:Events for Financial Services
REFRESH-INTERVAL;VALUE=DURATION:PT1H
X-Robots-Tag:noindex
X-PUBLISHED-TTL:PT1H
BEGIN:VTIMEZONE
TZID:America/Toronto
BEGIN:DAYLIGHT
TZOFFSETFROM:-0500
TZOFFSETTO:-0400
TZNAME:EDT
DTSTART:20180311T070000
END:DAYLIGHT
BEGIN:STANDARD
TZOFFSETFROM:-0400
TZOFFSETTO:-0500
TZNAME:EST
DTSTART:20181104T060000
END:STANDARD
BEGIN:DAYLIGHT
TZOFFSETFROM:-0500
TZOFFSETTO:-0400
TZNAME:EDT
DTSTART:20190310T070000
END:DAYLIGHT
BEGIN:STANDARD
TZOFFSETFROM:-0400
TZOFFSETTO:-0500
TZNAME:EST
DTSTART:20191103T060000
END:STANDARD
BEGIN:DAYLIGHT
TZOFFSETFROM:-0500
TZOFFSETTO:-0400
TZNAME:EDT
DTSTART:20200308T070000
END:DAYLIGHT
BEGIN:STANDARD
TZOFFSETFROM:-0400
TZOFFSETTO:-0500
TZNAME:EST
DTSTART:20201101T060000
END:STANDARD
END:VTIMEZONE
BEGIN:VEVENT
DTSTART;TZID=America/Toronto:20190301T093000
DTEND;TZID=America/Toronto:20190301T113000
DTSTAMP:20260419T181740
CREATED:20181130T190525Z
LAST-MODIFIED:20181130T190525Z
UID:9891-1551432600-1551439800@finance.utoronto.ca
SUMMARY:FIS: Updating CO Plans for Operating Budgets
DESCRIPTION:This course will briefly review what happens during the Planning/Budget process and give a quick overview of the flow of information from the Target Letter to the Uploading of Plans. A representative from Planning & Budget will be on hand to answer questions regarding Planning & Budget policies and processes (e.g. Target Letter\, B6\, etc.). Details of how to manually update CO plans in FIS and how to use an Excel template to upload finalized plans to FIS will be demonstrated. \nNOTE: This course does NOT review the B6 editing process. \nTopics Covered: \n\nWhy update CO Plans\nHow to use Excel 2010 to quickly extract B6 data and incorporate it in the Plans\nHow to update Plans manually and by mass upload\nWhat the Linking Table is\nHow to compare CO Plans to FM Budgets\n\nRequirement: \nE-Token – For this particular course the attendee should have an activated e-Token. If you do not have an e-Token assigned to you\, please inform the instructor and someone will log you in when you arrive. Information on obtaining and activating an e-Token can be found at the following link. \n  \nE-Token Information \n\n  \nREGISTER
URL:https://finance.utoronto.ca/event/fis-updating-co-plans-for-operating-budgets-2/
LOCATION:256 McCaul St\, Room 103\, 256 McCaul St\, Toronto\, Canada
CATEGORIES:Courses,Training,Workshops
ORGANIZER;CN="Rames Paramsothy":MAILTO:rames.paramsothy@utoronto.ca
END:VEVENT
BEGIN:VEVENT
DTSTART;TZID=America/Toronto:20190306T093000
DTEND;TZID=America/Toronto:20190306T123000
DTSTAMP:20260419T181740
CREATED:20181130T215043Z
LAST-MODIFIED:20181130T215043Z
UID:9897-1551864600-1551875400@finance.utoronto.ca
SUMMARY:8 - FIS SC:  Basic Funds Management Reporting
DESCRIPTION:Do you want to learn how you can determine how much money you have in your Funds Center or Funds Center/Fund combination? What about locating what has been charged to your accounts? \n  \nThis course is designed for new Financial Information Systems (FIS) users\, and provides an overview of Funds Management (FM) reports that will enable you to answer these questions. \nTopics include: \n\nThe purpose of Funds Management (FM) reporting\nCommon FM reports and their features\n\n  \nPre-requisites: It is highly recommended that this course be completed after the preceding Standard Curriculum courses. \n  \nE-Token – For this particular course the attendee should have an activated e-Token. If you do not have an e-Token assigned to you\, please inform the instructor and someone will log you in when you arrive. Information on obtaining and activating an e-Token can be found at the following link. \nE-Token Information \n\n  \nREGISTER
URL:https://finance.utoronto.ca/event/8-fis-sc-basic-funds-management-reporting/
LOCATION:256 McCaul St\, Room 103\, 256 McCaul St\, Toronto\, Canada
CATEGORIES:Courses,Standard Curriculum,Training
ORGANIZER;CN="Rames Paramsothy":MAILTO:rames.paramsothy@utoronto.ca
END:VEVENT
BEGIN:VEVENT
DTSTART;TZID=America/Toronto:20190306T133000
DTEND;TZID=America/Toronto:20190306T153000
DTSTAMP:20260419T181740
CREATED:20181130T214241Z
LAST-MODIFIED:20181130T214241Z
UID:9893-1551879000-1551886200@finance.utoronto.ca
SUMMARY:FIS: Departmental Accounts Receivable Responsibilities and the new A/R Open Item Aging Report
DESCRIPTION:This workshop provides a review of departmental A/R responsibilities and an introduction to the new Accounts Receivables Open Item Aging Report. \nObjectives: \n\nIdentify your departmental Accounts Receivable (A/R) financial management and accounting responsibilities\nUnderstand the Cost\, Benefits and Risks of Invoicing External Customers\nGenerate the Open Item Aging Report using required and optional Selection Criteria\nUse the Open Item Aging Report to ensure that invoices are paid in a timely manner and to prevent chargebacks\nLocate overdue A/R invoices posted to your departmental accounts\n\n  \nNote: This workshop focuses on external sources of revenue and expense recoveries. If you are interesting in learning about internal revenue and expense recoveries (i.e.\, between U of T departments)\, please attend the G/L Account Posting – Basic Data Entry course. \n\n  \nREGISTER
URL:https://finance.utoronto.ca/event/fis-departmental-accounts-receivable-responsibilities-and-the-new-a-r-open-item-aging-report/
LOCATION:256 McCaul St\, Room 103\, 256 McCaul St\, Toronto\, Canada
CATEGORIES:Courses,Reporting,Training,Workshops
ORGANIZER;CN="Rames Paramsothy":MAILTO:rames.paramsothy@utoronto.ca
END:VEVENT
BEGIN:VEVENT
DTSTART;TZID=America/Toronto:20190307T093000
DTEND;TZID=America/Toronto:20190307T113000
DTSTAMP:20260419T181740
CREATED:20181204T165041Z
LAST-MODIFIED:20181204T165041Z
UID:9912-1551951000-1551958200@finance.utoronto.ca
SUMMARY:FIS Reporting - Reconciling & Reviewing Month-End Statements
DESCRIPTION:The university policy requires that all departments reconcile their actual transaction with their Statement of Accounts on a monthly basis. This ensures that all transactions are completely/accurately recorded in FIS. \nThis course walks you through the university’s month-end reconciliation policy\, guidelines and management reports. \nTopics include: \n\nUniversity month-end reconciliation policy\nStep-by-step walkthrough of the monthly reconciliation process\nCommon errors caught by Internal Audit\nMonth-end reconciliation reports (e.g.\, Statement of Accounts\, Payroll Distribution Report)\n\nPrior to attending this course\, it is recommended that you complete the FIS Standard Curriculum courses. \nRegister
URL:https://finance.utoronto.ca/event/fis-reporting-reconciling-reviewing-month-end-statements/
LOCATION:256 McCaul St\, Room 103\, 256 McCaul St\, Toronto\, Canada
CATEGORIES:Courses,Reporting,Training
ORGANIZER;CN="Rames Paramsothy":MAILTO:rames.paramsothy@utoronto.ca
END:VEVENT
BEGIN:VEVENT
DTSTART;TZID=America/Toronto:20190307T123000
DTEND;TZID=America/Toronto:20190307T140000
DTSTAMP:20260419T181740
CREATED:20190123T150344Z
LAST-MODIFIED:20190123T150634Z
UID:10145-1551961800-1551967200@finance.utoronto.ca
SUMMARY:GET HELP FAST drop-in Session
DESCRIPTION:This drop-in session is meant to provide FIS users with one-on-one support. \nHighlights of the program include: \n\nUsers receive help with their specific work issues\nConvenient lunch time hours\nNo lectures or exercises – bring your actual work and get help!\nNo registration required – just come in during the scheduled hours
URL:https://finance.utoronto.ca/event/get-help-fast-drop-in-session-28/
LOCATION:256 McCaul Street\, Room 109\, 256 McCaul Street\, Toronto\, Ontario\, Canada
CATEGORIES:Get Help FAST
ORGANIZER;CN="Rames Paramsothy":MAILTO:rames.paramsothy@utoronto.ca
END:VEVENT
BEGIN:VEVENT
DTSTART;TZID=America/Toronto:20190312T093000
DTEND;TZID=America/Toronto:20190312T123000
DTSTAMP:20260419T181740
CREATED:20181204T165728Z
LAST-MODIFIED:20181204T165728Z
UID:9916-1552383000-1552393800@finance.utoronto.ca
SUMMARY:9 - FIS SC: Basic Controlling Reporting
DESCRIPTION:This course is designed for new Financial Information Systems (FIS) users and provides an overview of some commonly used Controlling reports. \nSpecifically\, the course introduces commonly used Controlling (CO) reports\, the characteristics and functions of each report\, and how to interpret each reports’ output data. \nTopics include: \n\nCommon Controlling (CO) reports and their features\nIdentifying the budget a financial transaction was posted to\nComparing plan to actual financial activity\nIdentifying outstanding Commitments against Cost Centres / Internal Orders\n\n  \nPre-requisites: It is highly recommended that this course be completed after the preceding Standard Curriculum courses. \nE-Token – For this particular course the attendee should have an activated e-Token. If you do not have an e-Token assigned to you\, please inform the instructor and someone will log you in when you arrive. Information on obtaining and activating an e-Token can be found at the following link. \nE-Token Information \n  \nRegister
URL:https://finance.utoronto.ca/event/9-fis-sc-basic-controlling-reporting/
LOCATION:256 McCaul St\, Room 103\, 256 McCaul St\, Toronto\, Canada
CATEGORIES:Courses,Standard Curriculum,Training
ORGANIZER;CN="Rames Paramsothy":MAILTO:rames.paramsothy@utoronto.ca
END:VEVENT
BEGIN:VEVENT
DTSTART;TZID=America/Toronto:20190312T133000
DTEND;TZID=America/Toronto:20190312T153000
DTSTAMP:20260419T181740
CREATED:20181204T165408Z
LAST-MODIFIED:20181204T165422Z
UID:9914-1552397400-1552404600@finance.utoronto.ca
SUMMARY:FIS Workshop - Updating CO Plans for Operating Budgets
DESCRIPTION:This course will briefly review what happens during the Planning/Budget process and give a quick overview of the flow of information from the Target Letter to the Uploading of Plans. A representative from Planning & Budget will be on hand to answer questions regarding Planning & Budget policies and processes (e.g. Target Letter\, B6\, etc.). Details of how to manually update CO plans in FIS and how to use an Excel template to upload finalized plans to FIS will be demonstrated. \nNOTE: This course does NOT review the B6 editing process. \nTopics Covered: \n\nWhy update CO Plans\nHow to use Excel 2010 to quickly extract B6 data and incorporate it in the Plans\nHow to update Plans manually and by mass upload\nWhat the Linking Table is\nHow to compare CO Plans to FM Budgets\n\nRequirement: \nE-Token – For this particular course the attendee should have an activated e-Token. If you do not have an e-Token assigned to you\, please inform the instructor and someone will log you in when you arrive. Information on obtaining and activating an e-Token can be found at the following link. \nE-Token Information \n  \nRegister
URL:https://finance.utoronto.ca/event/fis-workshop-updating-co-plans-for-operating-budgets/
LOCATION:256 McCaul St\, Room 103\, 256 McCaul St\, Toronto\, Canada
CATEGORIES:Courses,Training,Workshops
ORGANIZER;CN="Rames Paramsothy":MAILTO:rames.paramsothy@utoronto.ca
END:VEVENT
BEGIN:VEVENT
DTSTART;TZID=America/Toronto:20190320T113000
DTEND;TZID=America/Toronto:20190320T130000
DTSTAMP:20260419T181740
CREATED:20190123T150540Z
LAST-MODIFIED:20190123T150540Z
UID:10147-1553081400-1553086800@finance.utoronto.ca
SUMMARY:GET HELP FAST drop-in Session
DESCRIPTION:This drop-in session is meant to provide FIS\, HRIS & RIS/MRA/MROL users with one-on-one support. \nHighlights of the program include: \n\nUsers receive help with their specific work issues\nConvenient lunch time hours\nNo lectures or exercises – bring your actual work and get help!\nNo registration required – just come in during the scheduled hours
URL:https://finance.utoronto.ca/event/get-help-fast-drop-in-session-29/
LOCATION:256 McCaul St\, Room 103\, 256 McCaul St\, Toronto\, Canada
CATEGORIES:Get Help FAST
END:VEVENT
BEGIN:VEVENT
DTSTART;VALUE=DATE:20190325
DTEND;VALUE=DATE:20190326
DTSTAMP:20260419T181740
CREATED:20190305T150954Z
LAST-MODIFIED:20190305T150954Z
UID:10539-1553472000-1553558399@finance.utoronto.ca
SUMMARY:Deadline to keep GR's active in FIS
DESCRIPTION:Deadline to keep GR’s active in FIS
URL:https://finance.utoronto.ca/event/deadline-to-keep-grs-active-in-fis/
CATEGORIES:Dates and Deadlines
END:VEVENT
BEGIN:VEVENT
DTSTART;VALUE=DATE:20190326
DTEND;VALUE=DATE:20190327
DTSTAMP:20260419T181740
CREATED:20190305T150813Z
LAST-MODIFIED:20190305T150813Z
UID:10537-1553558400-1553644799@finance.utoronto.ca
SUMMARY:Reversing all Goods Receipt Documents
DESCRIPTION:Reversing all Goods Receipt Documents
URL:https://finance.utoronto.ca/event/reversing-all-goods-receipt-documents/
CATEGORIES:Dates and Deadlines
END:VEVENT
BEGIN:VEVENT
DTSTART;TZID=America/Toronto:20190326T090000
DTEND;TZID=America/Toronto:20190326T123000
DTSTAMP:20260419T181740
CREATED:20181204T170057Z
LAST-MODIFIED:20181204T171303Z
UID:9918-1553590800-1553603400@finance.utoronto.ca
SUMMARY:1 - FIS SC: FIS Overview
DESCRIPTION:This course provides a basic understanding of how Financial Information Systems (FIS) is used to facilitate administrative financial management while introducing common terms and concepts used in FIS. \nThis is the prerequisite for all new FIS users who plan to complete the Standard Curriculum. \nTopics include: \n\nIntroduction to the terms and concepts used in FIS\nUnderstanding the big picture of Funds Management and Controlling within the FIS system\nOverview of types of master data in Funds Management and Controlling\nOverview of Funds Management and Controlling hierarchies including commitment items\, cost elements\, commitment funds centres\, cost centres and iternal orders.\n\nPrior to attending this class\, please read the Introduction to FIS document. \nPre-requisites: none \nE-Token – For this particular course the attendee should have an activated e-Token. If you do not have an e-Token assigned to you\, please inform the instructor and someone will log you in when you arrive. Information on obtaining and activating an e-Token can be found at the following link. \nE-Token Information \n\nREGISTER
URL:https://finance.utoronto.ca/event/1-fis-sc-fis-overview-3/
LOCATION:256 McCaul St\, Room 103\, 256 McCaul St\, Toronto\, Canada
CATEGORIES:Courses,Standard Curriculum,Training
ORGANIZER;CN="Rames Paramsothy":MAILTO:rames.paramsothy@utoronto.ca
END:VEVENT
BEGIN:VEVENT
DTSTART;TZID=America/Toronto:20190326T130000
DTEND;TZID=America/Toronto:20190326T163000
DTSTAMP:20260419T181740
CREATED:20181204T171637Z
LAST-MODIFIED:20181204T172127Z
UID:9922-1553605200-1553617800@finance.utoronto.ca
SUMMARY:1 - FIS SC: FIS Overview
DESCRIPTION:This course provides a basic understanding of how Financial Information Systems (FIS) is used to facilitate administrative financial management while introducing common terms and concepts used in FIS. \nThis is the prerequisite for all new FIS users who plan to complete the Standard Curriculum. \nTopics include: \n\nIntroduction to the terms and concepts used in FIS\nUnderstanding the big picture of Funds Management and Controlling within the FIS system\nOverview of types of master data in Funds Management and Controlling\nOverview of Funds Management and Controlling hierarchies including commitment items\, cost elements\, commitment funds centers\, cost centers and internal orders.\n\nPrior to attending this class\, please read the Introduction to FIS document. \nPre-requisites: none \nE-Token – For this particular course the attendee should have an activated e-Token. If you do not have an e-Token assigned to you\, please inform the instructor and someone will log you in when you arrive. Information on obtaining and activating an e-Token can be found at the following link. \nE-Token Information \n\n  \nREGISTER
URL:https://finance.utoronto.ca/event/1-fis-sc-fis-overview-4/
LOCATION:256 McCaul St\, Room 103\, 256 McCaul St\, Toronto\, Canada
CATEGORIES:Courses,Standard Curriculum,Training
ORGANIZER;CN="Rames Paramsothy":MAILTO:rames.paramsothy@utoronto.ca
END:VEVENT
END:VCALENDAR