BEGIN:VCALENDAR
VERSION:2.0
PRODID:-//Financial Services - ECPv6.15.20//NONSGML v1.0//EN
CALSCALE:GREGORIAN
METHOD:PUBLISH
X-ORIGINAL-URL:https://finance.utoronto.ca
X-WR-CALDESC:Events for Financial Services
REFRESH-INTERVAL;VALUE=DURATION:PT1H
X-Robots-Tag:noindex
X-PUBLISHED-TTL:PT1H
BEGIN:VTIMEZONE
TZID:America/Toronto
BEGIN:DAYLIGHT
TZOFFSETFROM:-0500
TZOFFSETTO:-0400
TZNAME:EDT
DTSTART:20180311T070000
END:DAYLIGHT
BEGIN:STANDARD
TZOFFSETFROM:-0400
TZOFFSETTO:-0500
TZNAME:EST
DTSTART:20181104T060000
END:STANDARD
BEGIN:DAYLIGHT
TZOFFSETFROM:-0500
TZOFFSETTO:-0400
TZNAME:EDT
DTSTART:20190310T070000
END:DAYLIGHT
BEGIN:STANDARD
TZOFFSETFROM:-0400
TZOFFSETTO:-0500
TZNAME:EST
DTSTART:20191103T060000
END:STANDARD
BEGIN:DAYLIGHT
TZOFFSETFROM:-0500
TZOFFSETTO:-0400
TZNAME:EDT
DTSTART:20200308T070000
END:DAYLIGHT
BEGIN:STANDARD
TZOFFSETFROM:-0400
TZOFFSETTO:-0500
TZNAME:EST
DTSTART:20201101T060000
END:STANDARD
END:VTIMEZONE
BEGIN:VEVENT
DTSTART;TZID=America/Toronto:20190903T093000
DTEND;TZID=America/Toronto:20190903T123000
DTSTAMP:20260422T065540
CREATED:20181206T030410Z
LAST-MODIFIED:20181206T034931Z
UID:10023-1567503000-1567513800@finance.utoronto.ca
SUMMARY:8 - FIS SC: Basic Funds Management Reporting
DESCRIPTION:Do you want to learn how you can determine how much money you have in your Funds Center or Funds Center/Fund combination? What about locating what has been charged to your accounts? \nThis course is designed for new Financial Information Systems (FIS) users\, and provides an overview of Funds Management (FM) reports that will enable you to answer these questions. \nTopics include: \n\nThe purpose of Funds Management (FM) reporting\nCommon FM reports and their features\n\nPre-requisites: It is highly recommended that this course be completed after the preceding Standard Curriculum courses. \nE-Token: For this particular course the attendee should have an activated e-Token. If you do not have an e-Token assigned to you\, please inform the instructor and someone will log you in when you arrive. Information on obtaining and activating an e-Token can be found at the following link. \nE-Token Information \n\n  \nREGISTER
URL:https://finance.utoronto.ca/event/8-fis-sc-basic-funds-management-reporting-4/
LOCATION:256 McCaul St\, Room 103\, 256 McCaul St\, Toronto\, Canada
CATEGORIES:Courses,Standard Curriculum,Training
ORGANIZER;CN="Rames Paramsothy":MAILTO:rames.paramsothy@utoronto.ca
END:VEVENT
BEGIN:VEVENT
DTSTART;TZID=America/Toronto:20190904T123000
DTEND;TZID=America/Toronto:20190904T140000
DTSTAMP:20260422T065540
CREATED:20190123T152027Z
LAST-MODIFIED:20190123T152027Z
UID:10172-1567600200-1567605600@finance.utoronto.ca
SUMMARY:GET HELP FAST drop-in Session
DESCRIPTION:This drop-in session is meant to provide FIS users with one-on-one support. \nHighlights of the program include: \n\nUsers receive help with their specific work issues\nConvenient lunch time hours\nNo lectures or exercises – bring your actual work and get help!\nNo registration required – just come in during the scheduled hours
URL:https://finance.utoronto.ca/event/get-help-fast-drop-in-session-41/
LOCATION:256 McCaul St\, Room 103\, 256 McCaul St\, Toronto\, Canada
CATEGORIES:Get Help FAST
ORGANIZER;CN="Rames Paramsothy":MAILTO:rames.paramsothy@utoronto.ca
END:VEVENT
BEGIN:VEVENT
DTSTART;TZID=America/Toronto:20190905T133000
DTEND;TZID=America/Toronto:20190905T163000
DTSTAMP:20260422T065540
CREATED:20181206T035121Z
LAST-MODIFIED:20190903T184957Z
UID:10025-1567690200-1567701000@finance.utoronto.ca
SUMMARY:9 - FIS SC: Basic Controlling Reporting
DESCRIPTION:This course is designed for new Financial Information Systems (FIS) users and provides an overview of some commonly used Controlling reports. \nSpecifically\, the course introduces commonly used Controlling (CO) reports\, the characteristics and functions of each report\, and how to interpret each reports’ output data. \nTopics include: \n\nCommon Controlling (CO) reports and their features\nIdentifying the budget a financial transaction was posted to\nComparing plan to actual financial activity\nIdentifying outstanding Commitments against Cost Centers / Internal Orders\n\nPre-requisites: It is highly recommended that this course be completed after the preceding Standard Curriculum courses. \nE-Token – For this particular course the attendee should have an activated e-Token. If you do not have an e-Token assigned to you\, please inform the instructor and someone will log you in when you arrive. Information on obtaining and activating an e-Token can be found at the following link. \nE-Token Information \n\n  \nREGISTER
URL:https://finance.utoronto.ca/event/9-fis-sc-basic-controlling-reporting-4/
LOCATION:256 McCaul St\, Room 103\, 256 McCaul St\, Toronto\, Canada
CATEGORIES:Courses,Standard Curriculum,Training
ORGANIZER;CN="Rames Paramsothy":MAILTO:rames.paramsothy@utoronto.ca
END:VEVENT
BEGIN:VEVENT
DTSTART;TZID=America/Toronto:20190906T093000
DTEND;TZID=America/Toronto:20190906T113000
DTSTAMP:20260422T065540
CREATED:20181206T045210Z
LAST-MODIFIED:20181206T045210Z
UID:10027-1567762200-1567769400@finance.utoronto.ca
SUMMARY:FIS Workshop: Reporting: Reconciling Month End Statements
DESCRIPTION:The university policy requires that all departments reconcile their actual transaction with their Statement of Accounts on a monthly basis. This ensures that all transactions are completely/accurately recorded in FIS. \nThis course walks you through the university’s month-end reconciliation policy\, guidelines and management reports. \nTopics include: \n\nUniversity month-end reconciliation policy\nStep-by-step walk-through of the monthly reconciliation process\nCommon errors caught by Internal Audit\nMonth-end reconciliation reports (e.g.\, Statement of Accounts\, Payroll Distribution Report)\n\nPrior to attending this course\, it is recommended that you complete the FIS Standard Curriculum courses. \n\n  \nREGISTER
URL:https://finance.utoronto.ca/event/fis-workshop-reporting-reconciling-month-end-statements/
LOCATION:256 McCaul St\, Room 103\, 256 McCaul St\, Toronto\, Canada
CATEGORIES:Courses,Reporting,Training
ORGANIZER;CN="Rames Paramsothy":MAILTO:rames.paramsothy@utoronto.ca
END:VEVENT
BEGIN:VEVENT
DTSTART;TZID=America/Toronto:20190910T093000
DTEND;TZID=America/Toronto:20190910T113000
DTSTAMP:20260422T065540
CREATED:20181206T045505Z
LAST-MODIFIED:20181206T045505Z
UID:10029-1568107800-1568115000@finance.utoronto.ca
SUMMARY:FIS Workshop: Departmental Accounts Receivable Responsibilities and the new A/R Open Item Aging Report
DESCRIPTION:This workshop provides a review of departmental A/R responsibilities and an introduction to the new Accounts Receivables Open Item Aging Report. \nObjectives: \n\nIdentify your departmental Accounts Receivable (A/R) financial management and accounting responsibilities\nUnderstand the Cost\, Benefits and Risks of Invoicing External Customers\nGenerate the Open Item Aging Report using required and optional Selection Criteria\nUse the Open Item Aging Report to ensure that invoices are paid in a timely manner and to prevent chargebacks\nLocate overdue A/R invoices posted to your departmental accounts\n\nNote: This workshop focuses on external sources of revenue and expense recoveries. If you are interesting in learning about internal revenue and expense recoveries (i.e.\, between U of T departments)\, please attend the G/L Account Posting – Basic Data Entry course. \n\n  \nREGISTER
URL:https://finance.utoronto.ca/event/fis-workshop-departmental-accounts-receivable-responsibilities-and-the-new-a-r-open-item-aging-report/
LOCATION:256 McCaul St\, Room 103\, 256 McCaul St\, Toronto\, Canada
CATEGORIES:Courses,Reporting,Training
ORGANIZER;CN="Rames Paramsothy":MAILTO:rames.paramsothy@utoronto.ca
END:VEVENT
BEGIN:VEVENT
DTSTART;TZID=America/Toronto:20190919T113000
DTEND;TZID=America/Toronto:20190919T130000
DTSTAMP:20260422T065540
CREATED:20190123T152128Z
LAST-MODIFIED:20190123T152128Z
UID:10174-1568892600-1568898000@finance.utoronto.ca
SUMMARY:GET HELP FAST drop-in Session
DESCRIPTION:This drop-in session is meant to provide FIS\, HRIS & RIS/MRA/MROL users with one-on-one support. \nHighlights of the program include: \n\nUsers receive help with their specific work issues\nConvenient lunch time hours\nNo lectures or exercises – bring your actual work and get help!\nNo registration required – just come in during the scheduled hours
URL:https://finance.utoronto.ca/event/get-help-fast-drop-in-session-42/
LOCATION:256 McCaul St\, Room 103\, 256 McCaul St\, Toronto\, Canada
CATEGORIES:Get Help FAST
ORGANIZER;CN="Rames Paramsothy":MAILTO:rames.paramsothy@utoronto.ca
END:VEVENT
END:VCALENDAR