BEGIN:VCALENDAR
VERSION:2.0
PRODID:-//Financial Services - ECPv6.15.20//NONSGML v1.0//EN
CALSCALE:GREGORIAN
METHOD:PUBLISH
X-WR-CALNAME:Financial Services
X-ORIGINAL-URL:https://finance.utoronto.ca
X-WR-CALDESC:Events for Financial Services
REFRESH-INTERVAL;VALUE=DURATION:PT1H
X-Robots-Tag:noindex
X-PUBLISHED-TTL:PT1H
BEGIN:VTIMEZONE
TZID:America/Toronto
BEGIN:DAYLIGHT
TZOFFSETFROM:-0500
TZOFFSETTO:-0400
TZNAME:EDT
DTSTART:20230312T070000
END:DAYLIGHT
BEGIN:STANDARD
TZOFFSETFROM:-0400
TZOFFSETTO:-0500
TZNAME:EST
DTSTART:20231105T060000
END:STANDARD
BEGIN:DAYLIGHT
TZOFFSETFROM:-0500
TZOFFSETTO:-0400
TZNAME:EDT
DTSTART:20240310T070000
END:DAYLIGHT
BEGIN:STANDARD
TZOFFSETFROM:-0400
TZOFFSETTO:-0500
TZNAME:EST
DTSTART:20241103T060000
END:STANDARD
BEGIN:DAYLIGHT
TZOFFSETFROM:-0500
TZOFFSETTO:-0400
TZNAME:EDT
DTSTART:20250309T070000
END:DAYLIGHT
BEGIN:STANDARD
TZOFFSETFROM:-0400
TZOFFSETTO:-0500
TZNAME:EST
DTSTART:20251102T060000
END:STANDARD
END:VTIMEZONE
BEGIN:VEVENT
DTSTART;VALUE=DATE:20240501
DTEND;VALUE=DATE:20240502
DTSTAMP:20260419T125552
CREATED:20240313T132034Z
LAST-MODIFIED:20240313T132034Z
UID:20091-1714521600-1714607999@finance.utoronto.ca
SUMMARY:First Cheque Production for Fiscal 2025
DESCRIPTION:First Cheque Production for Fiscal 2025
URL:https://finance.utoronto.ca/event/first-cheque-production-for-fiscal-2025/
CATEGORIES:Dates and Deadlines
END:VEVENT
BEGIN:VEVENT
DTSTART;VALUE=DATE:20240501
DTEND;VALUE=DATE:20240502
DTSTAMP:20260419T125552
CREATED:20240313T132350Z
LAST-MODIFIED:20240313T132350Z
UID:20099-1714521600-1714607999@finance.utoronto.ca
SUMMARY:First Draft Production for Fiscal 2025
DESCRIPTION:First Draft Production for Fiscal 2025
URL:https://finance.utoronto.ca/event/first-draft-production-for-fiscal-2025/
CATEGORIES:Dates and Deadlines
END:VEVENT
BEGIN:VEVENT
DTSTART;TZID=America/Toronto:20240501T100000
DTEND;TZID=America/Toronto:20240501T120000
DTSTAMP:20260419T125552
CREATED:20240228T195208Z
LAST-MODIFIED:20240228T195208Z
UID:19971-1714557600-1714564800@finance.utoronto.ca
SUMMARY:Basic Controlling Reporting (Course 9)
DESCRIPTION:Location: Virtual Training Session\nDuration: 2 hours\nFormat: Lecture + Demonstrations\nCourse Material \nThis course is designed for new and experienced Financial Information Systems (FIS) users and provides an overview of some commonly used Controlling reports. Specifically\, the course introduces commonly used Controlling (CO) reports\, the characteristics and functions of each report\, and how to interpret each reports’ output data. \nTopics include:\n\nCommon Controlling (CO) reports and their features\nIdentifying the budget a financial transaction was posted to\nComparing plan to actual financial activity\nIdentifying outstanding Commitments against Cost Centers / Internal Orders\n\nPrior to attending this course it is required that you attend the FIS Overview. \n\nClick Here to REGISTER
URL:https://finance.utoronto.ca/event/basic-controlling-reporting-course-9-16/
LOCATION:Virtual Session – Adobe Connect
CATEGORIES:Courses,Standard Curriculum,Training
END:VEVENT
BEGIN:VEVENT
DTSTART;VALUE=DATE:20240502
DTEND;VALUE=DATE:20240503
DTSTAMP:20260419T125552
CREATED:20240313T132214Z
LAST-MODIFIED:20240313T132214Z
UID:20095-1714608000-1714694399@finance.utoronto.ca
SUMMARY:First EFT Payment run for Fiscal 2025
DESCRIPTION:First EFT Payment run for Fiscal 2025
URL:https://finance.utoronto.ca/event/first-eft-payment-run-for-fiscal-2025/
CATEGORIES:Dates and Deadlines
END:VEVENT
BEGIN:VEVENT
DTSTART;VALUE=DATE:20240503
DTEND;VALUE=DATE:20240504
DTSTAMP:20260419T125552
CREATED:20231003T203033Z
LAST-MODIFIED:20231003T203033Z
UID:19230-1714694400-1714780799@finance.utoronto.ca
SUMMARY:Final Year-end Operating Reserve Report Due
DESCRIPTION:Final Year-end Operating Reserve Report Due
URL:https://finance.utoronto.ca/event/final-year-end-operating-reserve-report-due-7/
CATEGORIES:Dates and Deadlines
END:VEVENT
BEGIN:VEVENT
DTSTART;VALUE=DATE:20240503
DTEND;VALUE=DATE:20240504
DTSTAMP:20260419T125552
CREATED:20240313T132928Z
LAST-MODIFIED:20240313T132928Z
UID:20103-1714694400-1714780799@finance.utoronto.ca
SUMMARY:First ERDD for Fiscal 2025
DESCRIPTION:First ERDD’s to be processed for Fiscal 2025
URL:https://finance.utoronto.ca/event/first-erdd-for-fiscal-2025/
CATEGORIES:Dates and Deadlines
END:VEVENT
BEGIN:VEVENT
DTSTART;TZID=America/Toronto:20240507T100000
DTEND;TZID=America/Toronto:20240507T120000
DTSTAMP:20260419T125552
CREATED:20240306T153216Z
LAST-MODIFIED:20240306T153216Z
UID:20016-1715076000-1715083200@finance.utoronto.ca
SUMMARY:Reconciling and Reviewing Month End Statements
DESCRIPTION:Location: Virtual Training Session\nDuration: 2 hours\nFormat: Lecture + Demonstration. \nMaterial \nThe university policy requires that all departments reconcile their actual transaction with their Statement of Accounts on a monthly basis. This ensures that all transactions are completely/accurately recorded in FIS. This course walks you through the university’s month-end reconciliation policy\, guidelines and management reports. \nTopics include: \n\nUniversity month-end reconciliation policy\nStep-by-step walk-through of the monthly reconciliation process\nMonth-end reconciliation reports (e.g.\, Statement of Accounts\, Payroll Distribution Report)\n\nPrior to attending this course\, it is highly recommended that you complete the following Standard Curriculum courses: \n\nFIS Overview\nBasic Funds Management (FM) Reporting\nBasic Controlling (CO) Reporting\n\n\nClick Here to REGISTER
URL:https://finance.utoronto.ca/event/reconciling-and-reviewing-month-end-statements-17/
LOCATION:Virtual Session – Adobe Connect
CATEGORIES:Courses,Reporting,Training,Workshops
ORGANIZER;CN="Rames Paramsothy":MAILTO:rames.paramsothy@utoronto.ca
END:VEVENT
BEGIN:VEVENT
DTSTART;TZID=America/Toronto:20240529T120000
DTEND;TZID=America/Toronto:20240529T130000
DTSTAMP:20260419T125552
CREATED:20240430T193455Z
LAST-MODIFIED:20240502T150940Z
UID:20292-1716984000-1716987600@finance.utoronto.ca
SUMMARY:Lunch & Learn - May 2024 - Exploring the University's Tax Treatment and Tax Codes on Expenses and Revenues
DESCRIPTION:The FAST team hosts a series of short (30 – 45 minute) virtual presentations on topics of interest for financial administrators at all levels. \nAll sessions will be recorded and presented by FAST\, and often in collaboration with other units. \nThere is no registration required. \nThis month’s session will be held on Wednesday\, May 29th (12pm – 1pm) via MS Teams\, and will be presented by the F.A.S.T Team. \nTopic: Exploring the University’s Tax Treatment and Tax Codes on Expenses and Revenues \nTopics include: \n\nWhat is the University’s tax status and rebate as a Broader Public Sector organization\nGTFM policy governing HST\nThe University’s tax codes\nAssessing scenarios and applying the most appropriate tax code\nTax codes and conference fees\nSituations that warrant self-assessing taxes\nWho to contact with tax treatment questions\n\nClick here to download and save the MS Teams invite\, or use this link to join on May 29th. \nHave any ideas for topics we could address? Take a few minutes to COMPLETE THIS SURVEY to submit your ideas for future topics. \nIf you have any questions please contact rames.paramsothy@utoronto.ca.
URL:https://finance.utoronto.ca/event/lunch-learn-may-2024/
LOCATION:MS Teams
CATEGORIES:Courses,FAST Lunch and Learn,Information Sessions,Training
ORGANIZER;CN="Rames Paramsothy":MAILTO:rames.paramsothy@utoronto.ca
END:VEVENT
BEGIN:VEVENT
DTSTART;TZID=America/Toronto:20240530T093000
DTEND;TZID=America/Toronto:20240530T130000
DTSTAMP:20260419T125552
CREATED:20240423T204904Z
LAST-MODIFIED:20240423T204904Z
UID:20241-1717061400-1717074000@finance.utoronto.ca
SUMMARY:FIS Overview (Course 1)
DESCRIPTION:Location: Virtual Training Session\nDuration: 3.5 hours\nFormat: Lecture + Demonstrations\n\n\n\n\nCourse Material \nThis course provides a basic understanding of how Financial Information Systems (FIS) is used to facilitate administrative financial management while introducing common terms and concepts used in FIS. This is the prerequisite for all new FIS users. \nTopics include:\n\nIntroduction to common terms and concepts used in FIS\nUnderstanding the big picture of Funds Management and Controlling within the FIS system\nOverview of types of master data in Funds Management and Controlling\nOverview of Funds Management and Controlling hierarchies including Commitment Items\, Cost Elements\, Funds Centers\, Cost Centers and Internal Orders.\n\n  \n\nClick here to REGISTER
URL:https://finance.utoronto.ca/event/fis-overview-course-1-17/
LOCATION:Virtual Session – Adobe Connect
CATEGORIES:Courses,Standard Curriculum,Training
END:VEVENT
END:VCALENDAR