BEGIN:VCALENDAR
VERSION:2.0
PRODID:-//Financial Services - ECPv6.15.20//NONSGML v1.0//EN
CALSCALE:GREGORIAN
METHOD:PUBLISH
X-WR-CALNAME:Financial Services
X-ORIGINAL-URL:https://finance.utoronto.ca
X-WR-CALDESC:Events for Financial Services
REFRESH-INTERVAL;VALUE=DURATION:PT1H
X-Robots-Tag:noindex
X-PUBLISHED-TTL:PT1H
BEGIN:VTIMEZONE
TZID:America/Toronto
BEGIN:DAYLIGHT
TZOFFSETFROM:-0500
TZOFFSETTO:-0400
TZNAME:EDT
DTSTART:20230312T070000
END:DAYLIGHT
BEGIN:STANDARD
TZOFFSETFROM:-0400
TZOFFSETTO:-0500
TZNAME:EST
DTSTART:20231105T060000
END:STANDARD
BEGIN:DAYLIGHT
TZOFFSETFROM:-0500
TZOFFSETTO:-0400
TZNAME:EDT
DTSTART:20240310T070000
END:DAYLIGHT
BEGIN:STANDARD
TZOFFSETFROM:-0400
TZOFFSETTO:-0500
TZNAME:EST
DTSTART:20241103T060000
END:STANDARD
BEGIN:DAYLIGHT
TZOFFSETFROM:-0500
TZOFFSETTO:-0400
TZNAME:EDT
DTSTART:20250309T070000
END:DAYLIGHT
BEGIN:STANDARD
TZOFFSETFROM:-0400
TZOFFSETTO:-0500
TZNAME:EST
DTSTART:20251102T060000
END:STANDARD
BEGIN:DAYLIGHT
TZOFFSETFROM:-0500
TZOFFSETTO:-0400
TZNAME:EDT
DTSTART:20260308T070000
END:DAYLIGHT
BEGIN:STANDARD
TZOFFSETFROM:-0400
TZOFFSETTO:-0500
TZNAME:EST
DTSTART:20261101T060000
END:STANDARD
END:VTIMEZONE
BEGIN:VEVENT
DTSTART;VALUE=DATE:20241202
DTEND;VALUE=DATE:20241203
DTSTAMP:20260419T142403
CREATED:20241122T150840Z
LAST-MODIFIED:20241122T150840Z
UID:21399-1733097600-1733183999@finance.utoronto.ca
SUMMARY:Final T4A-NR payment by wire 2024
DESCRIPTION:Final T4A-NR payment by wire 2024
URL:https://finance.utoronto.ca/event/final-t4a-nr-payment-by-wire-2024/
CATEGORIES:Dates and Deadlines
END:VEVENT
BEGIN:VEVENT
DTSTART;TZID=America/Toronto:20241203T100000
DTEND;TZID=America/Toronto:20241203T123000
DTSTAMP:20260419T142403
CREATED:20240830T192837Z
LAST-MODIFIED:20240830T193711Z
UID:20719-1733220000-1733229000@finance.utoronto.ca
SUMMARY:Basic Funds Management Reporting (Course 8)
DESCRIPTION:Location: Virtual Training Session\nDuration: 2.5 hours\nFormat: Lecture + Demonstrations\nCourse Material \nThis course is designed for new Financial Information Systems (FIS) users\, and provides an overview of Funds Management (FM) reports. \nTopics include:\n\nThe purpose of Funds Management (FM) reporting\nCommon FM reports and their features\nDetermining the right FM reports for your needs\nFeatures common FM reports\n\nThe FIS Overview is a pre-requisite for this course. \n\nClick Here to REGISTER
URL:https://finance.utoronto.ca/event/basic-funds-management-reporting-course-8-19/
LOCATION:Virtual Session – Adobe Connect
CATEGORIES:Standard Curriculum,Training
END:VEVENT
BEGIN:VEVENT
DTSTART;VALUE=DATE:20241204
DTEND;VALUE=DATE:20241205
DTSTAMP:20260419T142403
CREATED:20241122T150951Z
LAST-MODIFIED:20241122T150951Z
UID:21401-1733270400-1733356799@finance.utoronto.ca
SUMMARY:Final cheque/draft payment for Honorarium 2024
DESCRIPTION:Final cheque/draft payment for Honorarium 2024
URL:https://finance.utoronto.ca/event/final-cheque-draft-payment-for-honorarium-2024/
CATEGORIES:Dates and Deadlines
END:VEVENT
BEGIN:VEVENT
DTSTART;VALUE=DATE:20241205
DTEND;VALUE=DATE:20241206
DTSTAMP:20260419T142403
CREATED:20241002T161721Z
LAST-MODIFIED:20241002T162018Z
UID:20817-1733356800-1733443199@finance.utoronto.ca
SUMMARY:First Financial Forecast Due
DESCRIPTION:First Financial Forecast Due
URL:https://finance.utoronto.ca/event/first-forecast-due/
CATEGORIES:Dates and Deadlines
END:VEVENT
BEGIN:VEVENT
DTSTART;TZID=America/Toronto:20241205T100000
DTEND;TZID=America/Toronto:20241205T123000
DTSTAMP:20260419T142403
CREATED:20240830T194049Z
LAST-MODIFIED:20240830T194049Z
UID:20721-1733392800-1733401800@finance.utoronto.ca
SUMMARY:Basic Controlling Reporting (Course 9)
DESCRIPTION:Location: Virtual Training Session\nDuration: 2 hours\nFormat: Lecture + Demonstrations\nCourse Material \nThis course is designed for new and experienced Financial Information Systems (FIS) users and provides an overview of some commonly used Controlling reports. Specifically\, the course introduces commonly used Controlling (CO) reports\, the characteristics and functions of each report\, and how to interpret each reports’ output data. \nTopics include:\n\nCommon Controlling (CO) reports and their features\nIdentifying the budget a financial transaction was posted to\nComparing plan to actual financial activity\nIdentifying outstanding Commitments against Cost Centers / Internal Orders\n\nPrior to attending this course it is required that you attend the FIS Overview. \n\nClick Here to REGISTER
URL:https://finance.utoronto.ca/event/basic-controlling-reporting-course-9-19/
LOCATION:Virtual Session – Adobe Connect
CATEGORIES:Standard Curriculum,Training
END:VEVENT
BEGIN:VEVENT
DTSTART;TZID=America/Toronto:20241206T120000
DTEND;TZID=America/Toronto:20241206T130000
DTSTAMP:20260419T142403
CREATED:20241129T200734Z
LAST-MODIFIED:20241129T202250Z
UID:21444-1733486400-1733490000@finance.utoronto.ca
SUMMARY:Lunch & Learn - Clarifying the GTFM policy on One-Up Approver for Employee Expense Reimbursements
DESCRIPTION:  \nThe FAST team hosts a series of short (30 – 45 minute) virtual presentations on topics of interest for financial administrators at all levels. \nAll sessions will be recorded and presented by FAST\, and often in collaboration with other units. There is no registration required. \nThis session will be held on Friday\, December 6th (12pm – 1pm) via MS Teams\, and will be presented by the F.A.S.T Team. \nTopic: Clarifying the GTFM policy on one-up approver for employee expense reimbursements \nThis short presentation will explore the recent amendment to the GTFM – Travel & Other Reimbursable Expenses policy\, clarifying the expense reimbursement approval process for cross-appointed\, and administrative academic appointments\, as well as other related topics. \nClick here to download and save the MS Teams invite. \nHave any ideas for topics we could cover? Take a few minutes to COMPLETE THIS SURVEY to submit your ideas for future topics. \nIf you have any questions\, please contact rames.paramsothy@utoronto.ca. \n 
URL:https://finance.utoronto.ca/event/lunch-learn-clarifying-the-gtfm-policy-on-one-up-approver-for-employee-expense-reimbursements/
LOCATION:MS Teams
CATEGORIES:Courses,FAST Lunch and Learn,Information Sessions,Training,Workshops
END:VEVENT
BEGIN:VEVENT
DTSTART;VALUE=DATE:20241216
DTEND;VALUE=DATE:20241217
DTSTAMP:20260419T142403
CREATED:20241122T150649Z
LAST-MODIFIED:20241122T150649Z
UID:21396-1734307200-1734393599@finance.utoronto.ca
SUMMARY:Final Wire payments 2024
DESCRIPTION:Final Wire payments 2024
URL:https://finance.utoronto.ca/event/final-wire-payments-2024/
CATEGORIES:Dates and Deadlines
END:VEVENT
BEGIN:VEVENT
DTSTART;TZID=America/Toronto:20241217T120000
DTEND;TZID=America/Toronto:20241217T130000
DTSTAMP:20260419T142403
CREATED:20241129T190456Z
LAST-MODIFIED:20241129T195958Z
UID:21435-1734436800-1734440400@finance.utoronto.ca
SUMMARY:Lunch & Learn – 2024 – A Year in Review of Financial Initiatives
DESCRIPTION:  \nThe FAST team hosts a series of short (30 – 45 minute) virtual presentations on topics of interest for financial administrators at all levels. \nAll sessions will be recorded and presented by FAST\, and often in collaboration with other units. There is no registration required. \nThis month’s session will be held on Tuesday\, December 17th (12pm – 1pm) via MS Teams\, and will be presented by the F.A.S.T Team. \nTopic: 2024 – A Year in Review of the University’s Financial Initiatives  \nWith 2024 coming to a close\, this session will revisit the many improvements\, changes and financial modernization initiatives that have impacted financial administrators at the University. \nClick here to download and save the MS Teams invite. \nHave any ideas for topics we could cover? Take a few minutes to COMPLETE THIS SURVEY to submit your ideas for future topics. \nIf you have any questions\, please contact rames.paramsothy@utoronto.ca.
URL:https://finance.utoronto.ca/event/lunch-learn-2024-a-year-in-review-of-financial-initiatives/
LOCATION:MS Teams
CATEGORIES:FAST Lunch and Learn,Information Sessions,Training,Workshops
ORGANIZER;CN="Rames Paramsothy":MAILTO:rames.paramsothy@utoronto.ca
END:VEVENT
BEGIN:VEVENT
DTSTART;VALUE=DATE:20241218
DTEND;VALUE=DATE:20241219
DTSTAMP:20260419T142403
CREATED:20241122T150235Z
LAST-MODIFIED:20241122T150307Z
UID:21390-1734480000-1734566399@finance.utoronto.ca
SUMMARY:Final Cheque/Draft run for 2024
DESCRIPTION:Final Cheque/Draft Run for 2024
URL:https://finance.utoronto.ca/event/final-cheque-draft-run-for-2024/
CATEGORIES:Dates and Deadlines
END:VEVENT
BEGIN:VEVENT
DTSTART;VALUE=DATE:20241219
DTEND;VALUE=DATE:20241220
DTSTAMP:20260419T142403
CREATED:20241122T150412Z
LAST-MODIFIED:20241122T150412Z
UID:21392-1734566400-1734652799@finance.utoronto.ca
SUMMARY:Final EFT Payment run 2024
DESCRIPTION:Final EFT Payment Run 2024
URL:https://finance.utoronto.ca/event/final-eft-payment-run-2024/
CATEGORIES:Dates and Deadlines
END:VEVENT
BEGIN:VEVENT
DTSTART;VALUE=DATE:20241220
DTEND;VALUE=DATE:20241221
DTSTAMP:20260419T142403
CREATED:20241122T150518Z
LAST-MODIFIED:20241122T150518Z
UID:21394-1734652800-1734739199@finance.utoronto.ca
SUMMARY:Final ERDD 2024
DESCRIPTION:Final ERDD 2024
URL:https://finance.utoronto.ca/event/final-erdd-2024/
CATEGORIES:Dates and Deadlines
END:VEVENT
BEGIN:VEVENT
DTSTART;VALUE=DATE:20241224
DTEND;VALUE=DATE:20250104
DTSTAMP:20260419T142403
CREATED:20241209T184309Z
LAST-MODIFIED:20241209T184309Z
UID:21486-1734998400-1735948799@finance.utoronto.ca
SUMMARY:Holiday Office Closure
DESCRIPTION:
URL:https://finance.utoronto.ca/event/holiday-office-closure/
CATEGORIES:Dates and Deadlines
END:VEVENT
END:VCALENDAR