BEGIN:VCALENDAR
VERSION:2.0
PRODID:-//Financial Services - ECPv6.15.20//NONSGML v1.0//EN
CALSCALE:GREGORIAN
METHOD:PUBLISH
X-WR-CALNAME:Financial Services
X-ORIGINAL-URL:https://finance.utoronto.ca
X-WR-CALDESC:Events for Financial Services
REFRESH-INTERVAL;VALUE=DURATION:PT1H
X-Robots-Tag:noindex
X-PUBLISHED-TTL:PT1H
BEGIN:VTIMEZONE
TZID:America/Toronto
BEGIN:DAYLIGHT
TZOFFSETFROM:-0500
TZOFFSETTO:-0400
TZNAME:EDT
DTSTART:20240310T070000
END:DAYLIGHT
BEGIN:STANDARD
TZOFFSETFROM:-0400
TZOFFSETTO:-0500
TZNAME:EST
DTSTART:20241103T060000
END:STANDARD
BEGIN:DAYLIGHT
TZOFFSETFROM:-0500
TZOFFSETTO:-0400
TZNAME:EDT
DTSTART:20250309T070000
END:DAYLIGHT
BEGIN:STANDARD
TZOFFSETFROM:-0400
TZOFFSETTO:-0500
TZNAME:EST
DTSTART:20251102T060000
END:STANDARD
BEGIN:DAYLIGHT
TZOFFSETFROM:-0500
TZOFFSETTO:-0400
TZNAME:EDT
DTSTART:20260308T070000
END:DAYLIGHT
BEGIN:STANDARD
TZOFFSETFROM:-0400
TZOFFSETTO:-0500
TZNAME:EST
DTSTART:20261101T060000
END:STANDARD
END:VTIMEZONE
BEGIN:VEVENT
DTSTART;TZID=America/Toronto:20250313T100000
DTEND;TZID=America/Toronto:20250313T120000
DTSTAMP:20260419T172835
CREATED:20250224T201737Z
LAST-MODIFIED:20250224T201737Z
UID:21871-1741860000-1741867200@finance.utoronto.ca
SUMMARY:Updating CO Plans for Operating Budgets
DESCRIPTION:Location: Virtual Training Session\nDuration: 2 hours\nFormat: Lecture\, Demonstration + Hands-on Practice Activity \nWorkshop Material \nControlling (CO) plans enable you track actual spending as compared to planned spending for a particular Fund Center. Once they are created and loaded into the corresponding operating budget\, they are often updated throughout the fiscal year. \nThis workshop guides you through the importance of updating CO Plans\, how to update plans and useful troubleshooting tips to help you along the way. \nTopics include: \n\nWhy it’s important to update CO plans throughout the year\nUsing a Linking Table to load Original budget\nHow to enter or update CO plans in FIS\nUnderstanding the Budget to Plans Reconciliation Report\n\nPrior to attending this course\, it is highly recommended that you complete the following FIS Standard Curriculum course: \n\nFIS Overview\nBasic Controlling (CO) Reporting\n\nPrior to attending this course\, it is highly recommended that you complete the FIS Standard Curriculum. \n\nREGISTER 
URL:https://finance.utoronto.ca/event/updating-co-plans-for-operating-budgets-18/
LOCATION:Virtual Session – Adobe Connect
CATEGORIES:Information Sessions
ORGANIZER;CN="Rames Paramsothy":MAILTO:rames.paramsothy@utoronto.ca
END:VEVENT
BEGIN:VEVENT
DTSTART;TZID=America/Toronto:20250313T100000
DTEND;TZID=America/Toronto:20250313T120000
DTSTAMP:20260419T172835
CREATED:20250225T222335Z
LAST-MODIFIED:20250225T222335Z
UID:21887-1741860000-1741867200@finance.utoronto.ca
SUMMARY:Updating CO Plans for Operating Budgets
DESCRIPTION:Location: Virtual Training Session\nDuration: 2 hours\nFormat: Lecture\, Demonstration + Hands-on Practice Activity \nWorkshop Material \nControlling (CO) plans enable you track actual spending as compared to planned spending for a particular Fund Center. Once they are created and loaded into the corresponding operating budget\, they are often updated throughout the fiscal year. \nThis workshop guides you through the importance of updating CO Plans\, how to update plans and useful troubleshooting tips to help you along the way. \nTopics include: \n\nWhy it’s important to update CO plans throughout the year\nUsing a Linking Table to load Original budget\nHow to enter or update CO plans in FIS\nUnderstanding the Budget to Plans Reconciliation Report\n\nPrior to attending this course\, it is highly recommended that you complete the following FIS Standard Curriculum course: \n\nFIS Overview\nBasic Controlling (CO) Reporting\n\nPrior to attending this course\, it is highly recommended that you complete the FIS Standard Curriculum. \n\nREGISTER 
URL:https://finance.utoronto.ca/event/updating-co-plans-for-operating-budgets-20/
LOCATION:Virtual Session – Adobe Connect
CATEGORIES:Information Sessions,Training,Workshops
ORGANIZER;CN="Rames Paramsothy":MAILTO:rames.paramsothy@utoronto.ca
END:VEVENT
BEGIN:VEVENT
DTSTART;VALUE=DATE:20250319
DTEND;VALUE=DATE:20250320
DTSTAMP:20260419T172835
CREATED:20250303T154204Z
LAST-MODIFIED:20250303T154204Z
UID:21943-1742342400-1742428799@finance.utoronto.ca
SUMMARY:GR/IR Deadline to A/P
DESCRIPTION:GR/IR Deadline to A/P
URL:https://finance.utoronto.ca/event/gr-ir-deadline-to-a-p/
CATEGORIES:Dates and Deadlines
END:VEVENT
BEGIN:VEVENT
DTSTART;TZID=America/Toronto:20250319T100000
DTEND;TZID=America/Toronto:20250319T120000
DTSTAMP:20260419T172835
CREATED:20250224T202000Z
LAST-MODIFIED:20250224T214429Z
UID:21874-1742378400-1742385600@finance.utoronto.ca
SUMMARY:Updating CO Plans for Operating Budgets
DESCRIPTION:Location: Virtual Training Session\nDuration: 2 hours\nFormat: Lecture\, Demonstration + Hands-on Practice Activity \nWorkshop Material \nControlling (CO) plans enable you track actual spending as compared to planned spending for a particular Fund Center. Once they are created and loaded into the corresponding operating budget\, they are often updated throughout the fiscal year. \nThis workshop guides you through the importance of updating CO Plans\, how to update plans and useful troubleshooting tips to help you along the way. \nTopics include: \n\nWhy it’s important to update CO plans throughout the year\nUsing a Linking Table to load Original budget\nHow to enter or update CO plans in FIS\nUnderstanding the Budget to Plans Reconciliation Report\n\nPrior to attending this course\, it is highly recommended that you complete the following FIS Standard Curriculum course: \n\nFIS Overview\nBasic Controlling (CO) Reporting\n\nPrior to attending this course\, it is highly recommended that you complete the FIS Standard Curriculum. \n\nREGISTER 
URL:https://finance.utoronto.ca/event/updating-co-plans-for-operating-budgets-19/
LOCATION:Virtual Session – Adobe Connect
ORGANIZER;CN="Rames Paramsothy":MAILTO:rames.paramsothy@utoronto.ca
END:VEVENT
BEGIN:VEVENT
DTSTART;TZID=America/Toronto:20250319T100000
DTEND;TZID=America/Toronto:20250319T120000
DTSTAMP:20260419T172835
CREATED:20250225T222643Z
LAST-MODIFIED:20250225T222643Z
UID:21890-1742378400-1742385600@finance.utoronto.ca
SUMMARY:Updating CO Plans for Operating Budgets
DESCRIPTION:Location: Virtual Training Session\nDuration: 2 hours\nFormat: Lecture\, Demonstration + Hands-on Practice Activity \nWorkshop Material \nControlling (CO) plans enable you track actual spending as compared to planned spending for a particular Fund Center. Once they are created and loaded into the corresponding operating budget\, they are often updated throughout the fiscal year. \nThis workshop guides you through the importance of updating CO Plans\, how to update plans and useful troubleshooting tips to help you along the way. \nTopics include: \n\nWhy it’s important to update CO plans throughout the year\nUsing a Linking Table to load Original budget\nHow to enter or update CO plans in FIS\nUnderstanding the Budget to Plans Reconciliation Report\n\nPrior to attending this course\, it is highly recommended that you complete the following FIS Standard Curriculum course: \n\nFIS Overview\nBasic Controlling (CO) Reporting\n\nPrior to attending this course\, it is highly recommended that you complete the FIS Standard Curriculum. \n\nREGISTER 
URL:https://finance.utoronto.ca/event/updating-co-plans-for-operating-budgets-21/
LOCATION:Virtual Session – Adobe Connect
CATEGORIES:Training,Workshops
ORGANIZER;CN="Rames Paramsothy":MAILTO:rames.paramsothy@utoronto.ca
END:VEVENT
BEGIN:VEVENT
DTSTART;TZID=America/Toronto:20250325T100000
DTEND;TZID=America/Toronto:20250325T120000
DTSTAMP:20260419T172835
CREATED:20250225T222917Z
LAST-MODIFIED:20250225T222917Z
UID:21893-1742896800-1742904000@finance.utoronto.ca
SUMMARY:Updating CO Plans for Operating Budgets
DESCRIPTION:Location: Virtual Training Session\nDuration: 2 hours\nFormat: Lecture\, Demonstration + Hands-on Practice Activity \nWorkshop Material \nControlling (CO) plans enable you track actual spending as compared to planned spending for a particular Fund Center. Once they are created and loaded into the corresponding operating budget\, they are often updated throughout the fiscal year. \nThis workshop guides you through the importance of updating CO Plans\, how to update plans and useful troubleshooting tips to help you along the way. \nTopics include: \n\nWhy it’s important to update CO plans throughout the year\nUsing a Linking Table to load Original budget\nHow to enter or update CO plans in FIS\nUnderstanding the Budget to Plans Reconciliation Report\n\nPrior to attending this course\, it is highly recommended that you complete the following FIS Standard Curriculum course: \n\nFIS Overview\nBasic Controlling (CO) Reporting\n\nPrior to attending this course\, it is highly recommended that you complete the FIS Standard Curriculum. \n\nREGISTER 
URL:https://finance.utoronto.ca/event/updating-co-plans-for-operating-budgets-22/
LOCATION:Virtual Session – Adobe Connect
CATEGORIES:Training,Workshops
ORGANIZER;CN="Rames Paramsothy":MAILTO:rames.paramsothy@utoronto.ca
END:VEVENT
BEGIN:VEVENT
DTSTART;TZID=America/Toronto:20250327T100000
DTEND;TZID=America/Toronto:20250327T130000
DTSTAMP:20260419T172835
CREATED:20250224T192642Z
LAST-MODIFIED:20250224T192642Z
UID:21840-1743069600-1743080400@finance.utoronto.ca
SUMMARY:FIS Overview (Course 1)
DESCRIPTION:Location: Virtual Training Session\nDuration: 3.5 hours\nFormat: Lecture + Demonstrations\n\n\n\n\nCourse Material \nThis course provides a basic understanding of how Financial Information Systems (FIS) is used to facilitate administrative financial management while introducing common terms and concepts used in FIS. This is the prerequisite for all new FIS users. \nTopics include:\n\nIntroduction to common terms and concepts used in FIS\nUnderstanding the big picture of Funds Management and Controlling within the FIS system\nOverview of types of master data in Funds Management and Controlling\nOverview of Funds Management and Controlling hierarchies including Commitment Items\, Cost Elements\, Funds Centers\, Cost Centers and Internal Orders.\n\n  \n\nClick here to REGISTER
URL:https://finance.utoronto.ca/event/fis-overview-course-1-21/
LOCATION:Virtual Session – Adobe Connect
CATEGORIES:Courses,Standard Curriculum,Training
END:VEVENT
END:VCALENDAR